PDS_VERSION_ID = PDS3
/* FILE DATA ELEMENTS */
RECORD_TYPE = UNDEFINED
/* POINTERS TO DATA OBJECTS */
^IMAGE = ("H5421_0000_ND4.TIF")
/* IDENTIFICATION DATA ELEMENTS */
DATA_SET_ID = "MEX-M-HRSC-4-REFDR-MAPPROJECT-EXT2-V4.0"
DATA_SET_NAME = "MARS EXPRESS HRSC MAP PROJECTED REFDR EXTENSION2 V4.0"
DETECTOR_ID = MEX_HRSC_NADIR
EVENT_TYPE = "MARS-REGIONAL-MAPPING-Te-Im-Pf"
INSTRUMENT_HOST_ID = MEX
INSTRUMENT_HOST_NAME = "MARS EXPRESS"
INSTRUMENT_ID = HRSC
INSTRUMENT_NAME = "HIGH RESOLUTION STEREO CAMERA"
MISSION_NAME = "MARS EXPRESS"
MISSION_PHASE_NAME = ME_Phase_11
PROCESSING_LEVEL_ID = 4
PRODUCT_CREATION_TIME = 2023-02-02T05:41:08.000Z
PRODUCT_ID = "H5421_0000_ND4.TIF"
RELEASE_ID = 0002
REVISION_ID = 0000
/* QUALITY DATA ELEMENTS */
DATA_QUALITY_ID = 1
DATA_QUALITY_DESC = "Data calculated based on original SPICE kernels"
/* TIME DATA ELEMENTS */
SPACECRAFT_CLOCK_START_COUNT = "1/0154271722.09067"
SPACECRAFT_CLOCK_STOP_COUNT = "1/0154271928.17786"
START_TIME = 2008-03-22T13:15:59.526Z
STOP_TIME = 2008-03-22T13:18:18.517Z
/* ORBITAL DATA ELEMENTS */
ASCENDING_NODE_LONGITUDE = 115.46
MAXIMUM_RESOLUTION = 0.014
FOOTPRINT_POINT_LATITUDE = (63.1708,63.1513,63.1199,63.0876, 63.0636,63.0623,63.0611,62.7049,62.3484 ,61.9916,61.6345,61.2771,60.8301, 60.4721,60.114,59.7556,59.397,59.2177, 59.0383,58.8588,58.6793,58.4998,58.3202 ,58.1406,57.9609,57.7812,57.6015, 57.4218,57.242,57.0622,56.8824,56.7025, 56.5226,56.3427,56.1628,55.9828,55.8029 ,55.6229,55.4429,55.2629,55.0829, 54.9028,54.7228,54.5427,54.3627,54.1826 ,54.0926,54.0862,54.0991,54.1163, 54.1278,54.1435,54.1531,54.1535,54.154, 54.4251,54.6058,54.7866,54.9673,55.148, 55.3288,55.5095,55.6902,55.871,56.142, 56.3227,56.5034,56.6841,56.8648,57.0454 ,57.2261,57.4067,57.5873,57.7679, 57.9485,58.129,58.3096,58.4901,58.6705, 58.851,59.0314,59.2118,59.3921,59.5724, 59.7527,59.933,60.1131,60.2933,60.4734, 60.7435,61.0135,61.1935,61.4634,61.6432 ,62.0028,62.3621,62.7212,63.0801, 63.1697,63.1708)
FOOTPRINT_POINT_LONGITUDE = (86.8174,86.233,85.4145,84.6809,84.185, 84.1589,84.096,84.1874,84.276,84.3617, 84.4447,84.5252,84.6225,84.6972,84.7698 ,84.8402,84.9084,84.9418,84.9745, 85.0068,85.0386,85.0699,85.1008,85.1311 ,85.1609,85.1904,85.2194,85.2479, 85.2761,85.3037,85.331,85.3579,85.3844, 85.4105,85.4361,85.4614,85.4863,85.5108 ,85.5347,85.5584,85.5816,85.6047, 85.6272,85.6496,85.6715,85.6932,85.7037 ,85.7045,86.0316,86.5035,86.8536, 87.3918,87.7661,87.787,87.7972,87.7783, 87.7656,87.7529,87.7399,87.7266,87.7132 ,87.6997,87.686,87.672,87.6508,87.6364, 87.6219,87.6073,87.5924,87.5771,87.5618 ,87.5462,87.5304,87.5146,87.4988, 87.4826,87.4661,87.4492,87.432,87.4149, 87.3974,87.3799,87.3619,87.3437,87.3252 ,87.3064,87.2864,87.2676,87.2471,87.217 ,87.187,87.1665,87.1361,87.1146,87.0707 ,87.0259,86.9797,86.9322,86.9201, 86.8174)
ORBIT_NUMBER = 5421
ORBITAL_ECCENTRICITY = 0.57
ORBITAL_INCLINATION = 86.76
ORBITAL_SEMIMAJOR_AXIS = 8668.33
PERIAPSIS_ALTITUDE = 347.1
PERIAPSIS_ARGUMENT_ANGLE = 124.6
PERIAPSIS_TIME = 2008-03-22T13:18:00.000Z
SPACECRAFT_ORIENTATION = (0.0,-1.0,0.0)
^MEX_ORIENTATION_DESC = "MEX_ORIENTATION_DESC.TXT"
SPACECRAFT_POINTING_MODE = ACROSSTRACK
^MEX_POINTING_DESC = "MEX_POINTING_DESC.TXT"
RIGHT_ASCENSION = -1e+32
DECLINATION = -1e+32
OFFSET_ANGLE = 0.2
SPACECRAFT_SOLAR_DISTANCE = 2.47266e+08
TARGET_NAME = MARS
/* CAMERA DATA ELEMENTS */
DETECTOR_TEMPERATURE = 18.1666
FOCAL_PLANE_TEMPERATURE = 8.1755
INST_CMPRS_NAME = "DISCRETE COSINE TRANSFORMATION (DCT)"
INST_CMPRS_RATIO = 7.12567
INST_CMPRS_QUALITY = 0
INST_CMPRS_QUANTZ_TBL_ID = 0
INSTRUMENT_TEMPERATURE = 11.0301
LENS_TEMPERATURE = 8.5833
MACROPIXEL_SIZE = 1
MISSING_FRAMES = 0
PIXEL_SUBSAMPLING_FLAG = N
SIGNAL_CHAIN_ID = 0
/* RADIOMETRIC DATA ELEMENTS */
BANDWIDTH = 177.0
CENTER_FILTER_WAVELENGTH = 677.5
RADIANCE_OFFSET = 2.03061
RADIANCE_SCALING_FACTOR = 0.0123566
REFLECTANCE_SCALING_FACTOR = 0.000401338
MEX:REFLECTANCE_OFFSET = 0.0659532
/* IMAGE OBJECT DEFINITIONS */
OBJECT = IMAGE
  INTERCHANGE_FORMAT = BINARY
  LINES = 43102
  LINE_SAMPLES = 9081
  SAMPLE_TYPE = UNSIGNED_INTEGER
  SAMPLE_BITS = 8
  BANDS = 1
  BAND_STORAGE_TYPE = BAND_SEQUENTIAL
  MAXIMUM = 254
  MEAN = 114.411
  MINIMUM = 1
  STANDARD_DEVIATION = 32.9921
END_OBJECT = IMAGE
/* MAP OBJECT DEFINITIONS */
OBJECT = IMAGE_MAP_PROJECTION
  ^DATA_SET_MAP_PROJECTION_CATALOG= "DSMAP.CAT"
  A_AXIS_RADIUS = 3396.0
  B_AXIS_RADIUS = 3396.0
  C_AXIS_RADIUS = 3396.0
  CENTER_LATITUDE = 0.0
  CENTER_LONGITUDE = 86.0
  COORDINATE_SYSTEM_NAME = PLANETOGRAPHIC
  COORDINATE_SYSTEM_TYPE = "BODY-FIXED ROTATING"
  EASTERNMOST_LONGITUDE = 87.7972
  FIRST_STANDARD_PARALLEL = "N/A"
  LINE_FIRST_PIXEL = 1
  LINE_LAST_PIXEL = 43102
  LINE_PROJECTION_OFFSET = 299562.0
  MAP_PROJECTION_ROTATION = 0.0
  MAP_PROJECTION_TYPE = SINUSOIDAL
  MAP_RESOLUTION = 4741.71043093333
  MAP_SCALE = 0.0125
  MAXIMUM_LATITUDE = 63.1708
  MINIMUM_LATITUDE = 54.0862
  POSITIVE_LONGITUDE_DIRECTION = EAST
  REFERENCE_LATITUDE = "N/A"
  REFERENCE_LONGITUDE = "N/A"
  SAMPLE_FIRST_PIXEL = 1
  SAMPLE_LAST_PIXEL = 9081
  SAMPLE_PROJECTION_OFFSET = 4090.0
  SECOND_STANDARD_PARALLEL = "N/A"
  WESTERNMOST_LONGITUDE = 84.096
END_OBJECT = IMAGE_MAP_PROJECTION
END
