PDS_VERSION_ID = PDS3
/* FILE DATA ELEMENTS */
RECORD_TYPE = UNDEFINED
/* POINTERS TO DATA OBJECTS */
^IMAGE = ("H5419_0000_P14.TIF")
/* IDENTIFICATION DATA ELEMENTS */
DATA_SET_ID = "MEX-M-HRSC-4-REFDR-MAPPROJECT-EXT2-V4.0"
DATA_SET_NAME = "MARS EXPRESS HRSC MAP PROJECTED REFDR EXTENSION2 V4.0"
DETECTOR_ID = MEX_HRSC_P1
EVENT_TYPE = "MARS-REGIONAL-MAPPING-Te-Im-Pf"
INSTRUMENT_HOST_ID = MEX
INSTRUMENT_HOST_NAME = "MARS EXPRESS"
INSTRUMENT_ID = HRSC
INSTRUMENT_NAME = "HIGH RESOLUTION STEREO CAMERA"
MISSION_NAME = "MARS EXPRESS"
MISSION_PHASE_NAME = ME_Phase_11
PROCESSING_LEVEL_ID = 4
PRODUCT_CREATION_TIME = 2023-02-02T05:41:08.000Z
PRODUCT_ID = "H5419_0000_P14.TIF"
RELEASE_ID = 0002
REVISION_ID = 0000
/* QUALITY DATA ELEMENTS */
DATA_QUALITY_ID = 1
DATA_QUALITY_DESC = "Data calculated based on original SPICE kernels"
/* TIME DATA ELEMENTS */
SPACECRAFT_CLOCK_START_COUNT = "1/0154222399.08392"
SPACECRAFT_CLOCK_STOP_COUNT = "1/0154222658.48162"
START_TIME = 2008-03-21T23:33:35.515Z
STOP_TIME = 2008-03-21T23:36:48.394Z
/* ORBITAL DATA ELEMENTS */
ASCENDING_NODE_LONGITUDE = 115.51
MAXIMUM_RESOLUTION = 0.0288
FOOTPRINT_POINT_LATITUDE = (66.8824,66.8425,66.7779,66.7261, 66.7242,66.6371,66.3684,66.0992,65.8297 ,65.5597,65.2897,64.8831,64.4756,64.067 ,63.7945,63.5215,63.2481,62.9755, 62.5159,62.0552,61.5936,61.2468,60.8994 ,60.5516,60.3196,60.0873,59.7384,59.389 ,59.1559,58.8058,58.5722,58.2213, 57.8701,57.6357,57.2839,57.0491,56.6966 ,56.4615,56.2263,55.9905,55.7548,55.519 ,55.1653,54.9294,54.5748,54.4566, 54.4489,54.4868,54.5017,54.5259,54.5264 ,54.527,54.7644,55.0017,55.2388,55.5945 ,55.8313,56.1865,56.423,56.7777,57.0139 ,57.2499,57.4859,57.7216,57.9573, 58.1927,58.4281,58.6633,58.8984,59.1333 ,59.3679,59.7196,59.9538,60.1879, 60.4218,60.6555,60.889,61.1222,61.4719, 61.7048,61.9374,62.1699,62.4022,62.6342 ,63.0977,63.3712,63.647,63.9226,64.198, 64.4727,64.7473,65.0214,65.2954,65.5689 ,65.8422,66.1149,66.3874,66.6594, 66.7951,66.8824)
FOOTPRINT_POINT_LONGITUDE = (285.813,284.825,283.492,282.576, 282.544,282.47,282.576,282.679,282.78, 282.879,282.975,283.115,283.249,283.379 ,283.463,283.545,283.625,283.703, 283.829,283.951,284.068,284.153,284.235 ,284.315,284.367,284.418,284.493, 284.566,284.613,284.682,284.727,284.793 ,284.857,284.899,284.96,284.999,285.057 ,285.095,285.133,285.169,285.204, 285.239,285.291,285.324,285.373,285.389 ,285.39,286.288,286.697,287.475,287.496 ,287.503,287.484,287.465,287.446, 287.417,287.396,287.366,287.345,287.313 ,287.291,287.269,287.247,287.224, 287.201,287.177,287.153,287.129,287.104 ,287.079,287.053,287.014,286.987,286.96 ,286.932,286.904,286.876,286.846, 286.802,286.771,286.74,286.709,286.677, 286.644,286.577,286.536,286.494,286.45, 286.406,286.361,286.315,286.268,286.219 ,286.17,286.119,286.067,286.014,285.96, 285.933,285.813)
ORBIT_NUMBER = 5419
ORBITAL_ECCENTRICITY = 0.569
ORBITAL_INCLINATION = 86.74
ORBITAL_SEMIMAJOR_AXIS = 8665.41
PERIAPSIS_ALTITUDE = 347.77
PERIAPSIS_ARGUMENT_ANGLE = 124.98
PERIAPSIS_TIME = 2008-03-21T23:37:02.000Z
SPACECRAFT_ORIENTATION = (0.0,-1.0,0.0)
^MEX_ORIENTATION_DESC = "MEX_ORIENTATION_DESC.TXT"
SPACECRAFT_POINTING_MODE = NADIR
^MEX_POINTING_DESC = "MEX_POINTING_DESC.TXT"
RIGHT_ASCENSION = -1e+32
DECLINATION = -1e+32
OFFSET_ANGLE = -1e+32
SPACECRAFT_SOLAR_DISTANCE = 2.47222e+08
TARGET_NAME = MARS
/* CAMERA DATA ELEMENTS */
DETECTOR_TEMPERATURE = 16.9432
FOCAL_PLANE_TEMPERATURE = 7.7677
INST_CMPRS_NAME = "DISCRETE COSINE TRANSFORMATION (DCT)"
INST_CMPRS_RATIO = 18.0184
INST_CMPRS_QUALITY = 0
INST_CMPRS_QUANTZ_TBL_ID = 0
INSTRUMENT_TEMPERATURE = 11.234
LENS_TEMPERATURE = 8.5833
MACROPIXEL_SIZE = 2
MISSING_FRAMES = 0
PIXEL_SUBSAMPLING_FLAG = N
SIGNAL_CHAIN_ID = 3
/* RADIOMETRIC DATA ELEMENTS */
BANDWIDTH = 174.0
CENTER_FILTER_WAVELENGTH = 675.0
RADIANCE_OFFSET = 2.66757
RADIANCE_SCALING_FACTOR = 0.0155965
REFLECTANCE_SCALING_FACTOR = 0.000512728
MEX:REFLECTANCE_OFFSET = 0.0876953
/* IMAGE OBJECT DEFINITIONS */
OBJECT = IMAGE
  INTERCHANGE_FORMAT = BINARY
  LINES = 29287
  LINE_SAMPLES = 5354
  SAMPLE_TYPE = UNSIGNED_INTEGER
  SAMPLE_BITS = 8
  BANDS = 1
  BAND_STORAGE_TYPE = BAND_SEQUENTIAL
  MAXIMUM = 255
  MEAN = 135.437
  MINIMUM = 1
  STANDARD_DEVIATION = 45.5746
END_OBJECT = IMAGE
/* MAP OBJECT DEFINITIONS */
OBJECT = IMAGE_MAP_PROJECTION
  ^DATA_SET_MAP_PROJECTION_CATALOG= "DSMAP.CAT"
  A_AXIS_RADIUS = 3396.0
  B_AXIS_RADIUS = 3396.0
  C_AXIS_RADIUS = 3396.0
  CENTER_LATITUDE = 0.0
  CENTER_LONGITUDE = 286.0
  COORDINATE_SYSTEM_NAME = PLANETOGRAPHIC
  COORDINATE_SYSTEM_TYPE = "BODY-FIXED ROTATING"
  EASTERNMOST_LONGITUDE = 287.503
  FIRST_STANDARD_PARALLEL = "N/A"
  LINE_FIRST_PIXEL = 1
  LINE_LAST_PIXEL = 29287
  LINE_PROJECTION_OFFSET = 158411.75
  MAP_PROJECTION_ROTATION = 0.0
  MAP_PROJECTION_TYPE = SINUSOIDAL
  MAP_RESOLUTION = 2370.85521546667
  MAP_SCALE = 0.025
  MAXIMUM_LATITUDE = 66.8824
  MINIMUM_LATITUDE = 54.4489
  POSITIVE_LONGITUDE_DIRECTION = EAST
  REFERENCE_LATITUDE = "N/A"
  REFERENCE_LONGITUDE = "N/A"
  SAMPLE_FIRST_PIXEL = 1
  SAMPLE_LAST_PIXEL = 5354
  SAMPLE_PROJECTION_OFFSET = 3295.25
  SECOND_STANDARD_PARALLEL = "N/A"
  WESTERNMOST_LONGITUDE = 282.47
END_OBJECT = IMAGE_MAP_PROJECTION
END
