PDS_VERSION_ID = PDS3
/* FILE DATA ELEMENTS */
RECORD_TYPE = UNDEFINED
/* POINTERS TO DATA OBJECTS */
^IMAGE = ("H5411_0000_GR4.TIF")
/* IDENTIFICATION DATA ELEMENTS */
DATA_SET_ID = "MEX-M-HRSC-4-REFDR-MAPPROJECT-EXT2-V4.0"
DATA_SET_NAME = "MARS EXPRESS HRSC MAP PROJECTED REFDR EXTENSION2 V4.0"
DETECTOR_ID = MEX_HRSC_GREEN
EVENT_TYPE = "MARS-REGIONAL-MAPPING-Te-Im-Pf"
INSTRUMENT_HOST_ID = MEX
INSTRUMENT_HOST_NAME = "MARS EXPRESS"
INSTRUMENT_ID = HRSC
INSTRUMENT_NAME = "HIGH RESOLUTION STEREO CAMERA"
MISSION_NAME = "MARS EXPRESS"
MISSION_PHASE_NAME = ME_Phase_11
PROCESSING_LEVEL_ID = 4
PRODUCT_CREATION_TIME = 2023-02-02T05:41:08.000Z
PRODUCT_ID = "H5411_0000_GR4.TIF"
RELEASE_ID = 0002
REVISION_ID = 0000
/* QUALITY DATA ELEMENTS */
DATA_QUALITY_ID = 1
DATA_QUALITY_DESC = "Data calculated based on original SPICE kernels"
/* TIME DATA ELEMENTS */
SPACECRAFT_CLOCK_START_COUNT = "1/0154025358.09039"
SPACECRAFT_CLOCK_STOP_COUNT = "1/0154025608.17552"
START_TIME = 2008-03-19T16:49:51.853Z
STOP_TIME = 2008-03-19T16:52:53.316Z
/* ORBITAL DATA ELEMENTS */
ASCENDING_NODE_LONGITUDE = 115.67
MAXIMUM_RESOLUTION = 0.0561
FOOTPRINT_POINT_LATITUDE = (64.9778,64.9494,64.926,64.8814,64.8446 ,64.8431,64.8179,64.5534,64.2885, 64.0234,63.758,63.4923,63.2264,62.9602, 62.7107,62.2637,61.816,61.2554,60.8063, 60.3566,59.9063,59.4555,59.2299,59.0042 ,58.7783,58.5523,58.3263,58.1001, 57.8738,57.6474,57.4209,57.1944,56.9677 ,56.7409,56.514,56.2871,55.9465,55.7193 ,55.4921,55.2648,55.0375,54.8101, 54.5826,54.355,54.1275,53.8998,53.6721, 53.3305,53.2166,53.1943,53.2139,53.2354 ,53.2522,53.2638,53.2643,53.2653,53.494 ,53.7226,53.9512,54.1798,54.4084, 54.6369,54.8653,55.0937,55.3221,55.5504 ,55.8928,56.235,56.4632,56.6911,56.9191 ,57.147,57.3748,57.7163,57.944,58.1715, 58.3989,58.74,58.9672,59.1944,59.4214, 59.6484,59.8752,60.1019,60.3285,60.555, 61.0077,61.4601,61.9117,62.3629,62.8135 ,63.1952,63.4636,63.7318,63.9997, 64.2675,64.535,64.8022,64.9358,64.9778)
FOOTPRINT_POINT_LONGITUDE = (6.6981,5.94969,5.39616,4.45881,3.77043 ,3.74292,3.65522,3.74273,3.82749, 3.91065,3.9919,4.07111,4.14854,4.22435, 4.29345,4.41359,4.52922,4.66727,4.77345 ,4.8754,4.97344,5.06795,5.11393,5.15897 ,5.20324,5.24652,5.28908,5.33084, 5.37183,5.41209,5.45175,5.49052,5.52857 ,5.56595,5.60257,5.63856,5.69111, 5.72552,5.75924,5.79225,5.82482,5.85668 ,5.88791,5.9186,5.94878,5.97836,6.00733 ,6.04983,6.0637,6.06639,6.54066,7.12998 ,7.66328,8.0824,8.10148,8.10778,8.09133 ,8.07461,8.05772,8.0404,8.0227,8.00508, 7.98709,7.96882,7.9502,7.93134,7.90231, 7.87298,7.85267,7.83244,7.81171,7.79059 ,7.7692,7.73642,7.71402,7.69128,7.66833 ,7.63296,7.60885,7.58437,7.55943, 7.53418,7.50844,7.48229,7.45587,7.42881 ,7.37329,7.31517,7.25599,7.19441, 7.13072,7.07476,7.03424,6.99302,6.95075 ,6.90734,6.86315,6.81821,6.79516, 6.6981)
ORBIT_NUMBER = 5411
ORBITAL_ECCENTRICITY = 0.57
ORBITAL_INCLINATION = 86.74
ORBITAL_SEMIMAJOR_AXIS = 8666.8
PERIAPSIS_ALTITUDE = 347.28
PERIAPSIS_ARGUMENT_ANGLE = 126.36
PERIAPSIS_TIME = 2008-03-19T16:52:54.000Z
SPACECRAFT_ORIENTATION = (0.0,-1.0,0.0)
^MEX_ORIENTATION_DESC = "MEX_ORIENTATION_DESC.TXT"
SPACECRAFT_POINTING_MODE = NADIR
^MEX_POINTING_DESC = "MEX_POINTING_DESC.TXT"
RIGHT_ASCENSION = -1e+32
DECLINATION = -1e+32
OFFSET_ANGLE = -1e+32
SPACECRAFT_SOLAR_DISTANCE = 2.47046e+08
TARGET_NAME = MARS
/* CAMERA DATA ELEMENTS */
DETECTOR_TEMPERATURE = 18.1666
FOCAL_PLANE_TEMPERATURE = 8.1755
INST_CMPRS_NAME = "DISCRETE COSINE TRANSFORMATION (DCT)"
INST_CMPRS_RATIO = 24.157
INST_CMPRS_QUALITY = 0
INST_CMPRS_QUANTZ_TBL_ID = 0
INSTRUMENT_TEMPERATURE = 11.234
LENS_TEMPERATURE = 8.5833
MACROPIXEL_SIZE = 4
MISSING_FRAMES = 0
PIXEL_SUBSAMPLING_FLAG = N
SIGNAL_CHAIN_ID = 2
/* RADIOMETRIC DATA ELEMENTS */
BANDWIDTH = 88.0
CENTER_FILTER_WAVELENGTH = 538.0
RADIANCE_OFFSET = 1.09846
RADIANCE_SCALING_FACTOR = 0.0149743
REFLECTANCE_SCALING_FACTOR = 0.000786846
MEX:REFLECTANCE_OFFSET = 0.05772
/* IMAGE OBJECT DEFINITIONS */
OBJECT = IMAGE
  INTERCHANGE_FORMAT = BINARY
  LINES = 13961
  LINE_SAMPLES = 2684
  SAMPLE_TYPE = UNSIGNED_INTEGER
  SAMPLE_BITS = 8
  BANDS = 1
  BAND_STORAGE_TYPE = BAND_SEQUENTIAL
  MAXIMUM = 255
  MEAN = 50.1271
  MINIMUM = 1
  STANDARD_DEVIATION = 8.22957
END_OBJECT = IMAGE
/* MAP OBJECT DEFINITIONS */
OBJECT = IMAGE_MAP_PROJECTION
  ^DATA_SET_MAP_PROJECTION_CATALOG= "DSMAP.CAT"
  A_AXIS_RADIUS = 3396.0
  B_AXIS_RADIUS = 3396.0
  C_AXIS_RADIUS = 3396.0
  CENTER_LATITUDE = 0.0
  CENTER_LONGITUDE = 6.0
  COORDINATE_SYSTEM_NAME = PLANETOGRAPHIC
  COORDINATE_SYSTEM_TYPE = "BODY-FIXED ROTATING"
  EASTERNMOST_LONGITUDE = 8.10778
  FIRST_STANDARD_PARALLEL = "N/A"
  LINE_FIRST_PIXEL = 1
  LINE_LAST_PIXEL = 13961
  LINE_PROJECTION_OFFSET = 77017.875
  MAP_PROJECTION_ROTATION = 0.0
  MAP_PROJECTION_TYPE = SINUSOIDAL
  MAP_RESOLUTION = 1185.42760773333
  MAP_SCALE = 0.05
  MAXIMUM_LATITUDE = 64.9778
  MINIMUM_LATITUDE = 53.1943
  POSITIVE_LONGITUDE_DIRECTION = EAST
  REFERENCE_LATITUDE = "N/A"
  REFERENCE_LONGITUDE = "N/A"
  SAMPLE_FIRST_PIXEL = 1
  SAMPLE_LAST_PIXEL = 2684
  SAMPLE_PROJECTION_OFFSET = 1188.125
  SECOND_STANDARD_PARALLEL = "N/A"
  WESTERNMOST_LONGITUDE = 3.65522
END_OBJECT = IMAGE_MAP_PROJECTION
END
