PDS_VERSION_ID = PDS3
/* FILE DATA ELEMENTS */
RECORD_TYPE = UNDEFINED
/* POINTERS TO DATA OBJECTS */
^IMAGE = ("H5411_0000_BL4.TIF")
/* IDENTIFICATION DATA ELEMENTS */
DATA_SET_ID = "MEX-M-HRSC-4-REFDR-MAPPROJECT-EXT2-V4.0"
DATA_SET_NAME = "MARS EXPRESS HRSC MAP PROJECTED REFDR EXTENSION2 V4.0"
DETECTOR_ID = MEX_HRSC_BLUE
EVENT_TYPE = "MARS-REGIONAL-MAPPING-Te-Im-Pf"
INSTRUMENT_HOST_ID = MEX
INSTRUMENT_HOST_NAME = "MARS EXPRESS"
INSTRUMENT_ID = HRSC
INSTRUMENT_NAME = "HIGH RESOLUTION STEREO CAMERA"
MISSION_NAME = "MARS EXPRESS"
MISSION_PHASE_NAME = ME_Phase_11
PROCESSING_LEVEL_ID = 4
PRODUCT_CREATION_TIME = 2023-02-02T05:41:08.000Z
PRODUCT_ID = "H5411_0000_BL4.TIF"
RELEASE_ID = 0002
REVISION_ID = 0000
/* QUALITY DATA ELEMENTS */
DATA_QUALITY_ID = 1
DATA_QUALITY_DESC = "Data calculated based on original SPICE kernels"
/* TIME DATA ELEMENTS */
SPACECRAFT_CLOCK_START_COUNT = "1/0154025358.09039"
SPACECRAFT_CLOCK_STOP_COUNT = "1/0154025608.17552"
START_TIME = 2008-03-19T16:50:03.598Z
STOP_TIME = 2008-03-19T16:53:03.898Z
/* ORBITAL DATA ELEMENTS */
ASCENDING_NODE_LONGITUDE = 115.67
MAXIMUM_RESOLUTION = 0.0562
FOOTPRINT_POINT_LATITUDE = (64.9376,64.89,64.8069,64.8054,64.8225, 64.5547,64.2868,64.0187,63.7503,63.2649 ,62.9268,62.4756,62.024,61.5718,61.1193 ,60.8929,60.6663,60.3264,60.0996, 59.8727,59.5323,59.3053,59.0782,58.851, 58.6237,58.3964,58.169,57.9416,57.6003, 57.3727,57.1451,56.9174,56.6897,56.462, 56.2342,56.0065,55.7786,55.5508,55.3229 ,55.095,54.7531,54.4113,54.1833,53.8414 ,53.6135,53.3856,53.2716,53.2014, 53.2234,53.2448,53.2596,53.27,53.2705, 53.2715,53.5003,53.7291,53.958,54.1868, 54.5301,54.7589,54.9879,55.3312,55.5601 ,55.7889,56.0179,56.2468,56.4755, 56.7045,56.9333,57.1621,57.5052,57.8484 ,58.077,58.3058,58.5343,58.763,58.9915, 59.22,59.5626,59.791,60.0193,60.3617, 60.5899,60.818,61.16,61.3878,61.6155, 61.8435,62.0712,62.4126,62.6402,62.8676 ,63.0949,63.5492,63.9339,64.2046, 64.4751,64.7456,64.8808,64.9376)
FOOTPRINT_POINT_LONGITUDE = (6.69223,5.48794,3.79915,3.77199, 3.67157,3.7596,3.84471,3.92817,4.0098, 4.15201,4.24768,4.37046,4.48846,4.60191 ,4.71085,4.76387,4.81575,4.89176, 4.94107,4.98976,5.06066,5.10695,5.15218 ,5.19678,5.24034,5.28302,5.32498, 5.36617,5.42654,5.46586,5.5044,5.5423, 5.57935,5.61569,5.65143,5.68634,5.72067 ,5.75448,5.78753,5.82001,5.86765, 5.91384,5.94396,5.98807,6.01673,6.04487 ,6.05875,6.0672,6.61732,7.22586,7.70197 ,8.08295,8.10202,8.10831,8.09166, 8.07472,8.05762,8.04008,8.01336,7.9952, 7.97682,7.94865,7.9295,7.90976,7.89029, 7.87028,7.84965,7.82909,7.80801,7.78656 ,7.75357,7.72011,7.69711,7.67399, 7.65015,7.62617,7.60161,7.57666,7.53841 ,7.51242,7.48594,7.44557,7.41799, 7.38977,7.34671,7.31693,7.28647,7.25656 ,7.22552,7.17811,7.14579,7.11292, 7.07919,7.00993,6.94934,6.90522,6.85997 ,6.81421,6.79097,6.69223)
ORBIT_NUMBER = 5411
ORBITAL_ECCENTRICITY = 0.57
ORBITAL_INCLINATION = 86.74
ORBITAL_SEMIMAJOR_AXIS = 8666.8
PERIAPSIS_ALTITUDE = 347.28
PERIAPSIS_ARGUMENT_ANGLE = 126.36
PERIAPSIS_TIME = 2008-03-19T16:52:54.000Z
SPACECRAFT_ORIENTATION = (0.0,-1.0,0.0)
^MEX_ORIENTATION_DESC = "MEX_ORIENTATION_DESC.TXT"
SPACECRAFT_POINTING_MODE = NADIR
^MEX_POINTING_DESC = "MEX_POINTING_DESC.TXT"
RIGHT_ASCENSION = -1e+32
DECLINATION = -1e+32
OFFSET_ANGLE = -1e+32
SPACECRAFT_SOLAR_DISTANCE = 2.47046e+08
TARGET_NAME = MARS
/* CAMERA DATA ELEMENTS */
DETECTOR_TEMPERATURE = 18.1666
FOCAL_PLANE_TEMPERATURE = 8.1755
INST_CMPRS_NAME = "DISCRETE COSINE TRANSFORMATION (DCT)"
INST_CMPRS_RATIO = 12.0844
INST_CMPRS_QUALITY = 0
INST_CMPRS_QUANTZ_TBL_ID = 0
INSTRUMENT_TEMPERATURE = 11.234
LENS_TEMPERATURE = 8.5833
MACROPIXEL_SIZE = 4
MISSING_FRAMES = 0
PIXEL_SUBSAMPLING_FLAG = N
SIGNAL_CHAIN_ID = 2
/* RADIOMETRIC DATA ELEMENTS */
BANDWIDTH = 76.0
CENTER_FILTER_WAVELENGTH = 444.0
RADIANCE_OFFSET = 0.536463
RADIANCE_SCALING_FACTOR = 0.00693008
REFLECTANCE_SCALING_FACTOR = 0.000434558
MEX:REFLECTANCE_OFFSET = 0.0336395
/* IMAGE OBJECT DEFINITIONS */
OBJECT = IMAGE
  INTERCHANGE_FORMAT = BINARY
  LINES = 13961
  LINE_SAMPLES = 2684
  SAMPLE_TYPE = UNSIGNED_INTEGER
  SAMPLE_BITS = 8
  BANDS = 1
  BAND_STORAGE_TYPE = BAND_SEQUENTIAL
  MAXIMUM = 255
  MEAN = 24.9182
  MINIMUM = 1
  STANDARD_DEVIATION = 8.12364
END_OBJECT = IMAGE
/* MAP OBJECT DEFINITIONS */
OBJECT = IMAGE_MAP_PROJECTION
  ^DATA_SET_MAP_PROJECTION_CATALOG= "DSMAP.CAT"
  A_AXIS_RADIUS = 3396.0
  B_AXIS_RADIUS = 3396.0
  C_AXIS_RADIUS = 3396.0
  CENTER_LATITUDE = 0.0
  CENTER_LONGITUDE = 6.0
  COORDINATE_SYSTEM_NAME = PLANETOGRAPHIC
  COORDINATE_SYSTEM_TYPE = "BODY-FIXED ROTATING"
  EASTERNMOST_LONGITUDE = 8.108309999999999
  FIRST_STANDARD_PARALLEL = "N/A"
  LINE_FIRST_PIXEL = 1
  LINE_LAST_PIXEL = 13961
  LINE_PROJECTION_OFFSET = 77017.875
  MAP_PROJECTION_ROTATION = 0.0
  MAP_PROJECTION_TYPE = SINUSOIDAL
  MAP_RESOLUTION = 1185.42760773333
  MAP_SCALE = 0.05
  MAXIMUM_LATITUDE = 64.9376
  MINIMUM_LATITUDE = 53.2014
  POSITIVE_LONGITUDE_DIRECTION = EAST
  REFERENCE_LATITUDE = "N/A"
  REFERENCE_LONGITUDE = "N/A"
  SAMPLE_FIRST_PIXEL = 1
  SAMPLE_LAST_PIXEL = 2684
  SAMPLE_PROJECTION_OFFSET = 1188.125
  SECOND_STANDARD_PARALLEL = "N/A"
  WESTERNMOST_LONGITUDE = 3.67157
END_OBJECT = IMAGE_MAP_PROJECTION
END
