PDS_VERSION_ID = PDS3
/* FILE DATA ELEMENTS */
RECORD_TYPE = UNDEFINED
/* POINTERS TO DATA OBJECTS */
^IMAGE = ("H5399_0000_GR4.TIF")
/* IDENTIFICATION DATA ELEMENTS */
DATA_SET_ID = "MEX-M-HRSC-4-REFDR-MAPPROJECT-EXT2-V4.0"
DATA_SET_NAME = "MARS EXPRESS HRSC MAP PROJECTED REFDR EXTENSION2 V4.0"
DETECTOR_ID = MEX_HRSC_GREEN
EVENT_TYPE = "MARS-REGIONAL-STEREO-Te-Im-Pf"
INSTRUMENT_HOST_ID = MEX
INSTRUMENT_HOST_NAME = "MARS EXPRESS"
INSTRUMENT_ID = HRSC
INSTRUMENT_NAME = "HIGH RESOLUTION STEREO CAMERA"
MISSION_NAME = "MARS EXPRESS"
MISSION_PHASE_NAME = ME_Phase_11
PROCESSING_LEVEL_ID = 4
PRODUCT_CREATION_TIME = 2023-02-02T05:41:08.000Z
PRODUCT_ID = "H5399_0000_GR4.TIF"
RELEASE_ID = 0002
REVISION_ID = 0000
/* QUALITY DATA ELEMENTS */
DATA_QUALITY_ID = 1
DATA_QUALITY_DESC = "Data calculated based on original SPICE kernels"
/* TIME DATA ELEMENTS */
SPACECRAFT_CLOCK_START_COUNT = "1/0153729824.08266"
SPACECRAFT_CLOCK_STOP_COUNT = "1/0153730107.31901"
START_TIME = 2008-03-16T06:44:16.681Z
STOP_TIME = 2008-03-16T06:47:52.103Z
/* ORBITAL DATA ELEMENTS */
ASCENDING_NODE_LONGITUDE = 115.91
MAXIMUM_RESOLUTION = 0.1118
FOOTPRINT_POINT_LATITUDE = (60.9238,60.8812,60.8455,60.8106, 60.8093,60.7842,60.2396,59.694,59.1474, 58.6,58.0516,57.5026,57.2278,56.9528, 56.6777,56.4023,56.1268,55.8511,55.5753 ,55.2994,55.0233,54.747,54.4706,54.1941 ,53.9175,53.6408,53.364,53.0871,52.8099 ,52.3941,52.1168,51.8395,51.5621, 51.2846,51.0071,50.7294,50.4518,50.174, 49.7574,49.3407,49.0629,48.7851,48.5071 ,48.2293,47.9515,47.6736,47.3957, 47.1178,46.9789,46.9069,46.9325,46.95, 46.9625,46.9629,46.9649,47.3829,47.6616 ,47.9403,48.219,48.4978,48.7765,49.0553 ,49.3341,49.7522,50.1703,50.5883,50.867 ,51.1456,51.4241,51.7026,51.9811, 52.2595,52.5379,52.8162,53.0944,53.3726 ,53.6506,53.9286,54.3455,54.6234,54.901 ,55.1785,55.4559,55.7332,56.0104, 56.2875,56.5644,56.8412,57.1179,57.3944 ,57.6708,57.947,58.2231,58.499,59.0503, 59.6008,60.1507,60.6997,60.8369, 60.9238)
FOOTPRINT_POINT_LONGITUDE = (127.65,126.595,125.844,125.183,125.16, 125.061,125.192,125.319,125.439,125.555 ,125.665,125.771,125.822,125.872, 125.921,125.969,126.015,126.061,126.106 ,126.15,126.193,126.235,126.276,126.316 ,126.355,126.394,126.431,126.468, 126.504,126.556,126.59,126.623,126.656, 126.687,126.718,126.749,126.779,126.808 ,126.85,126.891,126.917,126.943,126.968 ,126.993,127.018,127.041,127.064, 127.087,127.098,127.103,127.808,128.377 ,128.86,128.877,128.888,128.866,128.851 ,128.835,128.82,128.804,128.788,128.771 ,128.754,128.728,128.702,128.675, 128.657,128.638,128.619,128.6,128.58, 128.56,128.539,128.518,128.497,128.476, 128.454,128.431,128.397,128.373,128.349 ,128.325,128.301,128.275,128.25,128.224 ,128.197,128.17,128.142,128.114,128.085 ,128.056,128.026,127.995,127.932, 127.867,127.799,127.728,127.71,127.65)
ORBIT_NUMBER = 5399
ORBITAL_ECCENTRICITY = 0.57
ORBITAL_INCLINATION = 86.74
ORBITAL_SEMIMAJOR_AXIS = 8673.56
PERIAPSIS_ALTITUDE = 345.94
PERIAPSIS_ARGUMENT_ANGLE = 128.48
PERIAPSIS_TIME = 2008-03-16T06:46:48.000Z
SPACECRAFT_ORIENTATION = (0.0,-1.0,0.0)
^MEX_ORIENTATION_DESC = "MEX_ORIENTATION_DESC.TXT"
SPACECRAFT_POINTING_MODE = ACROSSTRACK
^MEX_POINTING_DESC = "MEX_POINTING_DESC.TXT"
RIGHT_ASCENSION = -1e+32
DECLINATION = -1e+32
OFFSET_ANGLE = -0.2
SPACECRAFT_SOLAR_DISTANCE = 2.46767e+08
TARGET_NAME = MARS
/* CAMERA DATA ELEMENTS */
DETECTOR_TEMPERATURE = 17.7588
FOCAL_PLANE_TEMPERATURE = 7.7677
INST_CMPRS_NAME = "DISCRETE COSINE TRANSFORMATION (DCT)"
INST_CMPRS_RATIO = 33.8143
INST_CMPRS_QUALITY = 0
INST_CMPRS_QUANTZ_TBL_ID = 0
INSTRUMENT_TEMPERATURE = 11.0301
LENS_TEMPERATURE = 8.5833
MACROPIXEL_SIZE = 8
MISSING_FRAMES = 0
PIXEL_SUBSAMPLING_FLAG = N
SIGNAL_CHAIN_ID = 2
/* RADIOMETRIC DATA ELEMENTS */
BANDWIDTH = 88.0
CENTER_FILTER_WAVELENGTH = 538.0
RADIANCE_OFFSET = 1.37983
RADIANCE_SCALING_FACTOR = 0.00327945
REFLECTANCE_SCALING_FACTOR = 0.000171936
MEX:REFLECTANCE_OFFSET = 0.0723419
/* IMAGE OBJECT DEFINITIONS */
OBJECT = IMAGE
  INTERCHANGE_FORMAT = BINARY
  LINES = 8296
  LINE_SAMPLES = 1334
  SAMPLE_TYPE = UNSIGNED_INTEGER
  SAMPLE_BITS = 8
  BANDS = 1
  BAND_STORAGE_TYPE = BAND_SEQUENTIAL
  MAXIMUM = 255
  MEAN = 115.767
  MINIMUM = 1
  STANDARD_DEVIATION = 54.4556
END_OBJECT = IMAGE
/* MAP OBJECT DEFINITIONS */
OBJECT = IMAGE_MAP_PROJECTION
  ^DATA_SET_MAP_PROJECTION_CATALOG= "DSMAP.CAT"
  A_AXIS_RADIUS = 3396.0
  B_AXIS_RADIUS = 3396.0
  C_AXIS_RADIUS = 3396.0
  CENTER_LATITUDE = 0.0
  CENTER_LONGITUDE = 127.0
  COORDINATE_SYSTEM_NAME = PLANETOGRAPHIC
  COORDINATE_SYSTEM_TYPE = "BODY-FIXED ROTATING"
  EASTERNMOST_LONGITUDE = 128.888
  FIRST_STANDARD_PARALLEL = "N/A"
  LINE_FIRST_PIXEL = 1
  LINE_LAST_PIXEL = 8296
  LINE_PROJECTION_OFFSET = 36100.9375
  MAP_PROJECTION_ROTATION = 0.0
  MAP_PROJECTION_TYPE = SINUSOIDAL
  MAP_RESOLUTION = 592.713803866667
  MAP_SCALE = 0.1
  MAXIMUM_LATITUDE = 60.9238
  MINIMUM_LATITUDE = 46.9069
  POSITIVE_LONGITUDE_DIRECTION = EAST
  REFERENCE_LATITUDE = "N/A"
  REFERENCE_LONGITUDE = "N/A"
  SAMPLE_FIRST_PIXEL = 1
  SAMPLE_LAST_PIXEL = 1334
  SAMPLE_PROJECTION_OFFSET = 568.6875
  SECOND_STANDARD_PARALLEL = "N/A"
  WESTERNMOST_LONGITUDE = 125.061
END_OBJECT = IMAGE_MAP_PROJECTION
END
