PDS_VERSION_ID = PDS3
/* FILE DATA ELEMENTS */
RECORD_TYPE = UNDEFINED
/* POINTERS TO DATA OBJECTS */
^IMAGE = ("H5395_0000_P14.TIF")
/* IDENTIFICATION DATA ELEMENTS */
DATA_SET_ID = "MEX-M-HRSC-4-REFDR-MAPPROJECT-EXT2-V4.0"
DATA_SET_NAME = "MARS EXPRESS HRSC MAP PROJECTED REFDR EXTENSION2 V4.0"
DETECTOR_ID = MEX_HRSC_P1
EVENT_TYPE = "MARS-REGIONAL-MAPPING-Te-Im-Pf"
INSTRUMENT_HOST_ID = MEX
INSTRUMENT_HOST_NAME = "MARS EXPRESS"
INSTRUMENT_ID = HRSC
INSTRUMENT_NAME = "HIGH RESOLUTION STEREO CAMERA"
MISSION_NAME = "MARS EXPRESS"
MISSION_PHASE_NAME = ME_Phase_11
PROCESSING_LEVEL_ID = 4
PRODUCT_CREATION_TIME = 2023-02-02T05:41:08.000Z
PRODUCT_ID = "H5395_0000_P14.TIF"
RELEASE_ID = 0002
REVISION_ID = 0000
/* QUALITY DATA ELEMENTS */
DATA_QUALITY_ID = 1
DATA_QUALITY_DESC = "Data calculated based on original SPICE kernels"
/* TIME DATA ELEMENTS */
SPACECRAFT_CLOCK_START_COUNT = "1/0153631248.08243"
SPACECRAFT_CLOCK_STOP_COUNT = "1/0153631522.14824"
START_TIME = 2008-03-15T03:21:04.791Z
STOP_TIME = 2008-03-15T03:24:32.163Z
/* ORBITAL DATA ELEMENTS */
ASCENDING_NODE_LONGITUDE = 115.98
MAXIMUM_RESOLUTION = 0.0287
FOOTPRINT_POINT_LATITUDE = (63.7364,63.6787,63.6289,63.5834, 63.5815,63.4958,63.2099,62.923,62.6355, 62.3478,62.0595,61.7707,61.4815,61.1917 ,60.9017,60.6109,60.3198,60.0285, 59.7366,59.4444,59.0169,58.5251,57.9089 ,57.4147,57.0444,56.7958,56.5474,56.175 ,55.6781,55.429,55.1797,54.93,54.6801, 54.3051,54.0546,53.679,53.4282,53.1771, 52.926,52.6745,52.2971,52.0455,51.7937, 51.4152,51.1629,50.7839,50.5313,50.4049 ,50.4024,50.4321,50.4606,50.481,50.4816 ,50.4823,50.7361,50.9897,51.2433, 51.6231,51.8762,52.1292,52.382,52.7613, 53.0135,53.2658,53.5181,53.77,54.0217, 54.2733,54.5247,54.7759,55.0269,55.2778 ,55.5286,55.7789,56.1542,56.404,56.7786 ,57.0281,57.2776,57.6507,58.1479,58.644 ,59.1392,59.4221,59.7168,60.0111,60.305 ,60.5986,60.8919,61.1847,61.4773, 61.7693,62.0609,62.3521,62.643,62.9332, 63.2231,63.5128,63.6573,63.7364)
FOOTPRINT_POINT_LONGITUDE = (167.516,166.255,165.338,164.591, 164.562,164.47,164.561,164.65,164.737, 164.822,164.904,164.985,165.064,165.141 ,165.216,165.289,165.361,165.431, 165.499,165.566,165.661,165.765,165.891 ,165.987,166.057,166.102,166.146, 166.211,166.295,166.336,166.376,166.415 ,166.453,166.509,166.546,166.599, 166.634,166.668,166.702,166.734,166.782 ,166.814,166.844,166.889,166.918, 166.961,166.989,167.002,167.003,167.62, 168.31,168.904,168.923,168.929,168.913, 168.897,168.88,168.855,168.838,168.82, 168.803,168.775,168.757,168.738,168.719 ,168.7,168.68,168.66,168.64,168.62, 168.599,168.577,168.556,168.534,168.5, 168.477,168.442,168.418,168.394,168.357 ,168.306,168.253,168.198,168.166, 168.131,168.097,168.061,168.024,167.987 ,167.949,167.91,167.87,167.83,167.788, 167.745,167.702,167.658,167.612,167.589 ,167.516)
ORBIT_NUMBER = 5395
ORBITAL_ECCENTRICITY = 0.57
ORBITAL_INCLINATION = 86.74
ORBITAL_SEMIMAJOR_AXIS = 8668.43
PERIAPSIS_ALTITUDE = 345.95
PERIAPSIS_ARGUMENT_ANGLE = 129.19
PERIAPSIS_TIME = 2008-03-15T03:24:49.000Z
SPACECRAFT_ORIENTATION = (0.0,-1.0,0.0)
^MEX_ORIENTATION_DESC = "MEX_ORIENTATION_DESC.TXT"
SPACECRAFT_POINTING_MODE = ACROSSTRACK
^MEX_POINTING_DESC = "MEX_POINTING_DESC.TXT"
RIGHT_ASCENSION = -1e+32
DECLINATION = -1e+32
OFFSET_ANGLE = -0.2
SPACECRAFT_SOLAR_DISTANCE = 2.46671e+08
TARGET_NAME = MARS
/* CAMERA DATA ELEMENTS */
DETECTOR_TEMPERATURE = 17.1471
FOCAL_PLANE_TEMPERATURE = 7.7677
INST_CMPRS_NAME = "DISCRETE COSINE TRANSFORMATION (DCT)"
INST_CMPRS_RATIO = 17.8897
INST_CMPRS_QUALITY = 0
INST_CMPRS_QUANTZ_TBL_ID = 0
INSTRUMENT_TEMPERATURE = 10.8262
LENS_TEMPERATURE = 8.5833
MACROPIXEL_SIZE = 2
MISSING_FRAMES = 0
PIXEL_SUBSAMPLING_FLAG = N
SIGNAL_CHAIN_ID = 3
/* RADIOMETRIC DATA ELEMENTS */
BANDWIDTH = 174.0
CENTER_FILTER_WAVELENGTH = 675.0
RADIANCE_OFFSET = 3.34659
RADIANCE_SCALING_FACTOR = 0.0144553
REFLECTANCE_SCALING_FACTOR = 0.000473093
MEX:REFLECTANCE_OFFSET = 0.109527
/* IMAGE OBJECT DEFINITIONS */
OBJECT = IMAGE
  INTERCHANGE_FORMAT = BINARY
  LINES = 31391
  LINE_SAMPLES = 5552
  SAMPLE_TYPE = UNSIGNED_INTEGER
  SAMPLE_BITS = 8
  BANDS = 1
  BAND_STORAGE_TYPE = BAND_SEQUENTIAL
  MAXIMUM = 255
  MEAN = 93.1755
  MINIMUM = 1
  STANDARD_DEVIATION = 52.6694
END_OBJECT = IMAGE
/* MAP OBJECT DEFINITIONS */
OBJECT = IMAGE_MAP_PROJECTION
  ^DATA_SET_MAP_PROJECTION_CATALOG= "DSMAP.CAT"
  A_AXIS_RADIUS = 3396.0
  B_AXIS_RADIUS = 3396.0
  C_AXIS_RADIUS = 3396.0
  CENTER_LATITUDE = 0.0
  CENTER_LONGITUDE = 167.0
  COORDINATE_SYSTEM_NAME = PLANETOGRAPHIC
  COORDINATE_SYSTEM_TYPE = "BODY-FIXED ROTATING"
  EASTERNMOST_LONGITUDE = 168.929
  FIRST_STANDARD_PARALLEL = "N/A"
  LINE_FIRST_PIXEL = 1
  LINE_LAST_PIXEL = 31391
  LINE_PROJECTION_OFFSET = 150932.75
  MAP_PROJECTION_ROTATION = 0.0
  MAP_PROJECTION_TYPE = SINUSOIDAL
  MAP_RESOLUTION = 2370.85521546667
  MAP_SCALE = 0.025
  MAXIMUM_LATITUDE = 63.7364
  MINIMUM_LATITUDE = 50.4024
  POSITIVE_LONGITUDE_DIRECTION = EAST
  REFERENCE_LATITUDE = "N/A"
  REFERENCE_LONGITUDE = "N/A"
  SAMPLE_FIRST_PIXEL = 1
  SAMPLE_LAST_PIXEL = 5552
  SAMPLE_PROJECTION_OFFSET = 2648.75
  SECOND_STANDARD_PARALLEL = "N/A"
  WESTERNMOST_LONGITUDE = 164.47
END_OBJECT = IMAGE_MAP_PROJECTION
END
