PDS_VERSION_ID = PDS3
/* FILE DATA ELEMENTS */
RECORD_TYPE = UNDEFINED
/* POINTERS TO DATA OBJECTS */
^IMAGE = ("H5391_0000_P14.TIF")
/* IDENTIFICATION DATA ELEMENTS */
DATA_SET_ID = "MEX-M-HRSC-4-REFDR-MAPPROJECT-EXT2-V4.0"
DATA_SET_NAME = "MARS EXPRESS HRSC MAP PROJECTED REFDR EXTENSION2 V4.0"
DETECTOR_ID = MEX_HRSC_P1
EVENT_TYPE = "MARS-REGIONAL-MAPPING-Te-Im-Pf"
INSTRUMENT_HOST_ID = MEX
INSTRUMENT_HOST_NAME = "MARS EXPRESS"
INSTRUMENT_ID = HRSC
INSTRUMENT_NAME = "HIGH RESOLUTION STEREO CAMERA"
MISSION_NAME = "MARS EXPRESS"
MISSION_PHASE_NAME = ME_Phase_11
PROCESSING_LEVEL_ID = 4
PRODUCT_CREATION_TIME = 2023-02-02T05:41:08.000Z
PRODUCT_ID = "H5391_0000_P14.TIF"
RELEASE_ID = 0002
REVISION_ID = 0000
/* QUALITY DATA ELEMENTS */
DATA_QUALITY_ID = 1
DATA_QUALITY_DESC = "Data calculated based on original SPICE kernels"
/* TIME DATA ELEMENTS */
SPACECRAFT_CLOCK_START_COUNT = "1/0153532711.08392"
SPACECRAFT_CLOCK_STOP_COUNT = "1/0153532987.08438"
START_TIME = 2008-03-13T23:58:47.907Z
STOP_TIME = 2008-03-14T00:02:17.543Z
/* ORBITAL DATA ELEMENTS */
ASCENDING_NODE_LONGITUDE = 116.07
MAXIMUM_RESOLUTION = 0.0286
FOOTPRINT_POINT_LATITUDE = (63.5105,63.4751,63.4413,63.4078, 63.4065,63.3265,63.0377,62.7485,62.4589 ,62.1683,61.8778,61.5864,61.2948, 61.0026,60.5637,60.1236,59.8296,59.5352 ,59.2404,58.9453,58.5238,58.0274, 57.6543,57.156,56.9065,56.6567,56.4066, 56.1561,55.9059,55.5294,55.2783,55.0269 ,54.7754,54.3978,54.1456,53.7636,53.511 ,53.2583,53.0053,52.6253,52.245,51.9914 ,51.7374,51.4833,51.229,50.9712,50.5893 ,50.2072,50.0797,50.0668,50.0844,50.096 ,50.1041,50.1043,50.1048,50.4884, 50.7438,50.9993,51.2581,51.5132,51.8956 ,52.1504,52.4049,52.6594,52.9135, 53.1677,53.4215,53.8019,54.1856,54.4386 ,54.8179,55.0705,55.3233,55.5755, 55.9537,56.2054,56.457,56.7083,56.9592, 57.3355,57.8363,58.211,58.7104,59.0072, 59.3043,59.6011,59.8973,60.1933,60.4888 ,60.7843,61.0787,61.3728,61.8135, 62.1067,62.3996,62.6921,62.9841,63.2757 ,63.4213,63.5105)
FOOTPRINT_POINT_LONGITUDE = (209.017,207.769,206.851,206.083, 206.055,206.022,206.1,206.177,206.251, 206.324,206.395,206.464,206.531,206.597 ,206.693,206.785,206.845,206.903,206.96 ,207.015,207.092,207.179,207.242, 207.323,207.362,207.4,207.438,207.475, 207.511,207.564,207.598,207.632,207.665 ,207.713,207.745,207.791,207.821,207.85 ,207.878,207.92,207.96,207.987,208.012, 208.037,208.062,208.087,208.122,208.156 ,208.167,208.168,208.846,209.438, 210.054,210.072,210.079,210.063,210.052 ,210.041,210.029,210.017,209.999, 209.987,209.975,209.962,209.95,209.937, 209.924,209.904,209.882,209.869,209.847 ,209.832,209.817,209.802,209.778, 209.763,209.746,209.73,209.713,209.688, 209.652,209.625,209.587,209.564,209.541 ,209.516,209.492,209.467,209.441, 209.414,209.388,209.36,209.318,209.289, 209.259,209.229,209.198,209.165,209.149 ,209.017)
ORBIT_NUMBER = 5391
ORBITAL_ECCENTRICITY = 0.57
ORBITAL_INCLINATION = 86.75
ORBITAL_SEMIMAJOR_AXIS = 8670.31
PERIAPSIS_ALTITUDE = 344.71
PERIAPSIS_ARGUMENT_ANGLE = 129.88
PERIAPSIS_TIME = 2008-03-14T00:02:39.000Z
SPACECRAFT_ORIENTATION = (0.0,-1.0,0.0)
^MEX_ORIENTATION_DESC = "MEX_ORIENTATION_DESC.TXT"
SPACECRAFT_POINTING_MODE = ACROSSTRACK
^MEX_POINTING_DESC = "MEX_POINTING_DESC.TXT"
RIGHT_ASCENSION = -1e+32
DECLINATION = -1e+32
OFFSET_ANGLE = 0.3
SPACECRAFT_SOLAR_DISTANCE = 2.46572e+08
TARGET_NAME = MARS
/* CAMERA DATA ELEMENTS */
DETECTOR_TEMPERATURE = 17.351
FOCAL_PLANE_TEMPERATURE = 7.9716
INST_CMPRS_NAME = "DISCRETE COSINE TRANSFORMATION (DCT)"
INST_CMPRS_RATIO = 15.476
INST_CMPRS_QUALITY = 0
INST_CMPRS_QUANTZ_TBL_ID = 0
INSTRUMENT_TEMPERATURE = 11.4379
LENS_TEMPERATURE = 8.3794
MACROPIXEL_SIZE = 2
PIXEL_SUBSAMPLING_FLAG = N
SIGNAL_CHAIN_ID = 3
/* RADIOMETRIC DATA ELEMENTS */
BANDWIDTH = 174.0
CENTER_FILTER_WAVELENGTH = 675.0
RADIANCE_OFFSET = 3.34659
RADIANCE_SCALING_FACTOR = 0.0174985
REFLECTANCE_SCALING_FACTOR = 0.000572233
MEX:REFLECTANCE_OFFSET = 0.10944
/* IMAGE OBJECT DEFINITIONS */
OBJECT = IMAGE
  INTERCHANGE_FORMAT = BINARY
  LINES = 31705
  LINE_SAMPLES = 4767
  SAMPLE_TYPE = UNSIGNED_INTEGER
  SAMPLE_BITS = 8
  BANDS = 1
  BAND_STORAGE_TYPE = BAND_SEQUENTIAL
  MAXIMUM = 255
  MEAN = 123.061
  MINIMUM = 1
  STANDARD_DEVIATION = 60.4759
END_OBJECT = IMAGE
/* MAP OBJECT DEFINITIONS */
OBJECT = IMAGE_MAP_PROJECTION
  ^DATA_SET_MAP_PROJECTION_CATALOG= "DSMAP.CAT"
  A_AXIS_RADIUS = 3396.0
  B_AXIS_RADIUS = 3396.0
  C_AXIS_RADIUS = 3396.0
  CENTER_LATITUDE = 0.0
  CENTER_LONGITUDE = 209.0
  COORDINATE_SYSTEM_NAME = PLANETOGRAPHIC
  COORDINATE_SYSTEM_TYPE = "BODY-FIXED ROTATING"
  EASTERNMOST_LONGITUDE = 210.079
  FIRST_STANDARD_PARALLEL = "N/A"
  LINE_FIRST_PIXEL = 1
  LINE_LAST_PIXEL = 31705
  LINE_PROJECTION_OFFSET = 150445.25
  MAP_PROJECTION_ROTATION = 0.0
  MAP_PROJECTION_TYPE = SINUSOIDAL
  MAP_RESOLUTION = 2370.85521546667
  MAP_SCALE = 0.025
  MAXIMUM_LATITUDE = 63.5105
  MINIMUM_LATITUDE = 50.0668
  POSITIVE_LONGITUDE_DIRECTION = EAST
  REFERENCE_LATITUDE = "N/A"
  REFERENCE_LONGITUDE = "N/A"
  SAMPLE_FIRST_PIXEL = 1
  SAMPLE_LAST_PIXEL = 4767
  SAMPLE_PROJECTION_OFFSET = 3139.75
  SECOND_STANDARD_PARALLEL = "N/A"
  WESTERNMOST_LONGITUDE = 206.022
END_OBJECT = IMAGE_MAP_PROJECTION
END
