PDS_VERSION_ID = PDS3
/* FILE DATA ELEMENTS */
RECORD_TYPE = UNDEFINED
/* POINTERS TO DATA OBJECTS */
^IMAGE = ("H5390_0000_S24.TIF")
/* IDENTIFICATION DATA ELEMENTS */
DATA_SET_ID = "MEX-M-HRSC-4-REFDR-MAPPROJECT-EXT2-V4.0"
DATA_SET_NAME = "MARS EXPRESS HRSC MAP PROJECTED REFDR EXTENSION2 V4.0"
DETECTOR_ID = MEX_HRSC_S2
EVENT_TYPE = "MARS-REGIONAL-MAPPING-Vo-Te-Pf"
INSTRUMENT_HOST_ID = MEX
INSTRUMENT_HOST_NAME = "MARS EXPRESS"
INSTRUMENT_ID = HRSC
INSTRUMENT_NAME = "HIGH RESOLUTION STEREO CAMERA"
MISSION_NAME = "MARS EXPRESS"
MISSION_PHASE_NAME = ME_Phase_11
PROCESSING_LEVEL_ID = 4
PRODUCT_CREATION_TIME = 2023-02-02T05:41:08.000Z
PRODUCT_ID = "H5390_0000_S24.TIF"
RELEASE_ID = 0002
REVISION_ID = 0000
/* QUALITY DATA ELEMENTS */
DATA_QUALITY_ID = 1
DATA_QUALITY_DESC = "Data calculated based on original SPICE kernels"
/* TIME DATA ELEMENTS */
SPACECRAFT_CLOCK_START_COUNT = "1/0153508128.08245"
SPACECRAFT_CLOCK_STOP_COUNT = "1/0153508394.41561"
START_TIME = 2008-03-13T17:10:00.135Z
STOP_TIME = 2008-03-13T17:13:16.371Z
/* ORBITAL DATA ELEMENTS */
ASCENDING_NODE_LONGITUDE = 116.09
MAXIMUM_RESOLUTION = 0.0298
FOOTPRINT_POINT_LATITUDE = (60.5235,60.5039,60.4714,60.4156, 60.4144,60.5329,60.1476,59.7626,59.377, 59.12,58.8629,58.6063,58.3495,58.0927, 57.8358,57.5791,57.3224,56.9373,56.6807 ,56.4242,56.1679,55.9114,55.5268, 55.1428,54.8866,54.6307,54.375,54.1192, 53.8635,53.6074,53.3517,52.9683,52.7132 ,52.3307,52.0758,51.8212,51.5663, 51.3123,51.058,50.804,50.5504,50.2963, 50.0428,49.7892,49.4093,49.1544,48.901, 48.5226,48.2704,47.8935,47.768,47.7383, 47.7578,47.7786,47.7917,47.8018,47.8023 ,47.8029,48.1816,48.5616,48.9412, 49.1948,49.4485,49.8296,50.2111,50.5927 ,50.8472,51.1021,51.357,51.6122,51.8677 ,52.1232,52.3791,52.7632,53.1473, 53.4038,53.6601,53.917,54.302,54.5591, 54.8161,55.2015,55.4588,55.8447,56.2309 ,56.4886,57.0042,57.3909,57.6488, 57.9069,58.2942,58.5524,58.8105,59.1975 ,59.5853,59.8438,60.2318,60.4903, 60.6194,60.5235)
FOOTPRINT_POINT_LONGITUDE = (309.225,308.714,307.941,306.769, 306.745,306.672,306.751,306.828,306.902 ,306.95,306.998,307.044,307.089,307.133 ,307.176,307.218,307.259,307.319, 307.358,307.397,307.434,307.47,307.524, 307.575,307.609,307.641,307.673,307.704 ,307.735,307.765,307.795,307.837, 307.865,307.905,307.932,307.957,307.982 ,308.007,308.031,308.054,308.077, 308.099,308.121,308.142,308.173,308.194 ,308.214,308.242,308.261,308.288, 308.296,308.298,308.812,309.384,309.779 ,310.122,310.141,310.147,310.131, 310.116,310.099,310.088,310.077,310.059 ,310.042,310.023,310.01,309.998,309.985 ,309.972,309.958,309.945,309.931,309.91 ,309.888,309.873,309.858,309.843,309.82 ,309.804,309.787,309.762,309.745, 309.718,309.691,309.672,309.634,309.605 ,309.584,309.564,309.532,309.51,309.488 ,309.454,309.419,309.395,309.358, 309.333,309.32,309.225)
ORBIT_NUMBER = 5390
ORBITAL_ECCENTRICITY = 0.57
ORBITAL_INCLINATION = 86.75
ORBITAL_SEMIMAJOR_AXIS = 8670.51
PERIAPSIS_ALTITUDE = 345.06
PERIAPSIS_ARGUMENT_ANGLE = 130.09
PERIAPSIS_TIME = 2008-03-13T17:12:13.000Z
SPACECRAFT_ORIENTATION = (0.0,-1.0,0.0)
^MEX_ORIENTATION_DESC = "MEX_ORIENTATION_DESC.TXT"
SPACECRAFT_POINTING_MODE = ACROSSTRACK
^MEX_POINTING_DESC = "MEX_POINTING_DESC.TXT"
RIGHT_ASCENSION = -1e+32
DECLINATION = -1e+32
OFFSET_ANGLE = 0.25
SPACECRAFT_SOLAR_DISTANCE = 2.46547e+08
TARGET_NAME = MARS
/* CAMERA DATA ELEMENTS */
DETECTOR_TEMPERATURE = 18.3705
FOCAL_PLANE_TEMPERATURE = 7.9716
INST_CMPRS_NAME = "DISCRETE COSINE TRANSFORMATION (DCT)"
INST_CMPRS_RATIO = 15.0472
INST_CMPRS_QUALITY = 0
INST_CMPRS_QUANTZ_TBL_ID = 0
INSTRUMENT_TEMPERATURE = 11.0301
LENS_TEMPERATURE = 8.3794
MACROPIXEL_SIZE = 2
MISSING_FRAMES = 0
PIXEL_SUBSAMPLING_FLAG = N
SIGNAL_CHAIN_ID = 1
/* RADIOMETRIC DATA ELEMENTS */
BANDWIDTH = 178.0
CENTER_FILTER_WAVELENGTH = 679.0
RADIANCE_OFFSET = 2.88696
RADIANCE_SCALING_FACTOR = 0.0196777
REFLECTANCE_SCALING_FACTOR = 0.00063344
MEX:REFLECTANCE_OFFSET = 0.0929334
/* IMAGE OBJECT DEFINITIONS */
OBJECT = IMAGE
  INTERCHANGE_FORMAT = BINARY
  LINES = 30559
  LINE_SAMPLES = 4549
  SAMPLE_TYPE = UNSIGNED_INTEGER
  SAMPLE_BITS = 8
  BANDS = 1
  BAND_STORAGE_TYPE = BAND_SEQUENTIAL
  MAXIMUM = 255
  MEAN = 68.3475
  MINIMUM = 1
  STANDARD_DEVIATION = 57.3496
END_OBJECT = IMAGE
/* MAP OBJECT DEFINITIONS */
OBJECT = IMAGE_MAP_PROJECTION
  ^DATA_SET_MAP_PROJECTION_CATALOG= "DSMAP.CAT"
  A_AXIS_RADIUS = 3396.0
  B_AXIS_RADIUS = 3396.0
  C_AXIS_RADIUS = 3396.0
  CENTER_LATITUDE = 0.0
  CENTER_LONGITUDE = 309.0
  COORDINATE_SYSTEM_NAME = PLANETOGRAPHIC
  COORDINATE_SYSTEM_TYPE = "BODY-FIXED ROTATING"
  EASTERNMOST_LONGITUDE = 310.147
  FIRST_STANDARD_PARALLEL = "N/A"
  LINE_FIRST_PIXEL = 1
  LINE_LAST_PIXEL = 30559
  LINE_PROJECTION_OFFSET = 143722.75
  MAP_PROJECTION_ROTATION = 0.0
  MAP_PROJECTION_TYPE = SINUSOIDAL
  MAP_RESOLUTION = 2370.85521546667
  MAP_SCALE = 0.025
  MAXIMUM_LATITUDE = 60.6194
  MINIMUM_LATITUDE = 47.7383
  POSITIVE_LONGITUDE_DIRECTION = EAST
  REFERENCE_LATITUDE = "N/A"
  REFERENCE_LONGITUDE = "N/A"
  SAMPLE_FIRST_PIXEL = 1
  SAMPLE_LAST_PIXEL = 4549
  SAMPLE_PROJECTION_OFFSET = 2750.25
  SECOND_STANDARD_PARALLEL = "N/A"
  WESTERNMOST_LONGITUDE = 306.672
END_OBJECT = IMAGE_MAP_PROJECTION
END
