PDS_VERSION_ID = PDS3
/* FILE DATA ELEMENTS */
RECORD_TYPE = UNDEFINED
/* POINTERS TO DATA OBJECTS */
^IMAGE = ("H5344_0001_S14.TIF")
/* IDENTIFICATION DATA ELEMENTS */
DATA_SET_ID = "MEX-M-HRSC-4-REFDR-MAPPROJECT-EXT2-V4.0"
DATA_SET_NAME = "MARS EXPRESS HRSC MAP PROJECTED REFDR EXTENSION2 V4.0"
DETECTOR_ID = MEX_HRSC_S1
EVENT_TYPE = "MARS-LOCAL-STEREO-Vo-Gl-Ls"
INSTRUMENT_HOST_ID = MEX
INSTRUMENT_HOST_NAME = "MARS EXPRESS"
INSTRUMENT_ID = HRSC
INSTRUMENT_NAME = "HIGH RESOLUTION STEREO CAMERA"
MISSION_NAME = "MARS EXPRESS"
MISSION_PHASE_NAME = ME_Phase_11
PROCESSING_LEVEL_ID = 4
PRODUCT_CREATION_TIME = 2023-02-02T05:41:08.000Z
PRODUCT_ID = "H5344_0001_S14.TIF"
RELEASE_ID = 0002
REVISION_ID = 0000
/* QUALITY DATA ELEMENTS */
DATA_QUALITY_ID = 1
DATA_QUALITY_DESC = "Data calculated based on original SPICE kernels"
/* TIME DATA ELEMENTS */
SPACECRAFT_CLOCK_START_COUNT = "1/0152375933.07308"
SPACECRAFT_CLOCK_STOP_COUNT = "1/0152376386.15816"
START_TIME = 2008-02-29T14:38:56.905Z
STOP_TIME = 2008-02-29T14:42:00.152Z
/* ORBITAL DATA ELEMENTS */
ASCENDING_NODE_LONGITUDE = 117.02
MAXIMUM_RESOLUTION = 0.0286
FOOTPRINT_POINT_LATITUDE = (-1.84072,-1.83133,-1.8209,-1.81362, -1.80767,-1.80414,-1.79914,-1.7989, -1.77642,-2.16881,-2.66353,-3.06253, -3.46573,-3.87305,-4.28373,-4.59435, -5.01177,-5.22239,-5.43351,-5.64611, -5.85899,-6.18164,-6.39715,-6.61483, -6.83245,-7.0515,-7.27156,-7.60426, -7.82659,-8.05133,-8.27545,-8.50022, -8.72396,-9.05969,-9.28249,-9.50517, -9.72844,-9.95069,-10.1725,-10.3944, -10.6156,-10.8363,-11.1674,-11.3874, -11.6067,-11.8265,-12.1557,-12.3747, -12.4843,-12.4947,-12.4994,-12.5056, -12.5132,-12.52,-12.5256,-12.5307, -12.5394,-12.5494,-12.5563,-12.5569, -12.5569,-12.2269,-12.0071,-11.7869, -11.566,-11.2348,-11.0142,-10.6819, -10.4604,-10.2387,-10.0154,-9.68168, -9.4592,-9.12389,-8.788,-8.56359, -8.22602,-8.00068,-7.77658,-7.55485, -7.33308,-7.11253,-6.78538,-6.56655, -6.23972,-6.02367,-5.80867,-5.59492, -5.38299,-5.17226,-4.75309,-4.33718, -4.02665,-3.51663,-3.1118,-2.71019, -2.41123,-1.91816,-1.82089,-1.84072)
FOOTPRINT_POINT_LONGITUDE = (233.413,233.014,232.521,232.123, 231.748,231.49,231.067,231.043,231.04, 231.02,230.995,230.975,230.953,230.932, 230.91,230.893,230.87,230.858,230.846, 230.834,230.822,230.804,230.791,230.778 ,230.766,230.753,230.739,230.719, 230.706,230.692,230.678,230.664,230.65, 230.629,230.614,230.6,230.585,230.571, 230.556,230.541,230.527,230.512,230.489 ,230.474,230.459,230.444,230.421, 230.405,230.397,230.396,230.707,231.05, 231.484,231.825,232.104,232.352,232.755 ,233.189,233.499,233.53,233.545,233.539 ,233.535,233.531,233.527,233.522, 233.518,233.513,233.51,233.507,233.503, 233.498,233.495,233.49,233.486,233.483, 233.478,233.475,233.472,233.469,233.467 ,233.464,233.46,233.457,233.453,233.45, 233.447,233.445,233.443,233.44,233.436, 233.431,233.428,233.423,233.418,233.414 ,233.411,233.406,233.405,233.413)
ORBIT_NUMBER = 5344
ORBITAL_ECCENTRICITY = 0.571
ORBITAL_INCLINATION = 86.74
ORBITAL_SEMIMAJOR_AXIS = 8690.47
PERIAPSIS_ALTITUDE = 339.6
PERIAPSIS_ARGUMENT_ANGLE = 138.13
PERIAPSIS_TIME = 2008-02-29T14:28:10.000Z
SPACECRAFT_ORIENTATION = (0.0,-1.0,0.0)
^MEX_ORIENTATION_DESC = "MEX_ORIENTATION_DESC.TXT"
SPACECRAFT_POINTING_MODE = NADIR
^MEX_POINTING_DESC = "MEX_POINTING_DESC.TXT"
RIGHT_ASCENSION = -1e+32
DECLINATION = -1e+32
OFFSET_ANGLE = -1e+32
SPACECRAFT_SOLAR_DISTANCE = 2.45287e+08
TARGET_NAME = MARS
/* CAMERA DATA ELEMENTS */
DETECTOR_TEMPERATURE = 19.5939
FOCAL_PLANE_TEMPERATURE = 8.7872
INST_CMPRS_NAME = "DISCRETE COSINE TRANSFORMATION (DCT)"
INST_CMPRS_RATIO = 7.72911
INST_CMPRS_QUALITY = 0
INST_CMPRS_QUANTZ_TBL_ID = 0
INSTRUMENT_TEMPERATURE = 13.8847
LENS_TEMPERATURE = 9.3989
MACROPIXEL_SIZE = 1
MISSING_FRAMES = 0
PIXEL_SUBSAMPLING_FLAG = N
SIGNAL_CHAIN_ID = 2
/* RADIOMETRIC DATA ELEMENTS */
BANDWIDTH = 180.0
CENTER_FILTER_WAVELENGTH = 677.0
RADIANCE_OFFSET = 3.73858
RADIANCE_SCALING_FACTOR = 0.0285297
REFLECTANCE_SCALING_FACTOR = 0.00089555
MEX:REFLECTANCE_OFFSET = 0.117354
/* IMAGE OBJECT DEFINITIONS */
OBJECT = IMAGE
  INTERCHANGE_FORMAT = BINARY
  LINES = 25603
  LINE_SAMPLES = 8254
  SAMPLE_TYPE = UNSIGNED_INTEGER
  SAMPLE_BITS = 8
  BANDS = 1
  BAND_STORAGE_TYPE = BAND_SEQUENTIAL
  MAXIMUM = 255
  MEAN = 158.246
  MINIMUM = 1
  STANDARD_DEVIATION = 11.7869
END_OBJECT = IMAGE
/* MAP OBJECT DEFINITIONS */
OBJECT = IMAGE_MAP_PROJECTION
  ^DATA_SET_MAP_PROJECTION_CATALOG= "DSMAP.CAT"
  A_AXIS_RADIUS = 3396.0
  B_AXIS_RADIUS = 3396.0
  C_AXIS_RADIUS = 3396.0
  CENTER_LATITUDE = 0.0
  CENTER_LONGITUDE = 232.0
  COORDINATE_SYSTEM_NAME = PLANETOGRAPHIC
  COORDINATE_SYSTEM_TYPE = "BODY-FIXED ROTATING"
  EASTERNMOST_LONGITUDE = 233.545
  FIRST_STANDARD_PARALLEL = "N/A"
  LINE_FIRST_PIXEL = 1
  LINE_LAST_PIXEL = 25603
  LINE_PROJECTION_OFFSET = -4240.0
  MAP_PROJECTION_ROTATION = 0.0
  MAP_PROJECTION_TYPE = SINUSOIDAL
  MAP_RESOLUTION = 2370.85521546667
  MAP_SCALE = 0.025
  MAXIMUM_LATITUDE = -1.77642
  MINIMUM_LATITUDE = -12.5569
  POSITIVE_LONGITUDE_DIRECTION = EAST
  REFERENCE_LATITUDE = "N/A"
  REFERENCE_LONGITUDE = "N/A"
  SAMPLE_FIRST_PIXEL = 1
  SAMPLE_LAST_PIXEL = 8254
  SAMPLE_PROJECTION_OFFSET = 4209.0
  SECOND_STANDARD_PARALLEL = "N/A"
  WESTERNMOST_LONGITUDE = 230.396
END_OBJECT = IMAGE_MAP_PROJECTION
END
