PDS_VERSION_ID = PDS3
/* FILE DATA ELEMENTS */
RECORD_TYPE = UNDEFINED
/* POINTERS TO DATA OBJECTS */
^IMAGE = ("H5344_0000_P14.TIF")
/* IDENTIFICATION DATA ELEMENTS */
DATA_SET_ID = "MEX-M-HRSC-4-REFDR-MAPPROJECT-EXT2-V4.0"
DATA_SET_NAME = "MARS EXPRESS HRSC MAP PROJECTED REFDR EXTENSION2 V4.0"
DETECTOR_ID = MEX_HRSC_P1
EVENT_TYPE = "MARS-REGIONAL-MAPPING-Vo-Te"
INSTRUMENT_HOST_ID = MEX
INSTRUMENT_HOST_NAME = "MARS EXPRESS"
INSTRUMENT_ID = HRSC
INSTRUMENT_NAME = "HIGH RESOLUTION STEREO CAMERA"
MISSION_NAME = "MARS EXPRESS"
MISSION_PHASE_NAME = ME_Phase_11
PROCESSING_LEVEL_ID = 4
PRODUCT_CREATION_TIME = 2023-02-02T05:41:08.000Z
PRODUCT_ID = "H5344_0000_P14.TIF"
RELEASE_ID = 0002
REVISION_ID = 0000
/* QUALITY DATA ELEMENTS */
DATA_QUALITY_ID = 1
DATA_QUALITY_DESC = "Data calculated based on original SPICE kernels"
/* TIME DATA ELEMENTS */
SPACECRAFT_CLOCK_START_COUNT = "1/0152375128.08248"
SPACECRAFT_CLOCK_STOP_COUNT = "1/0152375334.49150"
START_TIME = 2008-02-29T14:25:43.274Z
STOP_TIME = 2008-02-29T14:28:05.905Z
/* ORBITAL DATA ELEMENTS */
ASCENDING_NODE_LONGITUDE = 117.02
MAXIMUM_RESOLUTION = 0.0557
FOOTPRINT_POINT_LATITUDE = (50.0407,50.0312,50.018,50.0014,49.9808 ,49.98,49.9258,49.5681,49.1197,48.5815, 48.2217,47.8611,47.6807,47.5004,47.3197 ,47.139,46.9583,46.7774,46.5962,46.3246 ,46.1434,45.962,45.7806,45.5086,45.3268 ,45.1451,44.8726,44.6908,44.5086, 44.2353,44.0531,43.8708,43.6883,43.5058 ,43.2318,43.049,42.8662,42.5918,42.4088 ,42.2256,41.9507,41.7677,41.5843, 41.4009,41.2173,40.942,40.8502,40.7798, 40.7925,40.8002,40.8102,40.8156,40.8158 ,40.8168,41.001,41.1846,41.3687,41.5526 ,41.7367,41.9206,42.1042,42.2881, 42.4717,42.655,42.8381,43.0215,43.2966, 43.4798,43.6627,43.8454,44.0282,44.3023 ,44.485,44.6677,44.8501,45.0327,45.215, 45.3971,45.579,45.7611,45.9432,46.1251, 46.307,46.4887,46.6702,46.8518,47.0334, 47.2146,47.3959,47.5771,47.7578,47.9387 ,48.2099,48.3908,48.6614,49.1121, 49.4722,49.8317,49.9215,50.0407)
FOOTPRINT_POINT_LONGITUDE = (232.619,232.23,231.77,231.276,230.746, 230.728,230.692,230.73,230.775,230.829, 230.863,230.896,230.912,230.928,230.944 ,230.959,230.975,230.99,231.005,231.027 ,231.042,231.056,231.07,231.091,231.104 ,231.118,231.138,231.151,231.163, 231.182,231.194,231.206,231.218,231.23, 231.247,231.259,231.27,231.286,231.297, 231.307,231.323,231.333,231.343,231.353 ,231.362,231.377,231.381,231.385, 231.821,232.126,232.607,232.927,232.942 ,232.946,232.942,232.938,232.933, 232.929,232.924,232.92,232.915,232.91, 232.906,232.901,232.896,232.891,232.884 ,232.879,232.874,232.869,232.864, 232.856,232.851,232.846,232.84,232.835, 232.829,232.824,232.818,232.813,232.807 ,232.801,232.795,232.789,232.783, 232.777,232.771,232.764,232.758,232.752 ,232.745,232.739,232.729,232.722, 232.712,232.695,232.68,232.666,232.662, 232.619)
ORBIT_NUMBER = 5344
ORBITAL_ECCENTRICITY = 0.571
ORBITAL_INCLINATION = 86.74
ORBITAL_SEMIMAJOR_AXIS = 8690.47
PERIAPSIS_ALTITUDE = 339.6
PERIAPSIS_ARGUMENT_ANGLE = 138.13
PERIAPSIS_TIME = 2008-02-29T14:28:10.000Z
SPACECRAFT_ORIENTATION = (0.0,-1.0,0.0)
^MEX_ORIENTATION_DESC = "MEX_ORIENTATION_DESC.TXT"
SPACECRAFT_POINTING_MODE = NADIR
^MEX_POINTING_DESC = "MEX_POINTING_DESC.TXT"
RIGHT_ASCENSION = -1e+32
DECLINATION = -1e+32
OFFSET_ANGLE = -1e+32
SPACECRAFT_SOLAR_DISTANCE = 2.45287e+08
TARGET_NAME = MARS
/* CAMERA DATA ELEMENTS */
DETECTOR_TEMPERATURE = 17.351
FOCAL_PLANE_TEMPERATURE = 8.3794
INST_CMPRS_NAME = "DISCRETE COSINE TRANSFORMATION (DCT)"
INST_CMPRS_RATIO = 10.3816
INST_CMPRS_QUALITY = 0
INST_CMPRS_QUANTZ_TBL_ID = 0
INSTRUMENT_TEMPERATURE = 11.234
LENS_TEMPERATURE = 8.5833
MACROPIXEL_SIZE = 4
MISSING_FRAMES = 0
PIXEL_SUBSAMPLING_FLAG = N
SIGNAL_CHAIN_ID = 3
/* RADIOMETRIC DATA ELEMENTS */
BANDWIDTH = 174.0
CENTER_FILTER_WAVELENGTH = 675.0
RADIANCE_OFFSET = 4.02642
RADIANCE_SCALING_FACTOR = 0.0254011
REFLECTANCE_SCALING_FACTOR = 0.000822027
MEX:REFLECTANCE_OFFSET = 0.130302
/* IMAGE OBJECT DEFINITIONS */
OBJECT = IMAGE
  INTERCHANGE_FORMAT = BINARY
  LINES = 10914
  LINE_SAMPLES = 1842
  SAMPLE_TYPE = UNSIGNED_INTEGER
  SAMPLE_BITS = 8
  BANDS = 1
  BAND_STORAGE_TYPE = BAND_SEQUENTIAL
  MAXIMUM = 255
  MEAN = 151.012
  MINIMUM = 1
  STANDARD_DEVIATION = 19.2291
END_OBJECT = IMAGE
/* MAP OBJECT DEFINITIONS */
OBJECT = IMAGE_MAP_PROJECTION
  ^DATA_SET_MAP_PROJECTION_CATALOG= "DSMAP.CAT"
  A_AXIS_RADIUS = 3396.0
  B_AXIS_RADIUS = 3396.0
  C_AXIS_RADIUS = 3396.0
  CENTER_LATITUDE = 0.0
  CENTER_LONGITUDE = 232.0
  COORDINATE_SYSTEM_NAME = PLANETOGRAPHIC
  COORDINATE_SYSTEM_TYPE = "BODY-FIXED ROTATING"
  EASTERNMOST_LONGITUDE = 232.946
  FIRST_STANDARD_PARALLEL = "N/A"
  LINE_FIRST_PIXEL = 1
  LINE_LAST_PIXEL = 10914
  LINE_PROJECTION_OFFSET = 59253.875
  MAP_PROJECTION_ROTATION = 0.0
  MAP_PROJECTION_TYPE = SINUSOIDAL
  MAP_RESOLUTION = 1185.42760773333
  MAP_SCALE = 0.05
  MAXIMUM_LATITUDE = 50.0407
  MINIMUM_LATITUDE = 40.7798
  POSITIVE_LONGITUDE_DIRECTION = EAST
  REFERENCE_LATITUDE = "N/A"
  REFERENCE_LONGITUDE = "N/A"
  SAMPLE_FIRST_PIXEL = 1
  SAMPLE_LAST_PIXEL = 1842
  SAMPLE_PROJECTION_OFFSET = 995.125
  SECOND_STANDARD_PARALLEL = "N/A"
  WESTERNMOST_LONGITUDE = 230.692
END_OBJECT = IMAGE_MAP_PROJECTION
END
