PDS_VERSION_ID = PDS3
/* FILE DATA ELEMENTS */
RECORD_TYPE = UNDEFINED
/* POINTERS TO DATA OBJECTS */
^IMAGE = ("H5344_0000_IR4.TIF")
/* IDENTIFICATION DATA ELEMENTS */
DATA_SET_ID = "MEX-M-HRSC-4-REFDR-MAPPROJECT-EXT2-V4.0"
DATA_SET_NAME = "MARS EXPRESS HRSC MAP PROJECTED REFDR EXTENSION2 V4.0"
DETECTOR_ID = MEX_HRSC_IR
EVENT_TYPE = "MARS-REGIONAL-MAPPING-Vo-Te"
INSTRUMENT_HOST_ID = MEX
INSTRUMENT_HOST_NAME = "MARS EXPRESS"
INSTRUMENT_ID = HRSC
INSTRUMENT_NAME = "HIGH RESOLUTION STEREO CAMERA"
MISSION_NAME = "MARS EXPRESS"
MISSION_PHASE_NAME = ME_Phase_11
PROCESSING_LEVEL_ID = 4
PRODUCT_CREATION_TIME = 2023-02-02T05:41:08.000Z
PRODUCT_ID = "H5344_0000_IR4.TIF"
RELEASE_ID = 0002
REVISION_ID = 0000
/* QUALITY DATA ELEMENTS */
DATA_QUALITY_ID = 1
DATA_QUALITY_DESC = "Data calculated based on original SPICE kernels"
/* TIME DATA ELEMENTS */
SPACECRAFT_CLOCK_START_COUNT = "1/0152375128.08248"
SPACECRAFT_CLOCK_STOP_COUNT = "1/0152375334.49150"
START_TIME = 2008-02-29T14:25:37.665Z
STOP_TIME = 2008-02-29T14:28:00.720Z
/* ORBITAL DATA ELEMENTS */
ASCENDING_NODE_LONGITUDE = 117.02
MAXIMUM_RESOLUTION = 0.0566
FOOTPRINT_POINT_LATITUDE = (50.0454,50.0275,50.0157,50.0057, 49.9847,49.9839,49.9156,49.467,49.197, 48.747,48.4765,48.2962,48.1152,47.934, 47.7529,47.5717,47.3902,47.1182,46.9366 ,46.7546,46.4817,46.2996,46.1174,45.844 ,45.6618,45.3879,45.2051,44.9314, 44.7484,44.5653,44.3821,44.1987,43.9237 ,43.7401,43.5566,43.2806,43.0966, 42.9128,42.7286,42.4522,42.2677,42.0831 ,41.8989,41.7142,41.5294,41.3445, 41.0673,40.8821,40.7895,40.7775,40.7856 ,40.796,40.8066,40.814,40.8142,40.8153, 41.0009,41.1861,41.3716,41.6497,41.8351 ,42.0201,42.2053,42.4828,42.7593, 43.0362,43.2209,43.4055,43.5899,43.7735 ,43.9573,44.2332,44.4172,44.6008, 44.8761,45.0597,45.243,45.5177,45.7005, 45.8835,46.0665,46.2493,46.5234,46.7057 ,46.8883,47.0706,47.2526,47.4348, 47.6167,47.7981,47.9797,48.2521,48.4335 ,48.7052,48.9765,49.1574,49.5187, 49.8794,49.9694,50.0454)
FOOTPRINT_POINT_LONGITUDE = (232.625,231.931,231.557,231.273,230.74 ,230.722,230.687,230.735,230.762, 230.807,230.834,230.851,230.868,230.885 ,230.901,230.917,230.933,230.957, 230.973,230.988,231.011,231.025,231.04, 231.062,231.076,231.096,231.11,231.13, 231.144,231.156,231.169,231.182,231.2, 231.212,231.224,231.242,231.253,231.265 ,231.276,231.292,231.303,231.313, 231.324,231.334,231.344,231.354,231.369 ,231.378,231.383,231.384,231.645, 232.024,232.506,232.929,232.943,232.948 ,232.944,232.94,232.935,232.928,232.924 ,232.919,232.915,232.907,232.901, 232.894,232.889,232.884,232.879,232.874 ,232.869,232.861,232.856,232.851, 232.843,232.837,232.832,232.824,232.818 ,232.813,232.807,232.801,232.792, 232.786,232.78,232.774,232.768,232.761, 232.755,232.749,232.743,232.733,232.726 ,232.716,232.706,232.699,232.685,232.67 ,232.667,232.625)
ORBIT_NUMBER = 5344
ORBITAL_ECCENTRICITY = 0.571
ORBITAL_INCLINATION = 86.74
ORBITAL_SEMIMAJOR_AXIS = 8690.47
PERIAPSIS_ALTITUDE = 339.6
PERIAPSIS_ARGUMENT_ANGLE = 138.13
PERIAPSIS_TIME = 2008-02-29T14:28:10.000Z
SPACECRAFT_ORIENTATION = (0.0,-1.0,0.0)
^MEX_ORIENTATION_DESC = "MEX_ORIENTATION_DESC.TXT"
SPACECRAFT_POINTING_MODE = NADIR
^MEX_POINTING_DESC = "MEX_POINTING_DESC.TXT"
RIGHT_ASCENSION = -1e+32
DECLINATION = -1e+32
OFFSET_ANGLE = -1e+32
SPACECRAFT_SOLAR_DISTANCE = 2.45287e+08
TARGET_NAME = MARS
/* CAMERA DATA ELEMENTS */
DETECTOR_TEMPERATURE = 17.351
FOCAL_PLANE_TEMPERATURE = 8.3794
INST_CMPRS_NAME = "DISCRETE COSINE TRANSFORMATION (DCT)"
INST_CMPRS_RATIO = 9.95183
INST_CMPRS_QUALITY = 0
INST_CMPRS_QUANTZ_TBL_ID = 0
INSTRUMENT_TEMPERATURE = 11.234
LENS_TEMPERATURE = 8.5833
MACROPIXEL_SIZE = 4
MISSING_FRAMES = 0
PIXEL_SUBSAMPLING_FLAG = N
SIGNAL_CHAIN_ID = 2
/* RADIOMETRIC DATA ELEMENTS */
BANDWIDTH = 81.0
CENTER_FILTER_WAVELENGTH = 955.5
RADIANCE_OFFSET = 0.99321
RADIANCE_SCALING_FACTOR = 0.00737257
REFLECTANCE_SCALING_FACTOR = 0.000956964
MEX:REFLECTANCE_OFFSET = 0.128919
/* IMAGE OBJECT DEFINITIONS */
OBJECT = IMAGE
  INTERCHANGE_FORMAT = BINARY
  LINES = 10914
  LINE_SAMPLES = 1842
  SAMPLE_TYPE = UNSIGNED_INTEGER
  SAMPLE_BITS = 8
  BANDS = 1
  BAND_STORAGE_TYPE = BAND_SEQUENTIAL
  MAXIMUM = 255
  MEAN = 154.387
  MINIMUM = 1
  STANDARD_DEVIATION = 19.3431
END_OBJECT = IMAGE
/* MAP OBJECT DEFINITIONS */
OBJECT = IMAGE_MAP_PROJECTION
  ^DATA_SET_MAP_PROJECTION_CATALOG= "DSMAP.CAT"
  A_AXIS_RADIUS = 3396.0
  B_AXIS_RADIUS = 3396.0
  C_AXIS_RADIUS = 3396.0
  CENTER_LATITUDE = 0.0
  CENTER_LONGITUDE = 232.0
  COORDINATE_SYSTEM_NAME = PLANETOGRAPHIC
  COORDINATE_SYSTEM_TYPE = "BODY-FIXED ROTATING"
  EASTERNMOST_LONGITUDE = 232.948
  FIRST_STANDARD_PARALLEL = "N/A"
  LINE_FIRST_PIXEL = 1
  LINE_LAST_PIXEL = 10914
  LINE_PROJECTION_OFFSET = 59253.875
  MAP_PROJECTION_ROTATION = 0.0
  MAP_PROJECTION_TYPE = SINUSOIDAL
  MAP_RESOLUTION = 1185.42760773333
  MAP_SCALE = 0.05
  MAXIMUM_LATITUDE = 50.0454
  MINIMUM_LATITUDE = 40.7775
  POSITIVE_LONGITUDE_DIRECTION = EAST
  REFERENCE_LATITUDE = "N/A"
  REFERENCE_LONGITUDE = "N/A"
  SAMPLE_FIRST_PIXEL = 1
  SAMPLE_LAST_PIXEL = 1842
  SAMPLE_PROJECTION_OFFSET = 995.125
  SECOND_STANDARD_PARALLEL = "N/A"
  WESTERNMOST_LONGITUDE = 230.687
END_OBJECT = IMAGE_MAP_PROJECTION
END
