PDS_VERSION_ID = PDS3
/* FILE DATA ELEMENTS */
RECORD_TYPE = UNDEFINED
/* POINTERS TO DATA OBJECTS */
^IMAGE = ("H5339_0000_ND4.TIF")
/* IDENTIFICATION DATA ELEMENTS */
DATA_SET_ID = "MEX-M-HRSC-4-REFDR-MAPPROJECT-EXT2-V4.0"
DATA_SET_NAME = "MARS EXPRESS HRSC MAP PROJECTED REFDR EXTENSION2 V4.0"
DETECTOR_ID = MEX_HRSC_NADIR
EVENT_TYPE = "MARS-REGIONAL-MAPPING-Te-Gl-Pf"
INSTRUMENT_HOST_ID = MEX
INSTRUMENT_HOST_NAME = "MARS EXPRESS"
INSTRUMENT_ID = HRSC
INSTRUMENT_NAME = "HIGH RESOLUTION STEREO CAMERA"
MISSION_NAME = "MARS EXPRESS"
MISSION_PHASE_NAME = ME_Phase_11
PROCESSING_LEVEL_ID = 4
PRODUCT_CREATION_TIME = 2023-02-02T05:41:08.000Z
PRODUCT_ID = "H5339_0000_ND4.TIF"
RELEASE_ID = 0002
REVISION_ID = 0000
/* QUALITY DATA ELEMENTS */
DATA_QUALITY_ID = 1
DATA_QUALITY_DESC = "Data calculated based on original SPICE kernels"
/* TIME DATA ELEMENTS */
SPACECRAFT_CLOCK_START_COUNT = "1/0152252003.08379"
SPACECRAFT_CLOCK_STOP_COUNT = "1/0152252308.25356"
START_TIME = 2008-02-28T04:13:59.033Z
STOP_TIME = 2008-02-28T04:17:57.018Z
/* ORBITAL DATA ELEMENTS */
ASCENDING_NODE_LONGITUDE = 117.12
MAXIMUM_RESOLUTION = 0.0137
FOOTPRINT_POINT_LATITUDE = (47.1132,47.0957,47.0683,47.0678, 47.0678,46.7599,46.452,46.1438,45.8356, 45.5272,45.2187,44.9101,44.6014,44.2926 ,43.9837,43.6748,43.3657,43.0566, 42.7474,42.2836,41.9743,41.6649,41.3556 ,41.0462,40.7368,40.4274,40.118,39.8086 ,39.4992,39.0351,38.7258,38.4165, 38.1073,37.798,37.4889,37.1798,36.8708, 36.4075,36.0987,35.79,35.4814,35.173, 34.8646,34.2481,33.6323,33.017,32.4024, 31.7885,31.6352,31.6211,31.6269,31.633, 31.636,31.6361,31.6363,32.2509,32.8663, 33.4823,34.099,34.4075,34.7162,35.1796, 35.4887,35.7978,36.1071,36.4164,36.7258 ,37.0351,37.3447,37.6544,38.1191, 38.4289,38.7388,39.0487,39.3587,39.6687 ,39.9787,40.2888,40.5988,41.0639,41.374 ,41.6842,41.9941,42.3041,42.6141, 42.9241,43.3889,43.6988,44.0086,44.3182 ,44.7826,45.0921,45.4016,45.7109, 46.0201,46.3292,46.6382,46.947,47.1014, 47.1132)
FOOTPRINT_POINT_LONGITUDE = (13.2656,12.4728,11.5487,11.5316, 11.4947,11.5192,11.5431,11.5662,11.5894 ,11.6116,11.6329,11.6542,11.6748, 11.6954,11.7151,11.7342,11.7528,11.7709 ,11.7886,11.8144,11.8306,11.8467, 11.8605,11.8754,11.8911,11.906,11.9197, 11.9332,11.9463,11.9652,11.9771,11.9891 ,11.9998,12.0108,12.0216,12.0317,12.041 ,12.0552,12.0639,12.0725,12.081,12.0867 ,12.0942,12.1112,12.1229,12.1365, 12.1461,12.1552,12.1574,12.1575,12.561, 13.139,13.6047,13.6193,13.6265,13.6166, 13.6077,13.5993,13.5901,13.5859,13.5811 ,13.5766,13.5732,13.5686,13.564,13.559, 13.5536,13.5435,13.5383,13.5331,13.5254 ,13.5195,13.5142,13.5084,13.5027, 13.4967,13.4906,13.4843,13.4779,13.4677 ,13.4611,13.4576,13.4474,13.4415,13.434 ,13.4265,13.4149,13.4103,13.4025, 13.3917,13.3801,13.3724,13.3645,13.3558 ,13.3471,13.338,13.3287,13.3191,13.3143 ,13.2656)
ORBIT_NUMBER = 5339
ORBITAL_ECCENTRICITY = 0.571
ORBITAL_INCLINATION = 86.73
ORBITAL_SEMIMAJOR_AXIS = 8688.55
PERIAPSIS_ALTITUDE = 339.91
PERIAPSIS_ARGUMENT_ANGLE = 139.03
PERIAPSIS_TIME = 2008-02-28T04:15:34.000Z
SPACECRAFT_ORIENTATION = (0.0,-1.0,0.0)
^MEX_ORIENTATION_DESC = "MEX_ORIENTATION_DESC.TXT"
SPACECRAFT_POINTING_MODE = ACROSSTRACK
^MEX_POINTING_DESC = "MEX_POINTING_DESC.TXT"
RIGHT_ASCENSION = -1e+32
DECLINATION = -1e+32
OFFSET_ANGLE = 0.15
SPACECRAFT_SOLAR_DISTANCE = 2.45136e+08
TARGET_NAME = MARS
/* CAMERA DATA ELEMENTS */
DETECTOR_TEMPERATURE = 18.3705
FOCAL_PLANE_TEMPERATURE = 8.3794
INST_CMPRS_NAME = "DISCRETE COSINE TRANSFORMATION (DCT)"
INST_CMPRS_RATIO = 6.07766
INST_CMPRS_QUALITY = 0
INST_CMPRS_QUANTZ_TBL_ID = 0
INSTRUMENT_TEMPERATURE = 11.234
LENS_TEMPERATURE = 8.7872
MACROPIXEL_SIZE = 1
MISSING_FRAMES = 0
PIXEL_SUBSAMPLING_FLAG = N
SIGNAL_CHAIN_ID = 0
/* RADIOMETRIC DATA ELEMENTS */
BANDWIDTH = 177.0
CENTER_FILTER_WAVELENGTH = 677.5
RADIANCE_OFFSET = 3.0109
RADIANCE_SCALING_FACTOR = 0.0258116
REFLECTANCE_SCALING_FACTOR = 0.000823975
MEX:REFLECTANCE_OFFSET = 0.0961158
/* IMAGE OBJECT DEFINITIONS */
OBJECT = IMAGE
  INTERCHANGE_FORMAT = BINARY
  LINES = 73472
  LINE_SAMPLES = 7392
  SAMPLE_TYPE = UNSIGNED_INTEGER
  SAMPLE_BITS = 8
  BANDS = 1
  BAND_STORAGE_TYPE = BAND_SEQUENTIAL
  MAXIMUM = 255
  MEAN = 146.203
  MINIMUM = 1
  STANDARD_DEVIATION = 32.3473
END_OBJECT = IMAGE
/* MAP OBJECT DEFINITIONS */
OBJECT = IMAGE_MAP_PROJECTION
  ^DATA_SET_MAP_PROJECTION_CATALOG= "DSMAP.CAT"
  A_AXIS_RADIUS = 3396.0
  B_AXIS_RADIUS = 3396.0
  C_AXIS_RADIUS = 3396.0
  CENTER_LATITUDE = 0.0
  CENTER_LONGITUDE = 13.0
  COORDINATE_SYSTEM_NAME = PLANETOGRAPHIC
  COORDINATE_SYSTEM_TYPE = "BODY-FIXED ROTATING"
  EASTERNMOST_LONGITUDE = 13.6265
  FIRST_STANDARD_PARALLEL = "N/A"
  LINE_FIRST_PIXEL = 1
  LINE_LAST_PIXEL = 73472
  LINE_PROJECTION_OFFSET = 223418.0
  MAP_PROJECTION_ROTATION = 0.0
  MAP_PROJECTION_TYPE = SINUSOIDAL
  MAP_RESOLUTION = 4741.71043093333
  MAP_SCALE = 0.0125
  MAXIMUM_LATITUDE = 47.1132
  MINIMUM_LATITUDE = 31.6211
  POSITIVE_LONGITUDE_DIRECTION = EAST
  REFERENCE_LATITUDE = "N/A"
  REFERENCE_LONGITUDE = "N/A"
  SAMPLE_FIRST_PIXEL = 1
  SAMPLE_LAST_PIXEL = 7392
  SAMPLE_PROJECTION_OFFSET = 4860.0
  SECOND_STANDARD_PARALLEL = "N/A"
  WESTERNMOST_LONGITUDE = 11.4947
END_OBJECT = IMAGE_MAP_PROJECTION
END
