PDS_VERSION_ID = PDS3
/* FILE DATA ELEMENTS */
RECORD_TYPE = UNDEFINED
/* POINTERS TO DATA OBJECTS */
^IMAGE = ("H5325_0001_GR4.TIF")
/* IDENTIFICATION DATA ELEMENTS */
DATA_SET_ID = "MEX-M-HRSC-4-REFDR-MAPPROJECT-EXT2-V4.0"
DATA_SET_NAME = "MARS EXPRESS HRSC MAP PROJECTED REFDR EXTENSION2 V4.0"
DETECTOR_ID = MEX_HRSC_GREEN
EVENT_TYPE = "MARS-REGIONAL-MAPPING-Fl-La-Tc"
INSTRUMENT_HOST_ID = MEX
INSTRUMENT_HOST_NAME = "MARS EXPRESS"
INSTRUMENT_ID = HRSC
INSTRUMENT_NAME = "HIGH RESOLUTION STEREO CAMERA"
MISSION_NAME = "MARS EXPRESS"
MISSION_PHASE_NAME = ME_Phase_11
PROCESSING_LEVEL_ID = 4
PRODUCT_CREATION_TIME = 2023-02-02T05:41:08.000Z
PRODUCT_ID = "H5325_0001_GR4.TIF"
RELEASE_ID = 0002
REVISION_ID = 0000
/* QUALITY DATA ELEMENTS */
DATA_QUALITY_ID = 1
DATA_QUALITY_DESC = "Data calculated based on original SPICE kernels"
/* TIME DATA ELEMENTS */
SPACECRAFT_CLOCK_START_COUNT = "1/0151907413.07307"
SPACECRAFT_CLOCK_STOP_COUNT = "1/0151907599.05835"
START_TIME = 2008-02-24T04:30:43.201Z
STOP_TIME = 2008-02-24T04:32:35.488Z
/* ORBITAL DATA ELEMENTS */
ASCENDING_NODE_LONGITUDE = 117.41
MAXIMUM_RESOLUTION = 0.0578
FOOTPRINT_POINT_LATITUDE = (27.9163,27.9177,27.918,27.9181,27.9178 ,27.9171,27.9162,27.9161,27.9076, 27.7152,27.4588,27.2025,26.9463,26.6903 ,26.4983,26.1787,25.8592,25.6039, 25.3485,25.1962,24.9679,24.8158,24.6637 ,24.5117,24.3598,24.2079,24.0561, 23.9044,23.7527,23.6011,23.4496,23.2981 ,23.063,22.9116,22.7604,22.6092,22.4581 ,22.3071,22.1561,22.0052,21.8546, 21.6286,21.4779,21.3273,21.1768,21.0265 ,20.801,20.7258,20.7108,20.7102,20.7091 ,20.7077,20.7067,20.7054,20.7035, 20.7018,20.7017,20.7026,20.853,21.0035, 21.1541,21.3047,21.4555,21.6062,21.8326 ,22.0592,22.2103,22.3615,22.5127, 22.6641,22.8155,22.9669,23.1185,23.2781 ,23.4298,23.5815,23.7333,23.8852, 24.0371,24.1891,24.3412,24.4933,24.6455 ,24.7977,25.0262,25.1785,25.3309, 25.4612,25.7168,25.9726,26.1646,26.4206 ,26.6768,26.9973,27.2537,27.5104, 27.6388,27.8314,27.8956,27.9163)
FOOTPRINT_POINT_LONGITUDE = (334.876,334.534,334.325,334.117,333.91 ,333.704,333.499,333.486,333.477, 333.477,333.478,333.479,333.479,333.479 ,333.479,333.479,333.479,333.479, 333.479,333.478,333.478,333.477,333.477 ,333.476,333.475,333.475,333.474, 333.473,333.473,333.472,333.471,333.47, 333.469,333.467,333.466,333.465,333.464 ,333.463,333.462,333.46,333.459,333.457 ,333.456,333.454,333.453,333.451, 333.449,333.448,333.448,333.737,334.0, 334.236,334.376,334.544,334.755,334.925 ,334.939,334.944,334.943,334.942, 334.942,334.941,334.94,334.94,334.939, 334.937,334.937,334.936,334.935,334.934 ,334.933,334.933,334.932,334.931, 334.931,334.93,334.929,334.928,334.927, 334.927,334.926,334.925,334.924,334.923 ,334.922,334.921,334.921,334.92,334.918 ,334.917,334.916,334.915,334.913, 334.912,334.91,334.909,334.908,334.907, 334.906,334.876)
ORBIT_NUMBER = 5325
ORBITAL_ECCENTRICITY = 0.571
ORBITAL_INCLINATION = 86.74
ORBITAL_SEMIMAJOR_AXIS = 8688.61
PERIAPSIS_ALTITUDE = 338.32
PERIAPSIS_ARGUMENT_ANGLE = 141.5
PERIAPSIS_TIME = 2008-02-24T04:28:06.000Z
SPACECRAFT_ORIENTATION = (0.0,-1.0,0.0)
^MEX_ORIENTATION_DESC = "MEX_ORIENTATION_DESC.TXT"
SPACECRAFT_POINTING_MODE = ACROSSTRACK
^MEX_POINTING_DESC = "MEX_POINTING_DESC.TXT"
RIGHT_ASCENSION = -1e+32
DECLINATION = -1e+32
OFFSET_ANGLE = 0.4
SPACECRAFT_SOLAR_DISTANCE = 2.44701e+08
TARGET_NAME = MARS
/* CAMERA DATA ELEMENTS */
DETECTOR_TEMPERATURE = 19.39
FOCAL_PLANE_TEMPERATURE = 8.7872
INST_CMPRS_NAME = "DISCRETE COSINE TRANSFORMATION (DCT)"
INST_CMPRS_RATIO = 11.9173
INST_CMPRS_QUALITY = 0
INST_CMPRS_QUANTZ_TBL_ID = 0
INSTRUMENT_TEMPERATURE = 12.8652
LENS_TEMPERATURE = 8.9911
MACROPIXEL_SIZE = 4
MISSING_FRAMES = 1
PIXEL_SUBSAMPLING_FLAG = N
SIGNAL_CHAIN_ID = 2
/* RADIOMETRIC DATA ELEMENTS */
BANDWIDTH = 88.0
CENTER_FILTER_WAVELENGTH = 538.0
RADIANCE_OFFSET = 1.44717
RADIANCE_SCALING_FACTOR = 0.00382904
REFLECTANCE_SCALING_FACTOR = 0.000197402
MEX:REFLECTANCE_OFFSET = 0.0746073
/* IMAGE OBJECT DEFINITIONS */
OBJECT = IMAGE
  INTERCHANGE_FORMAT = BINARY
  LINES = 8540
  LINE_SAMPLES = 1680
  SAMPLE_TYPE = UNSIGNED_INTEGER
  SAMPLE_BITS = 8
  BANDS = 1
  BAND_STORAGE_TYPE = BAND_SEQUENTIAL
  MAXIMUM = 255
  MEAN = 119.902
  MINIMUM = 1
  STANDARD_DEVIATION = 28.9111
END_OBJECT = IMAGE
/* MAP OBJECT DEFINITIONS */
OBJECT = IMAGE_MAP_PROJECTION
  ^DATA_SET_MAP_PROJECTION_CATALOG= "DSMAP.CAT"
  A_AXIS_RADIUS = 3396.0
  B_AXIS_RADIUS = 3396.0
  C_AXIS_RADIUS = 3396.0
  CENTER_LATITUDE = 0.0
  CENTER_LONGITUDE = 334.0
  COORDINATE_SYSTEM_NAME = PLANETOGRAPHIC
  COORDINATE_SYSTEM_TYPE = "BODY-FIXED ROTATING"
  EASTERNMOST_LONGITUDE = 334.944
  FIRST_STANDARD_PARALLEL = "N/A"
  LINE_FIRST_PIXEL = 1
  LINE_LAST_PIXEL = 8540
  LINE_PROJECTION_OFFSET = 33095.625
  MAP_PROJECTION_ROTATION = 0.0
  MAP_PROJECTION_TYPE = SINUSOIDAL
  MAP_RESOLUTION = 1185.42760773333
  MAP_SCALE = 0.05
  MAXIMUM_LATITUDE = 27.9181
  MINIMUM_LATITUDE = 20.7017
  POSITIVE_LONGITUDE_DIRECTION = EAST
  REFERENCE_LATITUDE = "N/A"
  REFERENCE_LONGITUDE = "N/A"
  SAMPLE_FIRST_PIXEL = 1
  SAMPLE_LAST_PIXEL = 1680
  SAMPLE_PROJECTION_OFFSET = 626.375
  SECOND_STANDARD_PARALLEL = "N/A"
  WESTERNMOST_LONGITUDE = 333.448
END_OBJECT = IMAGE_MAP_PROJECTION
END
