PDS_VERSION_ID = PDS3
/* FILE DATA ELEMENTS */
RECORD_TYPE = UNDEFINED
/* POINTERS TO DATA OBJECTS */
^IMAGE = ("H5314_0000_P14.TIF")
/* IDENTIFICATION DATA ELEMENTS */
DATA_SET_ID = "MEX-M-HRSC-4-REFDR-MAPPROJECT-EXT2-V4.0"
DATA_SET_NAME = "MARS EXPRESS HRSC MAP PROJECTED REFDR EXTENSION2 V4.0"
DETECTOR_ID = MEX_HRSC_P1
EVENT_TYPE = "MARS-REGIONAL-MAPPING-Im-Pf-La"
INSTRUMENT_HOST_ID = MEX
INSTRUMENT_HOST_NAME = "MARS EXPRESS"
INSTRUMENT_ID = HRSC
INSTRUMENT_NAME = "HIGH RESOLUTION STEREO CAMERA"
MISSION_NAME = "MARS EXPRESS"
MISSION_PHASE_NAME = ME_Phase_11
PROCESSING_LEVEL_ID = 4
PRODUCT_CREATION_TIME = 2023-02-02T05:41:08.000Z
PRODUCT_ID = "H5314_0000_P14.TIF"
RELEASE_ID = 0002
REVISION_ID = 0000
/* QUALITY DATA ELEMENTS */
DATA_QUALITY_ID = 1
DATA_QUALITY_DESC = "Data calculated based on original SPICE kernels"
/* TIME DATA ELEMENTS */
SPACECRAFT_CLOCK_START_COUNT = "1/0151636190.09366"
SPACECRAFT_CLOCK_STOP_COUNT = "1/0151636504.57341"
START_TIME = 2008-02-21T01:10:05.233Z
STOP_TIME = 2008-02-21T01:14:13.500Z
/* ORBITAL DATA ELEMENTS */
ASCENDING_NODE_LONGITUDE = 117.63
MAXIMUM_RESOLUTION = 0.0557
FOOTPRINT_POINT_LATITUDE = (43.5548,43.5465,43.5376,43.5277, 43.5273,43.472,43.1537,42.8351,42.5162, 42.1967,41.8768,41.5567,41.2363,40.7555 ,40.2734,39.7909,39.4692,38.9853, 38.6624,38.1782,37.8548,37.3694,36.899, 36.4283,36.1144,35.8,35.4868,35.1727, 34.6991,34.3841,33.9136,33.4411,32.9674 ,32.6513,32.1778,31.8622,31.5392, 31.2144,30.8883,30.5618,30.2351,29.7453 ,29.4183,28.9289,28.4365,27.9453, 27.6182,27.4548,27.3768,27.3762,27.3779 ,27.3773,27.375,27.3749,27.3757,27.8659 ,28.1872,28.5125,29.004,29.3347,29.6714 ,29.9977,30.3249,30.6528,30.9798, 31.3059,31.629,31.95,32.2667,32.7413, 33.0579,33.5327,33.8435,34.1625,34.637, 34.9519,35.4239,35.7387,36.2101,36.5265 ,36.839,37.153,37.4705,37.7939,38.1179, 38.4415,38.9269,39.4118,39.7346,40.2182 ,40.7015,41.0231,41.505,41.8259,42.1465 ,42.4668,42.9469,43.2663,43.4258, 43.5548)
FOOTPRINT_POINT_LONGITUDE = (355.182,354.467,353.973,353.543, 353.528,353.504,353.524,353.544,353.563 ,353.581,353.6,353.617,353.634,353.66, 353.684,353.707,353.721,353.743,353.756 ,353.776,353.789,353.807,353.824,353.84 ,353.851,353.861,353.871,353.88,353.893 ,353.902,353.915,353.927,353.938, 353.944,353.954,353.961,353.966,353.972 ,353.978,353.983,353.988,353.995,354.0, 354.006,354.011,354.015,354.018,354.019 ,354.02,354.26,354.567,354.9,355.377, 355.39,355.394,355.392,355.394,355.394, 355.391,355.386,355.377,355.376,355.373 ,355.371,355.368,355.367,355.367, 355.362,355.36,355.356,355.353,355.348, 355.349,355.344,355.339,355.336,355.333 ,355.33,355.326,355.321,355.319,355.316 ,355.311,355.309,355.305,355.301, 355.296,355.289,355.285,355.279,355.272 ,355.268,355.261,355.257,355.252, 355.247,355.239,355.234,355.232, 355.182)
ORBIT_NUMBER = 5314
ORBITAL_ECCENTRICITY = 0.571
ORBITAL_INCLINATION = 86.73
ORBITAL_SEMIMAJOR_AXIS = 8693.25
PERIAPSIS_ALTITUDE = 337.22
PERIAPSIS_ARGUMENT_ANGLE = 143.42
PERIAPSIS_TIME = 2008-02-21T01:12:13.000Z
SPACECRAFT_ORIENTATION = (0.0,-1.0,0.0)
^MEX_ORIENTATION_DESC = "MEX_ORIENTATION_DESC.TXT"
SPACECRAFT_POINTING_MODE = ACROSSTRACK
^MEX_POINTING_DESC = "MEX_POINTING_DESC.TXT"
RIGHT_ASCENSION = -1e+32
DECLINATION = -1e+32
OFFSET_ANGLE = 0.2
SPACECRAFT_SOLAR_DISTANCE = 2.44344e+08
TARGET_NAME = MARS
/* CAMERA DATA ELEMENTS */
DETECTOR_TEMPERATURE = 17.5549
FOCAL_PLANE_TEMPERATURE = 8.1755
INST_CMPRS_NAME = "DISCRETE COSINE TRANSFORMATION (DCT)"
INST_CMPRS_RATIO = 10.4391
INST_CMPRS_QUALITY = 0
INST_CMPRS_QUANTZ_TBL_ID = 0
INSTRUMENT_TEMPERATURE = 11.234
LENS_TEMPERATURE = 8.5833
MACROPIXEL_SIZE = 4
MISSING_FRAMES = 0
PIXEL_SUBSAMPLING_FLAG = N
SIGNAL_CHAIN_ID = 3
/* RADIOMETRIC DATA ELEMENTS */
BANDWIDTH = 174.0
CENTER_FILTER_WAVELENGTH = 675.0
RADIANCE_OFFSET = 3.26782
RADIANCE_SCALING_FACTOR = 0.0249434
REFLECTANCE_SCALING_FACTOR = 0.000801022
MEX:REFLECTANCE_OFFSET = 0.104941
/* IMAGE OBJECT DEFINITIONS */
OBJECT = IMAGE
  INTERCHANGE_FORMAT = BINARY
  LINES = 19145
  LINE_SAMPLES = 1708
  SAMPLE_TYPE = UNSIGNED_INTEGER
  SAMPLE_BITS = 8
  BANDS = 1
  BAND_STORAGE_TYPE = BAND_SEQUENTIAL
  MAXIMUM = 255
  MEAN = 125.843
  MINIMUM = 1
  STANDARD_DEVIATION = 44.5968
END_OBJECT = IMAGE
/* MAP OBJECT DEFINITIONS */
OBJECT = IMAGE_MAP_PROJECTION
  ^DATA_SET_MAP_PROJECTION_CATALOG= "DSMAP.CAT"
  A_AXIS_RADIUS = 3396.0
  B_AXIS_RADIUS = 3396.0
  C_AXIS_RADIUS = 3396.0
  CENTER_LATITUDE = 0.0
  CENTER_LONGITUDE = 355.0
  COORDINATE_SYSTEM_NAME = PLANETOGRAPHIC
  COORDINATE_SYSTEM_TYPE = "BODY-FIXED ROTATING"
  EASTERNMOST_LONGITUDE = 355.394
  FIRST_STANDARD_PARALLEL = "N/A"
  LINE_FIRST_PIXEL = 1
  LINE_LAST_PIXEL = 19145
  LINE_PROJECTION_OFFSET = 51604.875
  MAP_PROJECTION_ROTATION = 0.0
  MAP_PROJECTION_TYPE = SINUSOIDAL
  MAP_RESOLUTION = 1185.42760773333
  MAP_SCALE = 0.05
  MAXIMUM_LATITUDE = 43.5548
  MINIMUM_LATITUDE = 27.3749
  POSITIVE_LONGITUDE_DIRECTION = EAST
  REFERENCE_LATITUDE = "N/A"
  REFERENCE_LONGITUDE = "N/A"
  SAMPLE_FIRST_PIXEL = 1
  SAMPLE_LAST_PIXEL = 1708
  SAMPLE_PROJECTION_OFFSET = 1285.125
  SECOND_STANDARD_PARALLEL = "N/A"
  WESTERNMOST_LONGITUDE = 353.504
END_OBJECT = IMAGE_MAP_PROJECTION
END
