PDS_VERSION_ID = PDS3
/* FILE DATA ELEMENTS */
RECORD_TYPE = UNDEFINED
/* POINTERS TO DATA OBJECTS */
^IMAGE = ("H5294_0001_GR4.TIF")
/* IDENTIFICATION DATA ELEMENTS */
DATA_SET_ID = "MEX-M-HRSC-4-REFDR-MAPPROJECT-EXT2-V4.0"
DATA_SET_NAME = "MARS EXPRESS HRSC MAP PROJECTED REFDR EXTENSION2 V4.0"
DETECTOR_ID = MEX_HRSC_GREEN
EVENT_TYPE = "MARS-REGIONAL-MAPPING-Vo-Im"
INSTRUMENT_HOST_ID = MEX
INSTRUMENT_HOST_NAME = "MARS EXPRESS"
INSTRUMENT_ID = HRSC
INSTRUMENT_NAME = "HIGH RESOLUTION STEREO CAMERA"
MISSION_NAME = "MARS EXPRESS"
MISSION_PHASE_NAME = ME_Phase_11
PROCESSING_LEVEL_ID = 4
PRODUCT_CREATION_TIME = 2023-02-01T12:09:47.000Z
PRODUCT_ID = "H5294_0001_GR4.TIF"
RELEASE_ID = 0001
REVISION_ID = 0000
/* QUALITY DATA ELEMENTS */
DATA_QUALITY_ID = 1
DATA_QUALITY_DESC = "Data calculated based on original SPICE kernels"
/* TIME DATA ELEMENTS */
SPACECRAFT_CLOCK_START_COUNT = "1/0151143959.08397"
SPACECRAFT_CLOCK_STOP_COUNT = "1/0151144225.06704"
START_TIME = 2008-02-15T08:26:33.039Z
STOP_TIME = 2008-02-15T08:29:21.040Z
/* ORBITAL DATA ELEMENTS */
ASCENDING_NODE_LONGITUDE = 118.03
MAXIMUM_RESOLUTION = 0.0662
FOOTPRINT_POINT_LATITUDE = (13.1327,13.1356,13.1373,13.1384, 13.1395,13.1404,13.1405,13.1345,12.569, 12.1902,11.8119,11.4246,11.0377,10.7479 ,10.3543,10.058,9.86072,9.66355,9.46277 ,9.26117,9.05968,8.85841,8.65733, 8.44378,8.23827,7.93017,7.72512,7.41222 ,7.20285,6.99371,6.78479,6.57227, 6.35897,6.14592,5.93311,5.71738,5.50026 ,5.28341,5.06683,4.73587,4.51516, 4.29472,3.95897,3.73447,3.51031,3.16865 ,2.94061,2.82668,2.80463,2.80232,2.7993 ,2.79472,2.79144,2.78616,2.78258, 2.78234,2.78349,3.01173,3.24039,3.46857 ,3.69302,3.91781,4.25451,4.47525, 4.80685,5.02813,5.24506,5.46221,5.67958 ,6.00288,6.21585,6.42931,6.643,6.85412, 7.06321,7.27278,7.48254,7.6913,7.89664, 8.10219,8.30788,8.51381,8.8264,9.02795, 9.22972,9.43163,9.63308,9.83044,10.0279 ,10.2257,10.4236,10.7192,11.1062, 11.4937,11.8797,12.2585,12.638,13.0171, 13.1097,13.1327)
FOOTPRINT_POINT_LONGITUDE = (196.595,196.228,195.956,195.752, 195.494,195.154,195.14,195.127,195.117, 195.111,195.104,195.097,195.089,195.083 ,195.075,195.069,195.065,195.061, 195.056,195.052,195.047,195.042,195.038 ,195.033,195.028,195.02,195.015,195.007 ,195.001,194.996,194.99,194.985,194.979 ,194.973,194.967,194.961,194.955, 194.949,194.942,194.932,194.926,194.919 ,194.909,194.902,194.895,194.883, 194.876,194.873,194.872,195.074,195.344 ,195.716,195.986,196.392,196.663,196.68 ,196.685,196.683,196.681,196.679, 196.677,196.675,196.672,196.67,196.667, 196.665,196.663,196.661,196.659,196.656 ,196.655,196.653,196.651,196.649, 196.648,196.646,196.645,196.643,196.642 ,196.64,196.638,196.637,196.635,196.633 ,196.632,196.63,196.629,196.627,196.626 ,196.625,196.623,196.621,196.619, 196.616,196.614,196.611,196.609,196.606 ,196.605,196.595)
ORBIT_NUMBER = 5294
ORBITAL_ECCENTRICITY = 0.572
ORBITAL_INCLINATION = 86.74
ORBITAL_SEMIMAJOR_AXIS = 8696.81
PERIAPSIS_ALTITUDE = 334.92
PERIAPSIS_ARGUMENT_ANGLE = 146.96
PERIAPSIS_TIME = 2008-02-15T08:21:30.000Z
SPACECRAFT_ORIENTATION = (0.0,-1.0,0.0)
^MEX_ORIENTATION_DESC = "MEX_ORIENTATION_DESC.TXT"
SPACECRAFT_POINTING_MODE = NADIR
^MEX_POINTING_DESC = "MEX_POINTING_DESC.TXT"
RIGHT_ASCENSION = -1e+32
DECLINATION = -1e+32
OFFSET_ANGLE = -1e+32
SPACECRAFT_SOLAR_DISTANCE = 2.43665e+08
TARGET_NAME = MARS
/* CAMERA DATA ELEMENTS */
DETECTOR_TEMPERATURE = 19.5939
FOCAL_PLANE_TEMPERATURE = 8.5833
INST_CMPRS_NAME = "DISCRETE COSINE TRANSFORMATION (DCT)"
INST_CMPRS_RATIO = 16.9313
INST_CMPRS_QUALITY = 0
INST_CMPRS_QUANTZ_TBL_ID = 0
INSTRUMENT_TEMPERATURE = 13.4769
LENS_TEMPERATURE = 8.7872
MACROPIXEL_SIZE = 4
MISSING_FRAMES = 1
PIXEL_SUBSAMPLING_FLAG = N
SIGNAL_CHAIN_ID = 2
/* RADIOMETRIC DATA ELEMENTS */
BANDWIDTH = 88.0
CENTER_FILTER_WAVELENGTH = 538.0
RADIANCE_OFFSET = 1.56368
RADIANCE_SCALING_FACTOR = 0.00466037
REFLECTANCE_SCALING_FACTOR = 0.000238229
MEX:REFLECTANCE_OFFSET = 0.079932
/* IMAGE OBJECT DEFINITIONS */
OBJECT = IMAGE
  INTERCHANGE_FORMAT = BINARY
  LINES = 12262
  LINE_SAMPLES = 2187
  SAMPLE_TYPE = UNSIGNED_INTEGER
  SAMPLE_BITS = 8
  BANDS = 1
  BAND_STORAGE_TYPE = BAND_SEQUENTIAL
  MAXIMUM = 255
  MEAN = 148.173
  MINIMUM = 1
  STANDARD_DEVIATION = 10.3091
END_OBJECT = IMAGE
/* MAP OBJECT DEFINITIONS */
OBJECT = IMAGE_MAP_PROJECTION
  ^DATA_SET_MAP_PROJECTION_CATALOG= "DSMAP.CAT"
  A_AXIS_RADIUS = 3396.0
  B_AXIS_RADIUS = 3396.0
  C_AXIS_RADIUS = 3396.0
  CENTER_LATITUDE = 0.0
  CENTER_LONGITUDE = 196.0
  COORDINATE_SYSTEM_NAME = PLANETOGRAPHIC
  COORDINATE_SYSTEM_TYPE = "BODY-FIXED ROTATING"
  EASTERNMOST_LONGITUDE = 196.685
  FIRST_STANDARD_PARALLEL = "N/A"
  LINE_FIRST_PIXEL = 1
  LINE_LAST_PIXEL = 12262
  LINE_PROJECTION_OFFSET = 15573.375
  MAP_PROJECTION_ROTATION = 0.0
  MAP_PROJECTION_TYPE = SINUSOIDAL
  MAP_RESOLUTION = 1185.42760773333
  MAP_SCALE = 0.05
  MAXIMUM_LATITUDE = 13.1405
  MINIMUM_LATITUDE = 2.78234
  POSITIVE_LONGITUDE_DIRECTION = EAST
  REFERENCE_LATITUDE = "N/A"
  REFERENCE_LONGITUDE = "N/A"
  SAMPLE_FIRST_PIXEL = 1
  SAMPLE_LAST_PIXEL = 2187
  SAMPLE_PROJECTION_OFFSET = 1360.625
  SECOND_STANDARD_PARALLEL = "N/A"
  WESTERNMOST_LONGITUDE = 194.872
END_OBJECT = IMAGE_MAP_PROJECTION
END
