PDS_VERSION_ID = PDS3
/* FILE DATA ELEMENTS */
RECORD_TYPE = UNDEFINED
/* POINTERS TO DATA OBJECTS */
^IMAGE = ("H5293_0000_ND4.TIF")
/* IDENTIFICATION DATA ELEMENTS */
DATA_SET_ID = "MEX-M-HRSC-4-REFDR-MAPPROJECT-EXT2-V4.0"
DATA_SET_NAME = "MARS EXPRESS HRSC MAP PROJECTED REFDR EXTENSION2 V4.0"
DETECTOR_ID = MEX_HRSC_NADIR
EVENT_TYPE = "MARS-REGIONAL-MAPPING-Vo-Te-Fl"
INSTRUMENT_HOST_ID = MEX
INSTRUMENT_HOST_NAME = "MARS EXPRESS"
INSTRUMENT_ID = HRSC
INSTRUMENT_NAME = "HIGH RESOLUTION STEREO CAMERA"
MISSION_NAME = "MARS EXPRESS"
MISSION_PHASE_NAME = ME_Phase_11
PROCESSING_LEVEL_ID = 4
PRODUCT_CREATION_TIME = 2023-02-01T12:09:47.000Z
PRODUCT_ID = "H5293_0000_ND4.TIF"
RELEASE_ID = 0001
REVISION_ID = 0000
/* QUALITY DATA ELEMENTS */
DATA_QUALITY_ID = 1
DATA_QUALITY_DESC = "Data calculated based on original SPICE kernels"
/* TIME DATA ELEMENTS */
SPACECRAFT_CLOCK_START_COUNT = "1/0151118672.08255"
SPACECRAFT_CLOCK_STOP_COUNT = "1/0151118899.14361"
START_TIME = 2008-02-15T01:25:20.918Z
STOP_TIME = 2008-02-15T01:27:47.909Z
/* ORBITAL DATA ELEMENTS */
ASCENDING_NODE_LONGITUDE = 118.05
MAXIMUM_RESOLUTION = 0.0149
FOOTPRINT_POINT_LATITUDE = (54.7178,54.7105,54.7003,54.6871,54.674 ,54.6577,54.6386,54.6376,54.6373, 54.4412,54.245,54.0533,53.8615,53.6694, 53.4772,53.2847,53.0943,52.9064,52.6241 ,52.4357,52.2471,52.0587,51.7825, 51.5982,51.4138,51.2292,51.0444,50.8598 ,50.4993,50.1382,49.7766,49.4144, 49.0517,48.6884,48.3247,47.9604,47.7781 ,47.5957,47.3219,47.1393,46.9564, 46.7735,46.5903,46.3155,46.1321,45.9487 ,45.7652,45.5815,45.4896,45.3982, 45.4067,45.4154,45.4278,45.435,45.4394, 45.4396,45.44,45.6243,45.8086,45.9927, 46.1767,46.3607,46.5445,46.7282,46.9119 ,47.0954,47.2788,47.4621,47.6454, 47.8286,48.0117,48.1947,48.3775,48.7426 ,49.107,49.4712,49.835,50.1983,50.561, 50.9232,51.2015,51.3871,51.5727,51.758, 51.943,52.128,52.3174,52.507,52.6964, 52.8857,53.0748,53.3611,53.5546,53.748, 53.9412,54.1342,54.327,54.5245,54.6232, 54.7178)
FOOTPRINT_POINT_LONGITUDE = (296.517,296.18,295.767,295.305,294.896 ,294.437,293.955,293.929,293.885, 293.915,293.945,293.974,294.002,294.03, 294.058,294.087,294.113,294.138,294.177 ,294.202,294.227,294.251,294.286, 294.307,294.329,294.351,294.373,294.395 ,294.436,294.476,294.514,294.552, 294.589,294.625,294.66,294.694,294.711, 294.727,294.75,294.764,294.78,294.796, 294.813,294.837,294.852,294.866,294.88, 294.895,294.902,294.909,295.199,295.527 ,296.078,296.466,296.745,296.763, 296.772,296.769,296.767,296.764,296.761 ,296.759,296.756,296.753,296.75,296.748 ,296.744,296.742,296.74,296.738,296.74, 296.739,296.736,296.728,296.715,296.709 ,296.702,296.696,296.689,296.682, 296.675,296.671,296.67,296.665,296.658, 296.654,296.65,296.645,296.64,296.637, 296.632,296.631,296.626,296.622,296.616 ,296.611,296.605,296.6,296.597,296.517)
ORBIT_NUMBER = 5293
ORBITAL_ECCENTRICITY = 0.572
ORBITAL_INCLINATION = 86.73
ORBITAL_SEMIMAJOR_AXIS = 8702.23
PERIAPSIS_ALTITUDE = 334.76
PERIAPSIS_ARGUMENT_ANGLE = 147.16
PERIAPSIS_TIME = 2008-02-15T01:31:02.000Z
SPACECRAFT_ORIENTATION = (0.0,-1.0,0.0)
^MEX_ORIENTATION_DESC = "MEX_ORIENTATION_DESC.TXT"
SPACECRAFT_POINTING_MODE = ACROSSTRACK
^MEX_POINTING_DESC = "MEX_POINTING_DESC.TXT"
RIGHT_ASCENSION = -1e+32
DECLINATION = -1e+32
OFFSET_ANGLE = 0.3
SPACECRAFT_SOLAR_DISTANCE = 2.4363e+08
TARGET_NAME = MARS
/* CAMERA DATA ELEMENTS */
DETECTOR_TEMPERATURE = 18.3705
FOCAL_PLANE_TEMPERATURE = 8.3794
INST_CMPRS_NAME = "DISCRETE COSINE TRANSFORMATION (DCT)"
INST_CMPRS_RATIO = 6.53444
INST_CMPRS_QUALITY = 0
INST_CMPRS_QUANTZ_TBL_ID = 0
INSTRUMENT_TEMPERATURE = 11.4379
LENS_TEMPERATURE = 8.9911
MACROPIXEL_SIZE = 1
MISSING_FRAMES = 0
PIXEL_SUBSAMPLING_FLAG = N
SIGNAL_CHAIN_ID = 0
/* RADIOMETRIC DATA ELEMENTS */
BANDWIDTH = 177.0
CENTER_FILTER_WAVELENGTH = 677.5
RADIANCE_OFFSET = 2.52347
RADIANCE_SCALING_FACTOR = 0.0209915
REFLECTANCE_SCALING_FACTOR = 0.00066189
MEX:REFLECTANCE_OFFSET = 0.0795686
/* IMAGE OBJECT DEFINITIONS */
OBJECT = IMAGE
  INTERCHANGE_FORMAT = BINARY
  LINES = 44212
  LINE_SAMPLES = 8373
  SAMPLE_TYPE = UNSIGNED_INTEGER
  SAMPLE_BITS = 8
  BANDS = 1
  BAND_STORAGE_TYPE = BAND_SEQUENTIAL
  MAXIMUM = 255
  MEAN = 135.412
  MINIMUM = 1
  STANDARD_DEVIATION = 29.2302
END_OBJECT = IMAGE
/* MAP OBJECT DEFINITIONS */
OBJECT = IMAGE_MAP_PROJECTION
  ^DATA_SET_MAP_PROJECTION_CATALOG= "DSMAP.CAT"
  A_AXIS_RADIUS = 3396.0
  B_AXIS_RADIUS = 3396.0
  C_AXIS_RADIUS = 3396.0
  CENTER_LATITUDE = 0.0
  CENTER_LONGITUDE = 296.0
  COORDINATE_SYSTEM_NAME = PLANETOGRAPHIC
  COORDINATE_SYSTEM_TYPE = "BODY-FIXED ROTATING"
  EASTERNMOST_LONGITUDE = 296.772
  FIRST_STANDARD_PARALLEL = "N/A"
  LINE_FIRST_PIXEL = 1
  LINE_LAST_PIXEL = 44212
  LINE_PROJECTION_OFFSET = 259482.0
  MAP_PROJECTION_ROTATION = 0.0
  MAP_PROJECTION_TYPE = SINUSOIDAL
  MAP_RESOLUTION = 4741.71043093333
  MAP_SCALE = 0.0125
  MAXIMUM_LATITUDE = 54.7178
  MINIMUM_LATITUDE = 45.3982
  POSITIVE_LONGITUDE_DIRECTION = EAST
  REFERENCE_LATITUDE = "N/A"
  REFERENCE_LONGITUDE = "N/A"
  SAMPLE_FIRST_PIXEL = 1
  SAMPLE_LAST_PIXEL = 8373
  SAMPLE_PROJECTION_OFFSET = 5800.0
  SECOND_STANDARD_PARALLEL = "N/A"
  WESTERNMOST_LONGITUDE = 293.885
END_OBJECT = IMAGE_MAP_PROJECTION
END
