PDS_VERSION_ID = PDS3
/* FILE DATA ELEMENTS */
RECORD_TYPE = UNDEFINED
/* POINTERS TO DATA OBJECTS */
^IMAGE = ("H5293_0000_IR4.TIF")
/* IDENTIFICATION DATA ELEMENTS */
DATA_SET_ID = "MEX-M-HRSC-4-REFDR-MAPPROJECT-EXT2-V4.0"
DATA_SET_NAME = "MARS EXPRESS HRSC MAP PROJECTED REFDR EXTENSION2 V4.0"
DETECTOR_ID = MEX_HRSC_IR
EVENT_TYPE = "MARS-REGIONAL-MAPPING-Vo-Te-Fl"
INSTRUMENT_HOST_ID = MEX
INSTRUMENT_HOST_NAME = "MARS EXPRESS"
INSTRUMENT_ID = HRSC
INSTRUMENT_NAME = "HIGH RESOLUTION STEREO CAMERA"
MISSION_NAME = "MARS EXPRESS"
MISSION_PHASE_NAME = ME_Phase_11
PROCESSING_LEVEL_ID = 4
PRODUCT_CREATION_TIME = 2023-02-01T12:09:47.000Z
PRODUCT_ID = "H5293_0000_IR4.TIF"
RELEASE_ID = 0001
REVISION_ID = 0000
/* QUALITY DATA ELEMENTS */
DATA_QUALITY_ID = 1
DATA_QUALITY_DESC = "Data calculated based on original SPICE kernels"
/* TIME DATA ELEMENTS */
SPACECRAFT_CLOCK_START_COUNT = "1/0151118672.08255"
SPACECRAFT_CLOCK_STOP_COUNT = "1/0151118899.14361"
START_TIME = 2008-02-15T01:24:44.266Z
STOP_TIME = 2008-02-15T01:27:18.969Z
/* ORBITAL DATA ELEMENTS */
ASCENDING_NODE_LONGITUDE = 118.05
MAXIMUM_RESOLUTION = 0.064
FOOTPRINT_POINT_LATITUDE = (54.7794,54.7715,54.7637,54.7542, 54.7431,54.7304,54.7112,54.7102,54.6219 ,54.4253,54.2282,53.9336,53.7406, 53.5493,53.3602,53.1683,52.9734,52.7809 ,52.5946,52.4061,52.2158,51.9328, 51.7457,51.5555,51.3669,51.1793,50.9944 ,50.8114,50.6266,50.3499,50.1656, 49.8904,49.6201,49.3493,49.1688,48.8074 ,48.4525,48.098,47.832,47.653,47.3824, 47.2017,46.8395,46.493,46.1351,45.954, 45.774,45.5029,45.4125,45.4027,45.4127, 45.4163,45.4204,45.4235,45.4236,45.4249 ,45.6071,45.7881,45.9691,46.15,46.4207, 46.6011,46.8721,47.1415,47.5,47.8554, 48.2048,48.5611,48.7408,48.9238,49.1093 ,49.2902,49.4722,49.7446,49.9253, 50.1063,50.2927,50.4771,50.6622,50.9395 ,51.1245,51.3126,51.4989,51.7821, 51.9731,52.1606,52.3528,52.5445,52.7363 ,52.9277,53.1184,53.3075,53.5021,53.697 ,53.8917,54.0871,54.2861,54.5837, 54.6827,54.7794)
FOOTPRINT_POINT_LONGITUDE = (296.596,296.054,295.643,295.233, 294.825,294.419,293.887,293.861,293.833 ,293.864,293.895,293.941,293.97,294.0, 294.029,294.058,294.084,294.11,294.138, 294.164,294.19,294.227,294.251,294.274, 294.297,294.32,294.343,294.365,294.387, 294.419,294.44,294.47,294.5,294.529, 294.548,294.585,294.621,294.656,294.681 ,294.698,294.722,294.738,294.768, 294.802,294.832,294.847,294.862,294.883 ,294.89,294.891,295.367,295.741,296.189 ,296.783,296.802,296.807,296.805, 296.803,296.801,296.799,296.797,296.794 ,296.791,296.788,296.784,296.782, 296.785,296.78,296.777,296.77,296.764, 296.763,296.76,296.757,296.755,296.753, 296.749,296.747,296.745,296.741,296.737 ,296.734,296.734,296.729,296.723,296.72 ,296.717,296.714,296.71,296.707,296.704 ,296.706,296.703,296.699,296.696, 296.692,296.688,296.681,296.679, 296.596)
ORBIT_NUMBER = 5293
ORBITAL_ECCENTRICITY = 0.572
ORBITAL_INCLINATION = 86.73
ORBITAL_SEMIMAJOR_AXIS = 8702.23
PERIAPSIS_ALTITUDE = 334.76
PERIAPSIS_ARGUMENT_ANGLE = 147.16
PERIAPSIS_TIME = 2008-02-15T01:31:02.000Z
SPACECRAFT_ORIENTATION = (0.0,-1.0,0.0)
^MEX_ORIENTATION_DESC = "MEX_ORIENTATION_DESC.TXT"
SPACECRAFT_POINTING_MODE = ACROSSTRACK
^MEX_POINTING_DESC = "MEX_POINTING_DESC.TXT"
RIGHT_ASCENSION = -1e+32
DECLINATION = -1e+32
OFFSET_ANGLE = 0.3
SPACECRAFT_SOLAR_DISTANCE = 2.4363e+08
TARGET_NAME = MARS
/* CAMERA DATA ELEMENTS */
DETECTOR_TEMPERATURE = 17.5549
FOCAL_PLANE_TEMPERATURE = 8.3794
INST_CMPRS_NAME = "DISCRETE COSINE TRANSFORMATION (DCT)"
INST_CMPRS_RATIO = 17.2485
INST_CMPRS_QUALITY = 0
INST_CMPRS_QUANTZ_TBL_ID = 0
INSTRUMENT_TEMPERATURE = 11.4379
LENS_TEMPERATURE = 8.9911
MACROPIXEL_SIZE = 4
MISSING_FRAMES = 0
PIXEL_SUBSAMPLING_FLAG = N
SIGNAL_CHAIN_ID = 2
/* RADIOMETRIC DATA ELEMENTS */
BANDWIDTH = 81.0
CENTER_FILTER_WAVELENGTH = 955.5
RADIANCE_OFFSET = 0.61896
RADIANCE_SCALING_FACTOR = 0.00578267
REFLECTANCE_SCALING_FACTOR = 0.000740483
MEX:REFLECTANCE_OFFSET = 0.0792591
/* IMAGE OBJECT DEFINITIONS */
OBJECT = IMAGE
  INTERCHANGE_FORMAT = BINARY
  LINES = 11053
  LINE_SAMPLES = 2094
  SAMPLE_TYPE = UNSIGNED_INTEGER
  SAMPLE_BITS = 8
  BANDS = 1
  BAND_STORAGE_TYPE = BAND_SEQUENTIAL
  MAXIMUM = 255
  MEAN = 134.096
  MINIMUM = 1
  STANDARD_DEVIATION = 30.5082
END_OBJECT = IMAGE
/* MAP OBJECT DEFINITIONS */
OBJECT = IMAGE_MAP_PROJECTION
  ^DATA_SET_MAP_PROJECTION_CATALOG= "DSMAP.CAT"
  A_AXIS_RADIUS = 3396.0
  B_AXIS_RADIUS = 3396.0
  C_AXIS_RADIUS = 3396.0
  CENTER_LATITUDE = 0.0
  CENTER_LONGITUDE = 296.0
  COORDINATE_SYSTEM_NAME = PLANETOGRAPHIC
  COORDINATE_SYSTEM_TYPE = "BODY-FIXED ROTATING"
  EASTERNMOST_LONGITUDE = 296.807
  FIRST_STANDARD_PARALLEL = "N/A"
  LINE_FIRST_PIXEL = 1
  LINE_LAST_PIXEL = 11053
  LINE_PROJECTION_OFFSET = 64870.125
  MAP_PROJECTION_ROTATION = 0.0
  MAP_PROJECTION_TYPE = SINUSOIDAL
  MAP_RESOLUTION = 1185.42760773333
  MAP_SCALE = 0.05
  MAXIMUM_LATITUDE = 54.7794
  MINIMUM_LATITUDE = 45.4027
  POSITIVE_LONGITUDE_DIRECTION = EAST
  REFERENCE_LATITUDE = "N/A"
  REFERENCE_LONGITUDE = "N/A"
  SAMPLE_FIRST_PIXEL = 1
  SAMPLE_LAST_PIXEL = 2094
  SAMPLE_PROJECTION_OFFSET = 1449.625
  SECOND_STANDARD_PARALLEL = "N/A"
  WESTERNMOST_LONGITUDE = 293.833
END_OBJECT = IMAGE_MAP_PROJECTION
END
