PDS_VERSION_ID = PDS3
/* FILE DATA ELEMENTS */
RECORD_TYPE = UNDEFINED
/* POINTERS TO DATA OBJECTS */
^IMAGE = ("H5279_0001_S14.TIF")
/* IDENTIFICATION DATA ELEMENTS */
DATA_SET_ID = "MEX-M-HRSC-4-REFDR-MAPPROJECT-EXT2-V4.0"
DATA_SET_NAME = "MARS EXPRESS HRSC MAP PROJECTED REFDR EXTENSION2 V4.0"
DETECTOR_ID = MEX_HRSC_S1
EVENT_TYPE = "MARS-REGIONAL-MAPPING-Vo-Te"
INSTRUMENT_HOST_ID = MEX
INSTRUMENT_HOST_NAME = "MARS EXPRESS"
INSTRUMENT_ID = HRSC
INSTRUMENT_NAME = "HIGH RESOLUTION STEREO CAMERA"
MISSION_NAME = "MARS EXPRESS"
MISSION_PHASE_NAME = ME_Phase_11
PROCESSING_LEVEL_ID = 4
PRODUCT_CREATION_TIME = 2023-02-01T12:09:47.000Z
PRODUCT_ID = "H5279_0001_S14.TIF"
RELEASE_ID = 0001
REVISION_ID = 0000
/* QUALITY DATA ELEMENTS */
DATA_QUALITY_ID = 1
DATA_QUALITY_DESC = "Data calculated based on original SPICE kernels"
/* TIME DATA ELEMENTS */
SPACECRAFT_CLOCK_START_COUNT = "1/0150774588.08243"
SPACECRAFT_CLOCK_STOP_COUNT = "1/0150774795.52784"
START_TIME = 2008-02-11T01:49:51.917Z
STOP_TIME = 2008-02-11T01:51:22.798Z
/* ORBITAL DATA ELEMENTS */
ASCENDING_NODE_LONGITUDE = 118.34
MAXIMUM_RESOLUTION = 0.0381
FOOTPRINT_POINT_LATITUDE = (3.2652,3.26893,3.27256,3.27612,3.27956 ,3.28289,3.28608,3.28916,3.29213, 3.29498,3.29771,3.30033,3.30468,3.30498 ,3.34697,3.12853,2.9649,2.74674,2.413, 2.19016,2.02314,1.80049,1.46017,1.23274 ,1.00563,0.776901,0.660883,0.428968, 0.197265,-0.0343505,-0.21169,-0.329951, -0.448108,-0.566286,-0.684393,-0.802373 ,-0.980932,-1.10135,-1.22174,-1.34216, -1.46249,-1.58276,-1.7029,-1.82475, -1.94721,-2.06971,-2.19227,-2.37539, -2.43654,-2.48734,-2.49195,-2.49391, -2.49749,-2.50161,-2.50473,-2.50976, -2.51333,-2.51677,-2.52108,-2.52516, -2.53315,-2.53371,-2.53325,-2.41102, -2.28831,-2.10433,-1.98141,-1.85939, -1.73781,-1.55734,-1.43703,-1.31635, -1.13573,-1.01539,-0.896067,-0.719104, -0.601106,-0.482726,-0.364412,-0.246047 ,-0.0687319,0.16301,0.33682,0.452837, 0.568948,0.685148,0.801339,1.02884, 1.1995,1.37024,1.59797,1.82316,1.99015, 2.213,2.4919,2.71393,2.93202,3.20475, 3.25933,3.2652)
FOOTPRINT_POINT_LONGITUDE = (257.933,257.808,257.683,257.558, 257.434,257.31,257.185,257.062,256.938, 256.815,256.691,256.568,256.353,256.338 ,256.341,256.335,256.331,256.325, 256.315,256.309,256.304,256.298,256.288 ,256.281,256.274,256.267,256.264, 256.257,256.25,256.242,256.237,256.233, 256.229,256.225,256.222,256.218,256.212 ,256.208,256.204,256.2,256.196,256.192, 256.188,256.184,256.18,256.176,256.172, 256.165,256.163,256.162,256.368,256.49, 256.628,256.819,256.958,257.132,257.271 ,257.393,257.551,257.673,257.937, 257.954,257.961,257.959,257.958,257.957 ,257.955,257.955,257.954,257.952, 257.951,257.95,257.949,257.948,257.947, 257.945,257.944,257.943,257.942,257.941 ,257.94,257.938,257.937,257.936,257.935 ,257.934,257.933,257.932,257.93,257.929 ,257.928,257.926,257.925,257.924, 257.922,257.92,257.919,257.917,257.917, 257.933)
ORBIT_NUMBER = 5279
ORBITAL_ECCENTRICITY = 0.573
ORBITAL_INCLINATION = 86.73
ORBITAL_SEMIMAJOR_AXIS = 8715.41
PERIAPSIS_ALTITUDE = 333.12
PERIAPSIS_ARGUMENT_ANGLE = 149.6
PERIAPSIS_TIME = 2008-02-11T01:43:29.000Z
SPACECRAFT_ORIENTATION = (0.0,-1.0,0.0)
^MEX_ORIENTATION_DESC = "MEX_ORIENTATION_DESC.TXT"
SPACECRAFT_POINTING_MODE = ACROSSTRACK
^MEX_POINTING_DESC = "MEX_POINTING_DESC.TXT"
RIGHT_ASCENSION = -1e+32
DECLINATION = -1e+32
OFFSET_ANGLE = 0.3
SPACECRAFT_SOLAR_DISTANCE = 2.43129e+08
TARGET_NAME = MARS
/* CAMERA DATA ELEMENTS */
DETECTOR_TEMPERATURE = 18.3705
FOCAL_PLANE_TEMPERATURE = 8.3794
INST_CMPRS_NAME = "DISCRETE COSINE TRANSFORMATION (DCT)"
INST_CMPRS_RATIO = 11.9158
INST_CMPRS_QUALITY = 0
INST_CMPRS_QUANTZ_TBL_ID = 0
INSTRUMENT_TEMPERATURE = 12.6613
LENS_TEMPERATURE = 8.7872
MACROPIXEL_SIZE = 2
MISSING_FRAMES = 0
PIXEL_SUBSAMPLING_FLAG = N
SIGNAL_CHAIN_ID = 1
/* RADIOMETRIC DATA ELEMENTS */
BANDWIDTH = 180.0
CENTER_FILTER_WAVELENGTH = 677.0
RADIANCE_OFFSET = 4.70146
RADIANCE_SCALING_FACTOR = 0.0217893
REFLECTANCE_SCALING_FACTOR = 0.000671987
MEX:REFLECTANCE_OFFSET = 0.144994
/* IMAGE OBJECT DEFINITIONS */
OBJECT = IMAGE
  INTERCHANGE_FORMAT = BINARY
  LINES = 6953
  LINE_SAMPLES = 2290
  SAMPLE_TYPE = UNSIGNED_INTEGER
  SAMPLE_BITS = 8
  BANDS = 1
  BAND_STORAGE_TYPE = BAND_SEQUENTIAL
  MAXIMUM = 255
  MEAN = 152.626
  MINIMUM = 1
  STANDARD_DEVIATION = 15.4872
END_OBJECT = IMAGE
/* MAP OBJECT DEFINITIONS */
OBJECT = IMAGE_MAP_PROJECTION
  ^DATA_SET_MAP_PROJECTION_CATALOG= "DSMAP.CAT"
  A_AXIS_RADIUS = 3396.0
  B_AXIS_RADIUS = 3396.0
  C_AXIS_RADIUS = 3396.0
  CENTER_LATITUDE = 0.0
  CENTER_LONGITUDE = 257.0
  COORDINATE_SYSTEM_NAME = PLANETOGRAPHIC
  COORDINATE_SYSTEM_TYPE = "BODY-FIXED ROTATING"
  EASTERNMOST_LONGITUDE = 257.961
  FIRST_STANDARD_PARALLEL = "N/A"
  LINE_FIRST_PIXEL = 1
  LINE_LAST_PIXEL = 6953
  LINE_PROJECTION_OFFSET = 3917.25
  MAP_PROJECTION_ROTATION = 0.0
  MAP_PROJECTION_TYPE = SINUSOIDAL
  MAP_RESOLUTION = 1185.42760773333
  MAP_SCALE = 0.05
  MAXIMUM_LATITUDE = 3.34697
  MINIMUM_LATITUDE = -2.53371
  POSITIVE_LONGITUDE_DIRECTION = EAST
  REFERENCE_LATITUDE = "N/A"
  REFERENCE_LONGITUDE = "N/A"
  SAMPLE_FIRST_PIXEL = 1
  SAMPLE_LAST_PIXEL = 2290
  SAMPLE_PROJECTION_OFFSET = 1078.75
  SECOND_STANDARD_PARALLEL = "N/A"
  WESTERNMOST_LONGITUDE = 256.162
END_OBJECT = IMAGE_MAP_PROJECTION
END
