PDS_VERSION_ID = PDS3
/* FILE DATA ELEMENTS */
RECORD_TYPE = UNDEFINED
/* POINTERS TO DATA OBJECTS */
^IMAGE = ("H5279_0001_IR4.TIF")
/* IDENTIFICATION DATA ELEMENTS */
DATA_SET_ID = "MEX-M-HRSC-4-REFDR-MAPPROJECT-EXT2-V4.0"
DATA_SET_NAME = "MARS EXPRESS HRSC MAP PROJECTED REFDR EXTENSION2 V4.0"
DETECTOR_ID = MEX_HRSC_IR
EVENT_TYPE = "MARS-REGIONAL-MAPPING-Vo-Te"
INSTRUMENT_HOST_ID = MEX
INSTRUMENT_HOST_NAME = "MARS EXPRESS"
INSTRUMENT_ID = HRSC
INSTRUMENT_NAME = "HIGH RESOLUTION STEREO CAMERA"
MISSION_NAME = "MARS EXPRESS"
MISSION_PHASE_NAME = ME_Phase_11
PROCESSING_LEVEL_ID = 4
PRODUCT_CREATION_TIME = 2023-02-01T12:09:47.000Z
PRODUCT_ID = "H5279_0001_IR4.TIF"
RELEASE_ID = 0001
REVISION_ID = 0000
/* QUALITY DATA ELEMENTS */
DATA_QUALITY_ID = 1
DATA_QUALITY_DESC = "Data calculated based on original SPICE kernels"
/* TIME DATA ELEMENTS */
SPACECRAFT_CLOCK_START_COUNT = "1/0150774588.08243"
SPACECRAFT_CLOCK_STOP_COUNT = "1/0150774795.52784"
START_TIME = 2008-02-11T01:49:58.928Z
STOP_TIME = 2008-02-11T01:51:31.189Z
/* ORBITAL DATA ELEMENTS */
ASCENDING_NODE_LONGITUDE = 118.34
MAXIMUM_RESOLUTION = 0.1514
FOOTPRINT_POINT_LATITUDE = (3.26974,3.27416,3.27727,3.2803,3.28326 ,3.28614,3.28889,3.29156,3.29412, 3.29659,3.29898,3.30291,3.30504,3.30531 ,3.33814,3.17972,3.01812,2.80214, 2.64018,2.47837,2.26272,1.98834,1.76807 ,1.60308,1.3282,1.1599,0.879362,0.65507 ,0.486998,0.316339,0.202004,0.0876426, -0.0838623,-0.255147,-0.484923, -0.601485,-0.717981,-0.834394,-0.950703 ,-1.067,-1.18323,-1.36035,-1.47894, -1.59747,-1.71584,-1.83409,-1.95201, -2.13189,-2.25252,-2.43302,-2.49323, -2.50633,-2.50948,-2.5119,-2.51617, -2.51839,-2.52134,-2.52544,-2.53187, -2.53635,-2.53959,-2.54347,-2.54798, -2.54845,-2.54613,-2.36519,-2.24443, -2.12347,-2.00355,-1.88538,-1.76771, -1.58985,-1.47125,-1.35236,-1.23419, -1.05995,-0.885459,-0.710843,-0.594397, -0.477617,-0.362894,-0.134235,0.094519, 0.209014,0.437152,0.661554,0.942365, 1.1672,1.3347,1.55484,1.83012,2.10551, 2.32287,2.48471,2.70062,2.86263,3.02469 ,3.23804,3.29086,3.26974)
FOOTPRINT_POINT_LONGITUDE = (257.937,257.771,257.65,257.529,257.409 ,257.289,257.168,257.048,256.929, 256.809,256.69,256.481,256.362,256.347, 256.348,256.343,256.339,256.333,256.328 ,256.324,256.318,256.31,256.303,256.299 ,256.29,256.285,256.277,256.27,256.265, 256.26,256.256,256.253,256.247,256.242, 256.234,256.231,256.227,256.223,256.219 ,256.216,256.212,256.206,256.202, 256.198,256.194,256.19,256.186,256.18, 256.176,256.17,256.167,256.167,256.315, 256.45,256.652,256.77,256.904,257.09, 257.327,257.497,257.633,257.802,257.939 ,257.956,257.968,257.966,257.965, 257.964,257.962,257.961,257.961,257.959 ,257.958,257.957,257.956,257.954, 257.953,257.951,257.95,257.949,257.948, 257.946,257.945,257.944,257.942,257.94, 257.938,257.936,257.935,257.933,257.931 ,257.929,257.928,257.927,257.925, 257.924,257.923,257.922,257.921, 257.937)
ORBIT_NUMBER = 5279
ORBITAL_ECCENTRICITY = 0.573
ORBITAL_INCLINATION = 86.73
ORBITAL_SEMIMAJOR_AXIS = 8715.41
PERIAPSIS_ALTITUDE = 333.12
PERIAPSIS_ARGUMENT_ANGLE = 149.6
PERIAPSIS_TIME = 2008-02-11T01:43:29.000Z
SPACECRAFT_ORIENTATION = (0.0,-1.0,0.0)
^MEX_ORIENTATION_DESC = "MEX_ORIENTATION_DESC.TXT"
SPACECRAFT_POINTING_MODE = ACROSSTRACK
^MEX_POINTING_DESC = "MEX_POINTING_DESC.TXT"
RIGHT_ASCENSION = -1e+32
DECLINATION = -1e+32
OFFSET_ANGLE = 0.3
SPACECRAFT_SOLAR_DISTANCE = 2.43129e+08
TARGET_NAME = MARS
/* CAMERA DATA ELEMENTS */
DETECTOR_TEMPERATURE = 18.3705
FOCAL_PLANE_TEMPERATURE = 8.3794
INST_CMPRS_NAME = "DISCRETE COSINE TRANSFORMATION (DCT)"
INST_CMPRS_RATIO = 18.8786
INST_CMPRS_QUALITY = 0
INST_CMPRS_QUANTZ_TBL_ID = 0
INSTRUMENT_TEMPERATURE = 12.6613
LENS_TEMPERATURE = 8.7872
MACROPIXEL_SIZE = 8
MISSING_FRAMES = 0
PIXEL_SUBSAMPLING_FLAG = N
SIGNAL_CHAIN_ID = 2
/* RADIOMETRIC DATA ELEMENTS */
BANDWIDTH = 81.0
CENTER_FILTER_WAVELENGTH = 955.5
RADIANCE_OFFSET = 1.21632
RADIANCE_SCALING_FACTOR = 0.00553306
REFLECTANCE_SCALING_FACTOR = 0.000705618
MEX:REFLECTANCE_OFFSET = 0.155114
/* IMAGE OBJECT DEFINITIONS */
OBJECT = IMAGE
  INTERCHANGE_FORMAT = BINARY
  LINES = 1739
  LINE_SAMPLES = 573
  SAMPLE_TYPE = UNSIGNED_INTEGER
  SAMPLE_BITS = 8
  BANDS = 1
  BAND_STORAGE_TYPE = BAND_SEQUENTIAL
  MAXIMUM = 255
  MEAN = 154.777
  MINIMUM = 1
  STANDARD_DEVIATION = 17.1099
END_OBJECT = IMAGE
/* MAP OBJECT DEFINITIONS */
OBJECT = IMAGE_MAP_PROJECTION
  ^DATA_SET_MAP_PROJECTION_CATALOG= "DSMAP.CAT"
  A_AXIS_RADIUS = 3396.0
  B_AXIS_RADIUS = 3396.0
  C_AXIS_RADIUS = 3396.0
  CENTER_LATITUDE = 0.0
  CENTER_LONGITUDE = 257.0
  COORDINATE_SYSTEM_NAME = PLANETOGRAPHIC
  COORDINATE_SYSTEM_TYPE = "BODY-FIXED ROTATING"
  EASTERNMOST_LONGITUDE = 257.968
  FIRST_STANDARD_PARALLEL = "N/A"
  LINE_FIRST_PIXEL = 1
  LINE_LAST_PIXEL = 1739
  LINE_PROJECTION_OFFSET = 978.9375
  MAP_PROJECTION_ROTATION = 0.0
  MAP_PROJECTION_TYPE = SINUSOIDAL
  MAP_RESOLUTION = 296.356901933333
  MAP_SCALE = 0.2
  MAXIMUM_LATITUDE = 3.33814
  MINIMUM_LATITUDE = -2.54845
  POSITIVE_LONGITUDE_DIRECTION = EAST
  REFERENCE_LATITUDE = "N/A"
  REFERENCE_LONGITUDE = "N/A"
  SAMPLE_FIRST_PIXEL = 1
  SAMPLE_LAST_PIXEL = 573
  SAMPLE_PROJECTION_OFFSET = 269.3125
  SECOND_STANDARD_PARALLEL = "N/A"
  WESTERNMOST_LONGITUDE = 256.167
END_OBJECT = IMAGE_MAP_PROJECTION
END
