PDS_VERSION_ID = PDS3
/* FILE DATA ELEMENTS */
RECORD_TYPE = UNDEFINED
/* POINTERS TO DATA OBJECTS */
^IMAGE = ("H5267_0000_BL4.TIF")
/* IDENTIFICATION DATA ELEMENTS */
DATA_SET_ID = "MEX-M-HRSC-4-REFDR-MAPPROJECT-EXT2-V4.0"
DATA_SET_NAME = "MARS EXPRESS HRSC MAP PROJECTED REFDR EXTENSION2 V4.0"
DETECTOR_ID = MEX_HRSC_BLUE
EVENT_TYPE = "MARS-REGIONAL-MAPPING-Fl-Gl-Lc"
INSTRUMENT_HOST_ID = MEX
INSTRUMENT_HOST_NAME = "MARS EXPRESS"
INSTRUMENT_ID = HRSC
INSTRUMENT_NAME = "HIGH RESOLUTION STEREO CAMERA"
MISSION_NAME = "MARS EXPRESS"
MISSION_PHASE_NAME = ME_Phase_11
PROCESSING_LEVEL_ID = 4
PRODUCT_CREATION_TIME = 2023-02-01T12:09:47.000Z
PRODUCT_ID = "H5267_0000_BL4.TIF"
RELEASE_ID = 0001
REVISION_ID = 0000
/* QUALITY DATA ELEMENTS */
DATA_QUALITY_ID = 1
DATA_QUALITY_DESC = "Data calculated based on original SPICE kernels"
/* TIME DATA ELEMENTS */
SPACECRAFT_CLOCK_START_COUNT = "1/0150478360.08264"
SPACECRAFT_CLOCK_STOP_COUNT = "1/0150478670.31290"
START_TIME = 2008-02-07T15:33:26.151Z
STOP_TIME = 2008-02-07T15:37:27.178Z
/* ORBITAL DATA ELEMENTS */
ASCENDING_NODE_LONGITUDE = 118.59
MAXIMUM_RESOLUTION = 0.1069
FOOTPRINT_POINT_LATITUDE = (42.3218,42.3125,42.301,42.2827,42.2822 ,42.2918,41.9238,41.5548,41.0095, 40.6994,40.235,39.9242,39.613,39.3025, 38.9911,38.6797,38.2123,37.9006,37.5899 ,37.277,36.8082,36.3395,35.8702,35.5573 ,35.0878,34.6177,34.1473,33.8339, 33.5201,33.2065,32.9012,32.2952,31.687, 31.3821,31.0781,30.4705,30.0147,29.7107 ,29.2549,28.9508,28.6469,28.3431, 28.0392,27.7354,27.2798,26.8241,26.6723 ,26.6422,26.6456,26.6481,26.6493, 26.6494,26.6511,27.1072,27.4113,27.7156 ,28.0197,28.3244,28.6285,28.9329, 29.2371,29.5418,29.999,30.3038,30.7594, 31.0639,31.3683,31.673,31.9772,32.2822, 32.5865,32.8905,33.1958,33.5099,33.8238 ,34.1385,34.4521,34.766,35.2369,35.5506 ,35.8642,36.1777,36.4922,36.8055, 37.1189,37.5879,38.0562,38.3683,38.681, 38.9932,39.3053,39.7739,40.0858,40.397, 40.7079,41.0183,41.5594,42.1145,42.2996 ,42.3218)
FOOTPRINT_POINT_LONGITUDE = (17.6776,17.1661,16.6501,15.9821, 15.9657,15.9096,15.9358,15.9639,16.0072 ,16.03,16.0588,16.0807,16.1031,16.1212, 16.1418,16.1611,16.1891,16.2064,16.2193 ,16.239,16.2651,16.2884,16.3119,16.3265 ,16.3474,16.3689,16.3896,16.4021, 16.4149,16.4269,16.4387,16.4552,16.4778 ,16.4912,16.5008,16.5182,16.5307, 16.5391,16.5507,16.5588,16.5661,16.573, 16.58,16.5867,16.5961,16.6056,16.6087, 16.6094,17.0023,17.527,17.8885,17.9005, 17.9085,17.9043,17.9015,17.8986,17.8957 ,17.8929,17.8898,17.8867,17.8836, 17.8805,17.876,17.873,17.8674,17.864, 17.8606,17.8572,17.8536,17.8503,17.8466 ,17.8427,17.8392,17.8351,17.8309,17.827 ,17.8225,17.8183,17.8117,17.8072, 17.8027,17.7981,17.794,17.7893,17.7846, 17.7769,17.7687,17.7632,17.7581,17.7527 ,17.7472,17.7395,17.7339,17.728,17.7219 ,17.7154,17.7049,17.6932,17.6894, 17.6776)
ORBIT_NUMBER = 5267
ORBITAL_ECCENTRICITY = 0.572
ORBITAL_INCLINATION = 86.72
ORBITAL_SEMIMAJOR_AXIS = 8709.68
PERIAPSIS_ALTITUDE = 332.44
PERIAPSIS_ARGUMENT_ANGLE = 151.73
PERIAPSIS_TIME = 2008-02-07T15:36:58.000Z
SPACECRAFT_ORIENTATION = (0.0,-1.0,0.0)
^MEX_ORIENTATION_DESC = "MEX_ORIENTATION_DESC.TXT"
SPACECRAFT_POINTING_MODE = ACROSSTRACK
^MEX_POINTING_DESC = "MEX_POINTING_DESC.TXT"
RIGHT_ASCENSION = -1e+32
DECLINATION = -1e+32
OFFSET_ANGLE = -0.4
SPACECRAFT_SOLAR_DISTANCE = 2.42685e+08
TARGET_NAME = MARS
/* CAMERA DATA ELEMENTS */
DETECTOR_TEMPERATURE = 18.1666
FOCAL_PLANE_TEMPERATURE = 8.1755
INST_CMPRS_NAME = "DISCRETE COSINE TRANSFORMATION (DCT)"
INST_CMPRS_RATIO = 17.6909
INST_CMPRS_QUALITY = 0
INST_CMPRS_QUANTZ_TBL_ID = 0
INSTRUMENT_TEMPERATURE = 11.234
LENS_TEMPERATURE = 8.5833
MACROPIXEL_SIZE = 8
MISSING_FRAMES = 0
PIXEL_SUBSAMPLING_FLAG = N
SIGNAL_CHAIN_ID = 2
/* RADIOMETRIC DATA ELEMENTS */
BANDWIDTH = 76.0
CENTER_FILTER_WAVELENGTH = 444.0
RADIANCE_OFFSET = 0.475388
RADIANCE_SCALING_FACTOR = 0.00183801
REFLECTANCE_SCALING_FACTOR = 0.000111221
MEX:REFLECTANCE_OFFSET = 0.0287666
/* IMAGE OBJECT DEFINITIONS */
OBJECT = IMAGE
  INTERCHANGE_FORMAT = BINARY
  LINES = 9313
  LINE_SAMPLES = 973
  SAMPLE_TYPE = UNSIGNED_INTEGER
  SAMPLE_BITS = 8
  BANDS = 1
  BAND_STORAGE_TYPE = BAND_SEQUENTIAL
  MAXIMUM = 255
  MEAN = 144.831
  MINIMUM = 1
  STANDARD_DEVIATION = 28.3869
END_OBJECT = IMAGE
/* MAP OBJECT DEFINITIONS */
OBJECT = IMAGE_MAP_PROJECTION
  ^DATA_SET_MAP_PROJECTION_CATALOG= "DSMAP.CAT"
  A_AXIS_RADIUS = 3396.0
  B_AXIS_RADIUS = 3396.0
  C_AXIS_RADIUS = 3396.0
  CENTER_LATITUDE = 0.0
  CENTER_LONGITUDE = 17.0
  COORDINATE_SYSTEM_NAME = PLANETOGRAPHIC
  COORDINATE_SYSTEM_TYPE = "BODY-FIXED ROTATING"
  EASTERNMOST_LONGITUDE = 17.9085
  FIRST_STANDARD_PARALLEL = "N/A"
  LINE_FIRST_PIXEL = 1
  LINE_LAST_PIXEL = 9313
  LINE_PROJECTION_OFFSET = 25099.9375
  MAP_PROJECTION_ROTATION = 0.0
  MAP_PROJECTION_TYPE = SINUSOIDAL
  MAP_RESOLUTION = 592.713803866667
  MAP_SCALE = 0.1
  MAXIMUM_LATITUDE = 42.3218
  MINIMUM_LATITUDE = 26.6422
  POSITIVE_LONGITUDE_DIRECTION = EAST
  REFERENCE_LATITUDE = "N/A"
  REFERENCE_LONGITUDE = "N/A"
  SAMPLE_FIRST_PIXEL = 1
  SAMPLE_LAST_PIXEL = 973
  SAMPLE_PROJECTION_OFFSET = 490.8125
  SECOND_STANDARD_PARALLEL = "N/A"
  WESTERNMOST_LONGITUDE = 15.9096
END_OBJECT = IMAGE_MAP_PROJECTION
END
