PDS_VERSION_ID = PDS3
/* FILE DATA ELEMENTS */
RECORD_TYPE = UNDEFINED
/* POINTERS TO DATA OBJECTS */
^IMAGE = ("H5261_0000_S24.TIF")
/* IDENTIFICATION DATA ELEMENTS */
DATA_SET_ID = "MEX-M-HRSC-4-REFDR-MAPPROJECT-EXT2-V4.0"
DATA_SET_NAME = "MARS EXPRESS HRSC MAP PROJECTED REFDR EXTENSION2 V4.0"
DETECTOR_ID = MEX_HRSC_S2
EVENT_TYPE = "MARS-REGIONAL-MAPPING-Vo-Te"
INSTRUMENT_HOST_ID = MEX
INSTRUMENT_HOST_NAME = "MARS EXPRESS"
INSTRUMENT_ID = HRSC
INSTRUMENT_NAME = "HIGH RESOLUTION STEREO CAMERA"
MISSION_NAME = "MARS EXPRESS"
MISSION_PHASE_NAME = ME_Phase_11
PROCESSING_LEVEL_ID = 4
PRODUCT_CREATION_TIME = 2023-02-01T12:09:47.000Z
PRODUCT_ID = "H5261_0000_S24.TIF"
RELEASE_ID = 0001
REVISION_ID = 0000
/* QUALITY DATA ELEMENTS */
DATA_QUALITY_ID = 1
DATA_QUALITY_DESC = "Data calculated based on original SPICE kernels"
/* TIME DATA ELEMENTS */
SPACECRAFT_CLOCK_START_COUNT = "1/0150330820.08232"
SPACECRAFT_CLOCK_STOP_COUNT = "1/0150331023.16895"
START_TIME = 2008-02-05T22:34:43.077Z
STOP_TIME = 2008-02-05T22:37:05.080Z
/* ORBITAL DATA ELEMENTS */
ASCENDING_NODE_LONGITUDE = 118.71
MAXIMUM_RESOLUTION = 0.0282
FOOTPRINT_POINT_LATITUDE = (25.6716,25.6671,25.6639,25.6608, 25.6547,25.6512,25.651,25.653,25.4732, 25.204,24.9341,24.7546,24.4857,24.3066, 24.1277,23.7703,23.413,23.0561,22.7, 22.3442,22.1625,21.979,21.7038,21.5207, 21.3377,21.1549,20.8808,20.6069,20.4246 ,20.2424,20.0604,19.8784,19.6966, 19.4241,19.1521,18.9707,18.7895,18.6084 ,18.4275,18.1561,17.9757,17.7955, 17.6154,17.4354,17.1657,16.9855,16.7158 ,16.6261,16.6121,16.6136,16.6165, 16.6189,16.6239,16.6241,16.6245,16.804, 16.984,17.1646,17.3449,17.5249,17.7051, 17.8855,18.0659,18.2465,18.4273,18.6085 ,18.7896,18.9709,19.1523,19.3338, 19.5154,19.6971,19.8792,20.0612,20.2434 ,20.4258,20.6083,20.791,21.0653,21.2483 ,21.4314,21.6146,21.798,21.9815,22.1652 ,22.4363,22.7924,23.2379,23.5058, 23.8635,24.0426,24.2216,24.4009,24.5803 ,24.8493,25.1189,25.2988,25.5688, 25.6588,25.6716)
FOOTPRINT_POINT_LONGITUDE = (258.984,258.696,258.495,258.296, 257.923,257.712,257.7,257.695,257.697, 257.699,257.701,257.702,257.704,257.705 ,257.706,257.708,257.71,257.711,257.713 ,257.714,257.714,257.714,257.715, 257.715,257.715,257.715,257.715,257.715 ,257.715,257.714,257.714,257.714, 257.713,257.712,257.712,257.711,257.71, 257.71,257.709,257.708,257.707,257.706, 257.705,257.703,257.702,257.701,257.699 ,257.698,257.698,257.976,258.343, 258.598,258.994,259.007,259.012,259.011 ,259.011,259.011,259.01,259.01,259.009, 259.009,259.008,259.008,259.007,259.007 ,259.006,259.006,259.005,259.004, 259.004,259.003,259.003,259.002,259.002 ,259.001,259.0,259.0,258.999,258.999, 258.998,258.997,258.997,258.996,258.996 ,258.995,258.994,258.992,258.991,258.99 ,258.99,258.989,258.989,258.988,258.987 ,258.987,258.986,258.985,258.985, 258.984)
ORBIT_NUMBER = 5261
ORBITAL_ECCENTRICITY = 0.573
ORBITAL_INCLINATION = 86.72
ORBITAL_SEMIMAJOR_AXIS = 8720.39
PERIAPSIS_ALTITUDE = 331.22
PERIAPSIS_ARGUMENT_ANGLE = 152.78
PERIAPSIS_TIME = 2008-02-05T22:33:50.000Z
SPACECRAFT_ORIENTATION = (0.0,-1.0,0.0)
^MEX_ORIENTATION_DESC = "MEX_ORIENTATION_DESC.TXT"
SPACECRAFT_POINTING_MODE = ACROSSTRACK
^MEX_POINTING_DESC = "MEX_POINTING_DESC.TXT"
RIGHT_ASCENSION = -1e+32
DECLINATION = -1e+32
OFFSET_ANGLE = 0.2
SPACECRAFT_SOLAR_DISTANCE = 2.42458e+08
TARGET_NAME = MARS
/* CAMERA DATA ELEMENTS */
DETECTOR_TEMPERATURE = 18.3705
FOCAL_PLANE_TEMPERATURE = 8.5833
INST_CMPRS_NAME = "DISCRETE COSINE TRANSFORMATION (DCT)"
INST_CMPRS_RATIO = 10.0758
INST_CMPRS_QUALITY = 0
INST_CMPRS_QUANTZ_TBL_ID = 0
INSTRUMENT_TEMPERATURE = 11.0301
LENS_TEMPERATURE = 9.195
MACROPIXEL_SIZE = 2
MISSING_FRAMES = 0
PIXEL_SUBSAMPLING_FLAG = N
SIGNAL_CHAIN_ID = 1
/* RADIOMETRIC DATA ELEMENTS */
BANDWIDTH = 178.0
CENTER_FILTER_WAVELENGTH = 679.0
RADIANCE_OFFSET = 3.78055
RADIANCE_SCALING_FACTOR = 0.0253384
REFLECTANCE_SCALING_FACTOR = 0.000788826
MEX:REFLECTANCE_OFFSET = 0.117695
/* IMAGE OBJECT DEFINITIONS */
OBJECT = IMAGE
  INTERCHANGE_FORMAT = BINARY
  LINES = 21441
  LINE_SAMPLES = 2880
  SAMPLE_TYPE = UNSIGNED_INTEGER
  SAMPLE_BITS = 8
  BANDS = 1
  BAND_STORAGE_TYPE = BAND_SEQUENTIAL
  MAXIMUM = 255
  MEAN = 176.454
  MINIMUM = 1
  STANDARD_DEVIATION = 16.4067
END_OBJECT = IMAGE
/* MAP OBJECT DEFINITIONS */
OBJECT = IMAGE_MAP_PROJECTION
  ^DATA_SET_MAP_PROJECTION_CATALOG= "DSMAP.CAT"
  A_AXIS_RADIUS = 3396.0
  B_AXIS_RADIUS = 3396.0
  C_AXIS_RADIUS = 3396.0
  CENTER_LATITUDE = 0.0
  CENTER_LONGITUDE = 258.0
  COORDINATE_SYSTEM_NAME = PLANETOGRAPHIC
  COORDINATE_SYSTEM_TYPE = "BODY-FIXED ROTATING"
  EASTERNMOST_LONGITUDE = 259.012
  FIRST_STANDARD_PARALLEL = "N/A"
  LINE_FIRST_PIXEL = 1
  LINE_LAST_PIXEL = 21441
  LINE_PROJECTION_OFFSET = 60888.25
  MAP_PROJECTION_ROTATION = 0.0
  MAP_PROJECTION_TYPE = SINUSOIDAL
  MAP_RESOLUTION = 2370.85521546667
  MAP_SCALE = 0.025
  MAXIMUM_LATITUDE = 25.6716
  MINIMUM_LATITUDE = 16.6121
  POSITIVE_LONGITUDE_DIRECTION = EAST
  REFERENCE_LATITUDE = "N/A"
  REFERENCE_LONGITUDE = "N/A"
  SAMPLE_FIRST_PIXEL = 1
  SAMPLE_LAST_PIXEL = 2880
  SAMPLE_PROJECTION_OFFSET = 638.75
  SECOND_STANDARD_PARALLEL = "N/A"
  WESTERNMOST_LONGITUDE = 257.695
END_OBJECT = IMAGE_MAP_PROJECTION
END
