PDS_VERSION_ID = PDS3
/* FILE DATA ELEMENTS */
RECORD_TYPE = UNDEFINED
/* POINTERS TO DATA OBJECTS */
^IMAGE = ("H5245_0000_S24.TIF")
/* IDENTIFICATION DATA ELEMENTS */
DATA_SET_ID = "MEX-M-HRSC-4-REFDR-MAPPROJECT-EXT2-V4.0"
DATA_SET_NAME = "MARS EXPRESS HRSC MAP PROJECTED REFDR EXTENSION2 V4.0"
DETECTOR_ID = MEX_HRSC_S2
EVENT_TYPE = "MARS-REGIONAL-MAPPING-Vo-Im-Eo"
INSTRUMENT_HOST_ID = MEX
INSTRUMENT_HOST_NAME = "MARS EXPRESS"
INSTRUMENT_ID = HRSC
INSTRUMENT_NAME = "HIGH RESOLUTION STEREO CAMERA"
MISSION_NAME = "MARS EXPRESS"
MISSION_PHASE_NAME = ME_Phase_11
PROCESSING_LEVEL_ID = 4
PRODUCT_CREATION_TIME = 2023-02-01T12:09:47.000Z
PRODUCT_ID = "H5245_0000_S24.TIF"
RELEASE_ID = 0001
REVISION_ID = 0000
/* QUALITY DATA ELEMENTS */
DATA_QUALITY_ID = 1
DATA_QUALITY_DESC = "Data calculated based on original SPICE kernels"
/* TIME DATA ELEMENTS */
SPACECRAFT_CLOCK_START_COUNT = "1/0149936829.07302"
SPACECRAFT_CLOCK_STOP_COUNT = "1/0149937211.22412"
START_TIME = 2008-02-01T09:08:15.416Z
STOP_TIME = 2008-02-01T09:13:33.178Z
/* ORBITAL DATA ELEMENTS */
ASCENDING_NODE_LONGITUDE = 119.03
MAXIMUM_RESOLUTION = 0.0302
FOOTPRINT_POINT_LATITUDE = (15.0604,15.0526,15.0464,15.0463, 15.0454,14.3621,13.682,13.004,12.329, 11.9271,11.5246,10.9209,10.524,10.1274, 9.73397,9.1423,8.74759,8.15274,7.57366, 7.18439,6.79757,6.4101,6.0253,5.64118, 5.25867,4.87702,4.49629,4.1171,3.73951, 3.36286,2.98685,2.61245,2.23965,1.86804 ,1.4979,1.12837,0.759481,0.208959, -0.335841,-0.699156,-1.06123,-1.42375, -1.77833,-2.14223,-2.49673,-3.02753, -3.37882,-3.55392,-3.56497,-3.56727, -3.56696,-3.56606,-3.5661,-3.56562, -3.2114,-2.85807,-2.50297,-1.96697, -1.60882,-1.2494,-0.888547,-0.52601, -0.162718,0.385548,0.751328,1.12009, 1.48917,1.85908,2.23139,2.60471,2.97981 ,3.35532,3.73246,4.30019,4.68001, 5.06142,5.44409,5.82789,6.21326,6.60008 ,6.98738,7.37529,7.76515,8.15182, 8.54663,8.94005,9.33396,9.92785,10.3244 ,10.7224,11.1216,11.5212,11.9233, 12.4973,13.1748,13.8542,14.5359,14.8783 ,15.0497,15.0604)
FOOTPRINT_POINT_LONGITUDE = (60.1224,59.4562,58.8462,58.8338, 58.8299,58.8235,58.8163,58.8085,58.8, 58.7946,58.7893,58.7813,58.7749,58.7684 ,58.7613,58.7508,58.7439,58.7341, 58.7212,58.7133,58.7049,58.6966,58.6879 ,58.6791,58.6699,58.6607,58.6513, 58.6417,58.6318,58.6218,58.6117,58.6013 ,58.5908,58.58,58.569,58.558,58.547, 58.53,58.512,58.5002,58.4883,58.4765, 58.4632,58.4519,58.4389,58.4193,58.4058 ,58.3991,58.3986,58.9408,59.74,60.2509, 60.2691,60.2757,60.2706,60.2648,60.2593 ,60.2516,60.2462,60.241,60.2359,60.2311 ,60.2262,60.2194,60.2145,60.2103, 60.2059,60.2014,60.1975,60.1936,60.1899 ,60.1861,60.1825,60.1773,60.1738, 60.1706,60.1675,60.1645,60.1618,60.1592 ,60.1565,60.1537,60.1512,60.1472,60.146 ,60.144,60.1418,60.139,60.137,60.1352, 60.1336,60.1318,60.1307,60.1292,60.1273 ,60.1254,60.1235,60.1228,60.1225, 60.1224)
ORBIT_NUMBER = 5245
ORBITAL_ECCENTRICITY = 0.573
ORBITAL_INCLINATION = 86.74
ORBITAL_SEMIMAJOR_AXIS = 8717.93
PERIAPSIS_ALTITUDE = 329.53
PERIAPSIS_ARGUMENT_ANGLE = 155.63
PERIAPSIS_TIME = 2008-02-01T09:05:20.000Z
SPACECRAFT_ORIENTATION = (0.0,-1.0,0.0)
^MEX_ORIENTATION_DESC = "MEX_ORIENTATION_DESC.TXT"
SPACECRAFT_POINTING_MODE = ACROSSTRACK
^MEX_POINTING_DESC = "MEX_POINTING_DESC.TXT"
RIGHT_ASCENSION = -1e+32
DECLINATION = -1e+32
OFFSET_ANGLE = 0.24
SPACECRAFT_SOLAR_DISTANCE = 2.41836e+08
TARGET_NAME = MARS
/* CAMERA DATA ELEMENTS */
DETECTOR_TEMPERATURE = 18.3705
FOCAL_PLANE_TEMPERATURE = 7.9716
INST_CMPRS_NAME = "DISCRETE COSINE TRANSFORMATION (DCT)"
INST_CMPRS_RATIO = 11.0697
INST_CMPRS_QUALITY = 0
INST_CMPRS_QUANTZ_TBL_ID = 0
INSTRUMENT_TEMPERATURE = 11.234
LENS_TEMPERATURE = 8.7872
MACROPIXEL_SIZE = 2
MISSING_FRAMES = 0
PIXEL_SUBSAMPLING_FLAG = N
SIGNAL_CHAIN_ID = 1
/* RADIOMETRIC DATA ELEMENTS */
BANDWIDTH = 178.0
CENTER_FILTER_WAVELENGTH = 679.0
RADIANCE_OFFSET = 2.59163
RADIANCE_SCALING_FACTOR = 0.0243918
REFLECTANCE_SCALING_FACTOR = 0.000755466
MEX:REFLECTANCE_OFFSET = 0.0802683
/* IMAGE OBJECT DEFINITIONS */
OBJECT = IMAGE
  INTERCHANGE_FORMAT = BINARY
  LINES = 44122
  LINE_SAMPLES = 4055
  SAMPLE_TYPE = UNSIGNED_INTEGER
  SAMPLE_BITS = 8
  BANDS = 1
  BAND_STORAGE_TYPE = BAND_SEQUENTIAL
  MAXIMUM = 255
  MEAN = 122.542
  MINIMUM = 1
  STANDARD_DEVIATION = 36.5663
END_OBJECT = IMAGE
/* MAP OBJECT DEFINITIONS */
OBJECT = IMAGE_MAP_PROJECTION
  ^DATA_SET_MAP_PROJECTION_CATALOG= "DSMAP.CAT"
  A_AXIS_RADIUS = 3396.0
  B_AXIS_RADIUS = 3396.0
  C_AXIS_RADIUS = 3396.0
  CENTER_LATITUDE = 0.0
  CENTER_LONGITUDE = 59.0
  COORDINATE_SYSTEM_NAME = PLANETOGRAPHIC
  COORDINATE_SYSTEM_TYPE = "BODY-FIXED ROTATING"
  EASTERNMOST_LONGITUDE = 60.2757
  FIRST_STANDARD_PARALLEL = "N/A"
  LINE_FIRST_PIXEL = 1
  LINE_LAST_PIXEL = 44122
  LINE_PROJECTION_OFFSET = 35696.25
  MAP_PROJECTION_ROTATION = 0.0
  MAP_PROJECTION_TYPE = SINUSOIDAL
  MAP_RESOLUTION = 2370.85521546667
  MAP_SCALE = 0.025
  MAXIMUM_LATITUDE = 15.0604
  MINIMUM_LATITUDE = -3.56727
  POSITIVE_LONGITUDE_DIRECTION = EAST
  REFERENCE_LATITUDE = "N/A"
  REFERENCE_LONGITUDE = "N/A"
  SAMPLE_FIRST_PIXEL = 1
  SAMPLE_LAST_PIXEL = 4055
  SAMPLE_PROJECTION_OFFSET = 1231.25
  SECOND_STANDARD_PARALLEL = "N/A"
  WESTERNMOST_LONGITUDE = 58.3986
END_OBJECT = IMAGE_MAP_PROJECTION
END
