PDS_VERSION_ID = PDS3
/* FILE DATA ELEMENTS */
RECORD_TYPE = UNDEFINED
/* POINTERS TO DATA OBJECTS */
^IMAGE = ("H5241_0000_S24.TIF")
/* IDENTIFICATION DATA ELEMENTS */
DATA_SET_ID = "MEX-M-HRSC-4-REFDR-MAPPROJECT-EXT2-V4.0"
DATA_SET_NAME = "MARS EXPRESS HRSC MAP PROJECTED REFDR EXTENSION2 V4.0"
DETECTOR_ID = MEX_HRSC_S2
EVENT_TYPE = "MARS-REGIONAL-MAPPING-Te-Im-Pf"
INSTRUMENT_HOST_ID = MEX
INSTRUMENT_HOST_NAME = "MARS EXPRESS"
INSTRUMENT_ID = HRSC
INSTRUMENT_NAME = "HIGH RESOLUTION STEREO CAMERA"
MISSION_NAME = "MARS EXPRESS"
MISSION_PHASE_NAME = ME_Phase_11
PROCESSING_LEVEL_ID = 4
PRODUCT_CREATION_TIME = 2023-02-01T12:09:47.000Z
PRODUCT_ID = "H5241_0000_S24.TIF"
RELEASE_ID = 0001
REVISION_ID = 0000
/* QUALITY DATA ELEMENTS */
DATA_QUALITY_ID = 1
DATA_QUALITY_DESC = "Data calculated based on original SPICE kernels"
/* TIME DATA ELEMENTS */
SPACECRAFT_CLOCK_START_COUNT = "1/0149838139.08423"
SPACECRAFT_CLOCK_STOP_COUNT = "1/0149838387.25453"
START_TIME = 2008-01-31T05:43:21.841Z
STOP_TIME = 2008-01-31T05:46:29.164Z
/* ORBITAL DATA ELEMENTS */
ASCENDING_NODE_LONGITUDE = 119.11
MAXIMUM_RESOLUTION = 0.0284
FOOTPRINT_POINT_LATITUDE = (25.1702,25.1588,25.1469,25.1466, 25.1902,24.9493,24.7084,24.4678,24.2275 ,23.9868,23.7468,23.3867,23.1468, 22.7872,22.428,22.189,21.9499,21.5918, 21.3537,21.1153,20.8778,20.6403,20.4026 ,20.0468,19.8095,19.5729,19.2177, 18.8638,18.3919,18.0277,17.7848,17.4212 ,17.1784,16.9369,16.695,16.4534,16.0914 ,15.8509,15.6106,15.37,15.0097,14.6512, 14.4123,14.0544,13.8158,13.5783,13.3405 ,13.2219,13.1997,13.2032,13.2075, 13.2125,13.2126,13.213,13.5684,13.9269, 14.1651,14.404,14.6431,14.8828,15.1226, 15.362,15.6021,15.8425,16.2038,16.4454, 16.688,16.9306,17.1728,17.4157,17.6591, 17.9018,18.1452,18.5063,18.9785,19.2149 ,19.4516,19.6886,19.9253,20.2817, 20.5192,20.7571,21.1145,21.3527,21.7108 ,21.9495,22.1884,22.4291,22.6652, 22.9071,23.1471,23.3869,23.6272,23.9876 ,24.3489,24.5897,24.8308,25.072,25.1926 ,25.1702)
FOOTPRINT_POINT_LONGITUDE = (100.375,99.7558,99.1192,99.107,99.0947 ,99.0971,99.0994,99.1016,99.1036, 99.1056,99.1074,99.1099,99.1114,99.1136 ,99.1154,99.1165,99.1175,99.1188, 99.1195,99.1201,99.1205,99.1208,99.1212 ,99.1214,99.1215,99.1214,99.1211, 99.1206,99.1196,99.1187,99.1179,99.1164 ,99.1154,99.1142,99.113,99.1117,99.1096 ,99.108,99.1063,99.1046,99.1019,99.0988 ,99.0967,99.0934,99.0911,99.0886, 99.0862,99.0849,99.0846,99.6418,99.9989 ,100.384,100.397,100.401,100.4,100.4, 100.399,100.398,100.398,100.398,100.397 ,100.396,100.396,100.396,100.395, 100.395,100.395,100.395,100.395,100.395 ,100.395,100.394,100.394,100.394, 100.394,100.394,100.394,100.394,100.393 ,100.393,100.393,100.393,100.393, 100.393,100.394,100.393,100.394,100.394 ,100.393,100.394,100.394,100.394, 100.394,100.395,100.395,100.395,100.395 ,100.396,100.396,100.375)
ORBIT_NUMBER = 5241
ORBITAL_ECCENTRICITY = 0.573
ORBITAL_INCLINATION = 86.73
ORBITAL_SEMIMAJOR_AXIS = 8719.18
PERIAPSIS_ALTITUDE = 328.85
PERIAPSIS_ARGUMENT_ANGLE = 156.3
PERIAPSIS_TIME = 2008-01-31T05:43:15.000Z
SPACECRAFT_ORIENTATION = (0.0,-1.0,0.0)
^MEX_ORIENTATION_DESC = "MEX_ORIENTATION_DESC.TXT"
SPACECRAFT_POINTING_MODE = ACROSSTRACK
^MEX_POINTING_DESC = "MEX_POINTING_DESC.TXT"
RIGHT_ASCENSION = -1e+32
DECLINATION = -1e+32
OFFSET_ANGLE = 0.25
SPACECRAFT_SOLAR_DISTANCE = 2.41677e+08
TARGET_NAME = MARS
/* CAMERA DATA ELEMENTS */
DETECTOR_TEMPERATURE = 18.1666
FOCAL_PLANE_TEMPERATURE = 8.5833
INST_CMPRS_NAME = "DISCRETE COSINE TRANSFORMATION (DCT)"
INST_CMPRS_RATIO = 11.0427
INST_CMPRS_QUALITY = 0
INST_CMPRS_QUANTZ_TBL_ID = 0
INSTRUMENT_TEMPERATURE = 10.0106
LENS_TEMPERATURE = 8.9911
MACROPIXEL_SIZE = 2
MISSING_FRAMES = 0
PIXEL_SUBSAMPLING_FLAG = N
SIGNAL_CHAIN_ID = 1
/* RADIOMETRIC DATA ELEMENTS */
BANDWIDTH = 178.0
CENTER_FILTER_WAVELENGTH = 679.0
RADIANCE_OFFSET = 3.91802
RADIANCE_SCALING_FACTOR = 0.0167126
REFLECTANCE_SCALING_FACTOR = 0.000516941
MEX:REFLECTANCE_OFFSET = 0.121189
/* IMAGE OBJECT DEFINITIONS */
OBJECT = IMAGE
  INTERCHANGE_FORMAT = BINARY
  LINES = 28429
  LINE_SAMPLES = 2928
  SAMPLE_TYPE = UNSIGNED_INTEGER
  SAMPLE_BITS = 8
  BANDS = 1
  BAND_STORAGE_TYPE = BAND_SEQUENTIAL
  MAXIMUM = 255
  MEAN = 150.439
  MINIMUM = 1
  STANDARD_DEVIATION = 13.3423
END_OBJECT = IMAGE
/* MAP OBJECT DEFINITIONS */
OBJECT = IMAGE_MAP_PROJECTION
  ^DATA_SET_MAP_PROJECTION_CATALOG= "DSMAP.CAT"
  A_AXIS_RADIUS = 3396.0
  B_AXIS_RADIUS = 3396.0
  C_AXIS_RADIUS = 3396.0
  CENTER_LATITUDE = 0.0
  CENTER_LONGITUDE = 100.0
  COORDINATE_SYSTEM_NAME = PLANETOGRAPHIC
  COORDINATE_SYSTEM_TYPE = "BODY-FIXED ROTATING"
  EASTERNMOST_LONGITUDE = 100.401
  FIRST_STANDARD_PARALLEL = "N/A"
  LINE_FIRST_PIXEL = 1
  LINE_LAST_PIXEL = 28429
  LINE_PROJECTION_OFFSET = 59679.75
  MAP_PROJECTION_ROTATION = 0.0
  MAP_PROJECTION_TYPE = SINUSOIDAL
  MAP_RESOLUTION = 2370.85521546667
  MAP_SCALE = 0.025
  MAXIMUM_LATITUDE = 25.1926
  MINIMUM_LATITUDE = 13.1997
  POSITIVE_LONGITUDE_DIRECTION = EAST
  REFERENCE_LATITUDE = "N/A"
  REFERENCE_LONGITUDE = "N/A"
  SAMPLE_FIRST_PIXEL = 1
  SAMPLE_LAST_PIXEL = 2928
  SAMPLE_PROJECTION_OFFSET = 2062.75
  SECOND_STANDARD_PARALLEL = "N/A"
  WESTERNMOST_LONGITUDE = 99.08459999999999
END_OBJECT = IMAGE_MAP_PROJECTION
END
