PDS_VERSION_ID = PDS3
/* FILE DATA ELEMENTS */
RECORD_TYPE = UNDEFINED
/* POINTERS TO DATA OBJECTS */
^IMAGE = ("H5238_0000_S24.TIF")
/* IDENTIFICATION DATA ELEMENTS */
DATA_SET_ID = "MEX-M-HRSC-4-REFDR-MAPPROJECT-EXT2-V4.0"
DATA_SET_NAME = "MARS EXPRESS HRSC MAP PROJECTED REFDR EXTENSION2 V4.0"
DETECTOR_ID = MEX_HRSC_S2
EVENT_TYPE = "MARS-REGIONAL-MAPPING-Im-Fl"
INSTRUMENT_HOST_ID = MEX
INSTRUMENT_HOST_NAME = "MARS EXPRESS"
INSTRUMENT_ID = HRSC
INSTRUMENT_NAME = "HIGH RESOLUTION STEREO CAMERA"
MISSION_NAME = "MARS EXPRESS"
MISSION_PHASE_NAME = ME_Phase_11
PROCESSING_LEVEL_ID = 4
PRODUCT_CREATION_TIME = 2023-02-01T12:09:47.000Z
PRODUCT_ID = "H5238_0000_S24.TIF"
RELEASE_ID = 0001
REVISION_ID = 0000
/* QUALITY DATA ELEMENTS */
DATA_QUALITY_ID = 1
DATA_QUALITY_DESC = "Data calculated based on original SPICE kernels"
/* TIME DATA ELEMENTS */
SPACECRAFT_CLOCK_START_COUNT = "1/0149764245.07285"
SPACECRAFT_CLOCK_STOP_COUNT = "1/0149764629.64980"
START_TIME = 2008-01-30T09:11:47.677Z
STOP_TIME = 2008-01-30T09:17:11.832Z
/* ORBITAL DATA ELEMENTS */
ASCENDING_NODE_LONGITUDE = 119.17
MAXIMUM_RESOLUTION = 0.0281
FOOTPRINT_POINT_LATITUDE = (24.5478,24.546,24.543,24.5429,24.5679, 24.1821,23.7867,23.3989,23.0075,22.618, 22.2298,21.8407,21.4534,20.8788,20.493, 20.1062,19.5231,19.1397,18.5647,18.1811 ,17.7993,17.2079,16.814,16.4228,16.0317 ,15.6384,15.2507,14.8561,14.4695, 14.0813,13.6952,13.1186,12.731,12.1548, 11.5762,11.0061,10.3342,9.88397,9.20835 ,8.7593,8.31906,7.86815,7.20875,6.54311 ,6.09802,5.65704,4.98325,4.53076, 4.30294,4.28241,4.281,4.27824,4.27818, 4.27865,4.95493,5.40293,5.84484,6.29565 ,6.73659,7.17795,7.61368,8.05971, 8.50638,9.18035,9.62934,10.0825,10.5366 ,10.9843,11.3679,11.9435,12.3269, 12.9047,13.2901,13.6751,14.0642,14.4508 ,14.8383,15.2292,15.815,16.4035,16.7962 ,17.3865,17.7799,18.1617,18.7383, 19.3138,19.6975,20.0824,20.4676,20.8541 ,21.2417,21.8232,22.4064,22.7956, 23.1863,23.5759,23.9667,24.3575,24.5517 ,24.5478)
FOOTPRINT_POINT_LONGITUDE = (40.2907,39.8139,39.0436,39.0313, 39.0189,39.0219,39.0279,39.0312,39.0355 ,39.039,39.0419,39.0449,39.0472,39.0484 ,39.05,39.0517,39.055,39.0553,39.0557, 39.0559,39.0556,39.0553,39.0546,39.0529 ,39.0512,39.0501,39.0472,39.0465, 39.0433,39.0405,39.0371,39.0313,39.0284 ,39.0225,39.0174,39.0098,39.0009,38.994 ,38.984,38.977,38.9676,38.9613,38.9473, 38.9354,38.928,38.9196,38.9058,38.8974, 38.8922,38.8917,39.5655,40.3572,40.3716 ,40.3768,40.3713,40.3675,40.3637, 40.3637,40.3605,40.357,40.3515,40.3488, 40.346,40.3424,40.3396,40.3376,40.3357, 40.333,40.3318,40.3298,40.328,40.3259, 40.3243,40.3223,40.3214,40.3196,40.3178 ,40.3169,40.3151,40.3136,40.3125, 40.3109,40.3101,40.3091,40.3083,40.3069 ,40.3058,40.3049,40.3039,40.3032, 40.3027,40.3016,40.3009,40.3003,40.3001 ,40.2994,40.2989,40.2983,40.2976, 40.2907)
ORBIT_NUMBER = 5238
ORBITAL_ECCENTRICITY = 0.573
ORBITAL_INCLINATION = 86.73
ORBITAL_SEMIMAJOR_AXIS = 8718.93
PERIAPSIS_ALTITUDE = 329.04
PERIAPSIS_ARGUMENT_ANGLE = 156.86
PERIAPSIS_TIME = 2008-01-30T09:11:40.000Z
SPACECRAFT_ORIENTATION = (0.0,-1.0,0.0)
^MEX_ORIENTATION_DESC = "MEX_ORIENTATION_DESC.TXT"
SPACECRAFT_POINTING_MODE = NADIR
^MEX_POINTING_DESC = "MEX_POINTING_DESC.TXT"
RIGHT_ASCENSION = -1e+32
DECLINATION = -1e+32
OFFSET_ANGLE = -1e+32
SPACECRAFT_SOLAR_DISTANCE = 2.41556e+08
TARGET_NAME = MARS
/* CAMERA DATA ELEMENTS */
DETECTOR_TEMPERATURE = 18.5744
FOCAL_PLANE_TEMPERATURE = 8.1755
INST_CMPRS_NAME = "DISCRETE COSINE TRANSFORMATION (DCT)"
INST_CMPRS_RATIO = 9.72626
INST_CMPRS_QUALITY = 0
INST_CMPRS_QUANTZ_TBL_ID = 0
INSTRUMENT_TEMPERATURE = 11.234
LENS_TEMPERATURE = 8.7872
MACROPIXEL_SIZE = 2
MISSING_FRAMES = 0
PIXEL_SUBSAMPLING_FLAG = N
SIGNAL_CHAIN_ID = 1
/* RADIOMETRIC DATA ELEMENTS */
BANDWIDTH = 178.0
CENTER_FILTER_WAVELENGTH = 679.0
RADIANCE_OFFSET = 4.51556
RADIANCE_SCALING_FACTOR = 0.0203738
REFLECTANCE_SCALING_FACTOR = 0.000629563
MEX:REFLECTANCE_OFFSET = 0.139533
/* IMAGE OBJECT DEFINITIONS */
OBJECT = IMAGE
  INTERCHANGE_FORMAT = BINARY
  LINES = 48074
  LINE_SAMPLES = 3304
  SAMPLE_TYPE = UNSIGNED_INTEGER
  SAMPLE_BITS = 8
  BANDS = 1
  BAND_STORAGE_TYPE = BAND_SEQUENTIAL
  MAXIMUM = 255
  MEAN = 131.373
  MINIMUM = 1
  STANDARD_DEVIATION = 17.799
END_OBJECT = IMAGE
/* MAP OBJECT DEFINITIONS */
OBJECT = IMAGE_MAP_PROJECTION
  ^DATA_SET_MAP_PROJECTION_CATALOG= "DSMAP.CAT"
  A_AXIS_RADIUS = 3396.0
  B_AXIS_RADIUS = 3396.0
  C_AXIS_RADIUS = 3396.0
  CENTER_LATITUDE = 0.0
  CENTER_LONGITUDE = 40.0
  COORDINATE_SYSTEM_NAME = PLANETOGRAPHIC
  COORDINATE_SYSTEM_TYPE = "BODY-FIXED ROTATING"
  EASTERNMOST_LONGITUDE = 40.3768
  FIRST_STANDARD_PARALLEL = "N/A"
  LINE_FIRST_PIXEL = 1
  LINE_LAST_PIXEL = 48074
  LINE_PROJECTION_OFFSET = 58235.25
  MAP_PROJECTION_ROTATION = 0.0
  MAP_PROJECTION_TYPE = SINUSOIDAL
  MAP_RESOLUTION = 2370.85521546667
  MAP_SCALE = 0.025
  MAXIMUM_LATITUDE = 24.5679
  MINIMUM_LATITUDE = 4.27818
  POSITIVE_LONGITUDE_DIRECTION = EAST
  REFERENCE_LATITUDE = "N/A"
  REFERENCE_LONGITUDE = "N/A"
  SAMPLE_FIRST_PIXEL = 1
  SAMPLE_LAST_PIXEL = 3304
  SAMPLE_PROJECTION_OFFSET = 2516.25
  SECOND_STANDARD_PARALLEL = "N/A"
  WESTERNMOST_LONGITUDE = 38.8917
END_OBJECT = IMAGE_MAP_PROJECTION
END
