PDS_VERSION_ID = PDS3
/* FILE DATA ELEMENTS */
RECORD_TYPE = UNDEFINED
/* POINTERS TO DATA OBJECTS */
^IMAGE = ("H5238_0000_GR4.TIF")
/* IDENTIFICATION DATA ELEMENTS */
DATA_SET_ID = "MEX-M-HRSC-4-REFDR-MAPPROJECT-EXT2-V4.0"
DATA_SET_NAME = "MARS EXPRESS HRSC MAP PROJECTED REFDR EXTENSION2 V4.0"
DETECTOR_ID = MEX_HRSC_GREEN
EVENT_TYPE = "MARS-REGIONAL-MAPPING-Im-Fl"
INSTRUMENT_HOST_ID = MEX
INSTRUMENT_HOST_NAME = "MARS EXPRESS"
INSTRUMENT_ID = HRSC
INSTRUMENT_NAME = "HIGH RESOLUTION STEREO CAMERA"
MISSION_NAME = "MARS EXPRESS"
MISSION_PHASE_NAME = ME_Phase_11
PROCESSING_LEVEL_ID = 4
PRODUCT_CREATION_TIME = 2023-02-01T12:09:47.000Z
PRODUCT_ID = "H5238_0000_GR4.TIF"
RELEASE_ID = 0001
REVISION_ID = 0000
/* QUALITY DATA ELEMENTS */
DATA_QUALITY_ID = 1
DATA_QUALITY_DESC = "Data calculated based on original SPICE kernels"
/* TIME DATA ELEMENTS */
SPACECRAFT_CLOCK_START_COUNT = "1/0149764245.07285"
SPACECRAFT_CLOCK_STOP_COUNT = "1/0149764629.64980"
START_TIME = 2008-01-30T09:11:13.316Z
STOP_TIME = 2008-01-30T09:16:26.057Z
/* ORBITAL DATA ELEMENTS */
ASCENDING_NODE_LONGITUDE = 119.17
MAXIMUM_RESOLUTION = 0.0526
FOOTPRINT_POINT_LATITUDE = (24.5651,24.5639,24.559,24.5589,24.5545 ,24.1662,23.5853,23.1976,22.8098, 22.4219,22.0339,21.452,21.0631,20.6749, 20.287,19.7058,19.3178,18.9297,18.3481, 17.9603,17.5728,17.1855,16.7982,15.8301 ,15.2442,14.6457,14.2464,13.8477, 13.2497,12.8512,12.2546,11.6591,11.2621 ,10.8652,10.469,9.87493,9.47965,9.08461 ,8.69025,8.2661,7.79687,7.32699,6.85855 ,6.3913,5.92495,5.22578,4.76118,4.52941 ,4.2992,4.29192,4.28742,4.2873,4.28826, 4.75299,5.2185,5.68485,6.1506,6.61837, 7.08699,7.55736,8.02708,8.48801,8.88269 ,9.27762,9.67321,10.2664,10.6634, 11.0601,11.457,11.8543,12.2521,12.6502, 13.0485,13.6469,14.0457,14.6451,15.0448 ,15.4436,15.8309,16.2182,16.6056, 16.9932,17.3811,17.769,18.1571,18.5451, 19.1273,19.71,20.0984,20.487,20.8754, 21.2636,21.6522,22.2347,22.8172,23.3995 ,23.7876,24.1757,24.3697,24.5651)
FOOTPRINT_POINT_LONGITUDE = (40.2855,39.785,39.0518,39.0402,39.0294 ,39.033,39.0416,39.0462,39.0506,39.0544 ,39.058,39.0631,39.0639,39.0662,39.0686 ,39.0732,39.0746,39.0756,39.0772, 39.0776,39.0782,39.0786,39.0786,39.0763 ,39.0743,39.0732,39.0708,39.069,39.0649 ,39.0615,39.0573,39.0534,39.0495, 39.0451,39.041,39.0336,39.029,39.0238, 39.019,39.011,39.0054,38.9967,38.9894, 38.9828,38.9763,38.964,38.9566,38.9533, 38.9486,39.7948,40.3096,40.3225,40.3268 ,40.3245,40.3223,40.3201,40.3207, 40.3187,40.3166,40.3123,40.3107,40.309, 40.3077,40.3067,40.3052,40.3051,40.3029 ,40.302,40.3018,40.3012,40.3004,40.2996 ,40.299,40.2975,40.2973,40.2959,40.2953 ,40.295,40.2944,40.2942,40.294,40.2938, 40.2932,40.2932,40.2928,40.2929,40.2928 ,40.2922,40.292,40.2915,40.2916,40.292, 40.2918,40.2919,40.292,40.2924,40.2926, 40.2926,40.2927,40.2855)
ORBIT_NUMBER = 5238
ORBITAL_ECCENTRICITY = 0.573
ORBITAL_INCLINATION = 86.73
ORBITAL_SEMIMAJOR_AXIS = 8718.93
PERIAPSIS_ALTITUDE = 329.04
PERIAPSIS_ARGUMENT_ANGLE = 156.86
PERIAPSIS_TIME = 2008-01-30T09:11:40.000Z
SPACECRAFT_ORIENTATION = (0.0,-1.0,0.0)
^MEX_ORIENTATION_DESC = "MEX_ORIENTATION_DESC.TXT"
SPACECRAFT_POINTING_MODE = NADIR
^MEX_POINTING_DESC = "MEX_POINTING_DESC.TXT"
RIGHT_ASCENSION = -1e+32
DECLINATION = -1e+32
OFFSET_ANGLE = -1e+32
SPACECRAFT_SOLAR_DISTANCE = 2.41556e+08
TARGET_NAME = MARS
/* CAMERA DATA ELEMENTS */
DETECTOR_TEMPERATURE = 18.1666
FOCAL_PLANE_TEMPERATURE = 8.1755
INST_CMPRS_NAME = "DISCRETE COSINE TRANSFORMATION (DCT)"
INST_CMPRS_RATIO = 12.4623
INST_CMPRS_QUALITY = 0
INST_CMPRS_QUANTZ_TBL_ID = 0
INSTRUMENT_TEMPERATURE = 11.234
LENS_TEMPERATURE = 8.7872
MACROPIXEL_SIZE = 4
MISSING_FRAMES = 0
PIXEL_SUBSAMPLING_FLAG = N
SIGNAL_CHAIN_ID = 2
/* RADIOMETRIC DATA ELEMENTS */
BANDWIDTH = 88.0
CENTER_FILTER_WAVELENGTH = 538.0
RADIANCE_OFFSET = 1.31376
RADIANCE_SCALING_FACTOR = 0.00509474
REFLECTANCE_SCALING_FACTOR = 0.000255946
MEX:REFLECTANCE_OFFSET = 0.0659995
/* IMAGE OBJECT DEFINITIONS */
OBJECT = IMAGE
  INTERCHANGE_FORMAT = BINARY
  LINES = 24037
  LINE_SAMPLES = 1652
  SAMPLE_TYPE = UNSIGNED_INTEGER
  SAMPLE_BITS = 8
  BANDS = 1
  BAND_STORAGE_TYPE = BAND_SEQUENTIAL
  MAXIMUM = 255
  MEAN = 134.381
  MINIMUM = 1
  STANDARD_DEVIATION = 15.8263
END_OBJECT = IMAGE
/* MAP OBJECT DEFINITIONS */
OBJECT = IMAGE_MAP_PROJECTION
  ^DATA_SET_MAP_PROJECTION_CATALOG= "DSMAP.CAT"
  A_AXIS_RADIUS = 3396.0
  B_AXIS_RADIUS = 3396.0
  C_AXIS_RADIUS = 3396.0
  CENTER_LATITUDE = 0.0
  CENTER_LONGITUDE = 40.0
  COORDINATE_SYSTEM_NAME = PLANETOGRAPHIC
  COORDINATE_SYSTEM_TYPE = "BODY-FIXED ROTATING"
  EASTERNMOST_LONGITUDE = 40.3268
  FIRST_STANDARD_PARALLEL = "N/A"
  LINE_FIRST_PIXEL = 1
  LINE_LAST_PIXEL = 24037
  LINE_PROJECTION_OFFSET = 29117.375
  MAP_PROJECTION_ROTATION = 0.0
  MAP_PROJECTION_TYPE = SINUSOIDAL
  MAP_RESOLUTION = 1185.42760773333
  MAP_SCALE = 0.05
  MAXIMUM_LATITUDE = 24.5651
  MINIMUM_LATITUDE = 4.2873
  POSITIVE_LONGITUDE_DIRECTION = EAST
  REFERENCE_LATITUDE = "N/A"
  REFERENCE_LONGITUDE = "N/A"
  SAMPLE_FIRST_PIXEL = 1
  SAMPLE_LAST_PIXEL = 1652
  SAMPLE_PROJECTION_OFFSET = 1257.875
  SECOND_STANDARD_PARALLEL = "N/A"
  WESTERNMOST_LONGITUDE = 38.9486
END_OBJECT = IMAGE_MAP_PROJECTION
END
