PDS_VERSION_ID = PDS3
/* FILE DATA ELEMENTS */
RECORD_TYPE = UNDEFINED
/* POINTERS TO DATA OBJECTS */
^IMAGE = ("H5236_0000_S14.TIF")
/* IDENTIFICATION DATA ELEMENTS */
DATA_SET_ID = "MEX-M-HRSC-4-REFDR-MAPPROJECT-EXT2-V4.0"
DATA_SET_NAME = "MARS EXPRESS HRSC MAP PROJECTED REFDR EXTENSION2 V4.0"
DETECTOR_ID = MEX_HRSC_S1
EVENT_TYPE = "MARS-REGIONAL-MAPPING-Vo-Te"
INSTRUMENT_HOST_ID = MEX
INSTRUMENT_HOST_NAME = "MARS EXPRESS"
INSTRUMENT_ID = HRSC
INSTRUMENT_NAME = "HIGH RESOLUTION STEREO CAMERA"
MISSION_NAME = "MARS EXPRESS"
MISSION_PHASE_NAME = ME_Phase_11
PROCESSING_LEVEL_ID = 4
PRODUCT_CREATION_TIME = 2023-02-01T12:09:47.000Z
PRODUCT_ID = "H5236_0000_S14.TIF"
RELEASE_ID = 0001
REVISION_ID = 0000
/* QUALITY DATA ELEMENTS */
DATA_QUALITY_ID = 1
DATA_QUALITY_DESC = "Data calculated based on original SPICE kernels"
/* TIME DATA ELEMENTS */
SPACECRAFT_CLOCK_START_COUNT = "1/0149714919.08423"
SPACECRAFT_CLOCK_STOP_COUNT = "1/0149715183.64209"
START_TIME = 2008-01-29T19:28:42.942Z
STOP_TIME = 2008-01-29T19:32:04.425Z
/* ORBITAL DATA ELEMENTS */
ASCENDING_NODE_LONGITUDE = 119.22
MAXIMUM_RESOLUTION = 0.0277
FOOTPRINT_POINT_LATITUDE = (28.1117,28.0988,28.0838,28.0631, 28.0625,28.0502,27.7854,27.5206,27.2549 ,26.9968,26.4816,25.9658,25.449,25.0607 ,24.8015,24.5423,24.2828,24.0228, 23.7624,23.3721,23.1111,22.8502,22.589, 22.3276,22.0662,21.8046,21.5427,21.2809 ,21.0188,20.7571,20.3633,20.1008, 19.8382,19.575,19.3119,18.9173,18.6542, 18.3912,18.1273,17.864,17.4691,17.2058, 16.8122,16.5492,16.1533,15.8887,15.6229 ,15.3589,15.0941,14.9617,14.9559,14.965 ,14.9789,14.9883,14.9885,14.9891, 15.3865,15.6511,16.0479,16.3124,16.7091 ,16.9735,17.2378,17.5017,17.8975, 18.1614,18.4248,18.6884,18.9518,19.2147 ,19.4782,19.7414,20.0043,20.2676,20.53, 20.9239,21.3175,21.7108,21.9731,22.235, 22.4964,22.8887,23.2806,23.5416,23.8025 ,24.0629,24.323,24.5833,24.843,25.2325, 25.4915,25.7502,26.1383,26.6546,27.17, 27.4319,27.6978,27.9634,28.096,28.1117)
FOOTPRINT_POINT_LONGITUDE = (239.986,239.576,239.16,238.662,238.648 ,238.638,238.645,238.652,238.659, 238.666,238.678,238.69,238.702,238.71, 238.715,238.72,238.725,238.73,238.734, 238.741,238.745,238.749,238.752,238.756 ,238.76,238.763,238.766,238.769,238.773 ,238.776,238.78,238.782,238.785,238.787 ,238.789,238.792,238.794,238.796, 238.797,238.799,238.801,238.803,238.806 ,238.807,238.808,238.809,238.809, 238.809,238.809,238.809,238.809,239.105 ,239.596,240.0,240.011,240.015,240.015, 240.014,240.013,240.013,240.012,240.012 ,240.011,240.011,240.01,240.009,240.009 ,240.009,240.008,240.008,240.007, 240.007,240.006,240.006,240.005,240.004 ,240.004,240.003,240.002,240.002, 240.001,240.0,239.999,239.999,239.998, 239.998,239.997,239.996,239.996,239.995 ,239.994,239.994,239.993,239.991,239.99 ,239.99,239.989,239.988,239.988, 239.986)
ORBIT_NUMBER = 5236
ORBITAL_ECCENTRICITY = 0.574
ORBITAL_INCLINATION = 86.73
ORBITAL_SEMIMAJOR_AXIS = 8725.95
PERIAPSIS_ALTITUDE = 328.41
PERIAPSIS_ARGUMENT_ANGLE = 157.18
PERIAPSIS_TIME = 2008-01-29T19:30:34.000Z
SPACECRAFT_ORIENTATION = (0.0,-1.0,0.0)
^MEX_ORIENTATION_DESC = "MEX_ORIENTATION_DESC.TXT"
SPACECRAFT_POINTING_MODE = ACROSSTRACK
^MEX_POINTING_DESC = "MEX_POINTING_DESC.TXT"
RIGHT_ASCENSION = -1e+32
DECLINATION = -1e+32
OFFSET_ANGLE = -0.4
SPACECRAFT_SOLAR_DISTANCE = 2.41476e+08
TARGET_NAME = MARS
/* CAMERA DATA ELEMENTS */
DETECTOR_TEMPERATURE = 17.351
FOCAL_PLANE_TEMPERATURE = 7.7677
INST_CMPRS_NAME = "DISCRETE COSINE TRANSFORMATION (DCT)"
INST_CMPRS_RATIO = 7.92126
INST_CMPRS_QUALITY = 0
INST_CMPRS_QUANTZ_TBL_ID = 0
INSTRUMENT_TEMPERATURE = 11.0301
LENS_TEMPERATURE = 8.3794
MACROPIXEL_SIZE = 2
MISSING_FRAMES = 0
PIXEL_SUBSAMPLING_FLAG = N
SIGNAL_CHAIN_ID = 1
/* RADIOMETRIC DATA ELEMENTS */
BANDWIDTH = 180.0
CENTER_FILTER_WAVELENGTH = 677.0
RADIANCE_OFFSET = 3.86929
RADIANCE_SCALING_FACTOR = 0.0253767
REFLECTANCE_SCALING_FACTOR = 0.00077201
MEX:REFLECTANCE_OFFSET = 0.117712
/* IMAGE OBJECT DEFINITIONS */
OBJECT = IMAGE
  INTERCHANGE_FORMAT = BINARY
  LINES = 31110
  LINE_SAMPLES = 3083
  SAMPLE_TYPE = UNSIGNED_INTEGER
  SAMPLE_BITS = 8
  BANDS = 1
  BAND_STORAGE_TYPE = BAND_SEQUENTIAL
  MAXIMUM = 255
  MEAN = 148.659
  MINIMUM = 1
  STANDARD_DEVIATION = 13.9846
END_OBJECT = IMAGE
/* MAP OBJECT DEFINITIONS */
OBJECT = IMAGE_MAP_PROJECTION
  ^DATA_SET_MAP_PROJECTION_CATALOG= "DSMAP.CAT"
  A_AXIS_RADIUS = 3396.0
  B_AXIS_RADIUS = 3396.0
  C_AXIS_RADIUS = 3396.0
  CENTER_LATITUDE = 0.0
  CENTER_LONGITUDE = 239.0
  COORDINATE_SYSTEM_NAME = PLANETOGRAPHIC
  COORDINATE_SYSTEM_TYPE = "BODY-FIXED ROTATING"
  EASTERNMOST_LONGITUDE = 240.015
  FIRST_STANDARD_PARALLEL = "N/A"
  LINE_FIRST_PIXEL = 1
  LINE_LAST_PIXEL = 31110
  LINE_PROJECTION_OFFSET = 66558.75
  MAP_PROJECTION_ROTATION = 0.0
  MAP_PROJECTION_TYPE = SINUSOIDAL
  MAP_RESOLUTION = 2370.85521546667
  MAP_SCALE = 0.025
  MAXIMUM_LATITUDE = 28.1117
  MINIMUM_LATITUDE = 14.9559
  POSITIVE_LONGITUDE_DIRECTION = EAST
  REFERENCE_LATITUDE = "N/A"
  REFERENCE_LONGITUDE = "N/A"
  SAMPLE_FIRST_PIXEL = 1
  SAMPLE_LAST_PIXEL = 3083
  SAMPLE_PROJECTION_OFFSET = 736.25
  SECOND_STANDARD_PARALLEL = "N/A"
  WESTERNMOST_LONGITUDE = 238.638
END_OBJECT = IMAGE_MAP_PROJECTION
END
