PDS_VERSION_ID = PDS3
/* FILE DATA ELEMENTS */
RECORD_TYPE = UNDEFINED
/* POINTERS TO DATA OBJECTS */
^IMAGE = ("H5235_0000_P14.TIF")
/* IDENTIFICATION DATA ELEMENTS */
DATA_SET_ID = "MEX-M-HRSC-4-REFDR-MAPPROJECT-EXT2-V4.0"
DATA_SET_NAME = "MARS EXPRESS HRSC MAP PROJECTED REFDR EXTENSION2 V4.0"
DETECTOR_ID = MEX_HRSC_P1
EVENT_TYPE = "MARS-LOCAL-STEREO-Fl-Eb-Tc"
INSTRUMENT_HOST_ID = MEX
INSTRUMENT_HOST_NAME = "MARS EXPRESS"
INSTRUMENT_ID = HRSC
INSTRUMENT_NAME = "HIGH RESOLUTION STEREO CAMERA"
MISSION_NAME = "MARS EXPRESS"
MISSION_PHASE_NAME = ME_Phase_11
PROCESSING_LEVEL_ID = 4
PRODUCT_CREATION_TIME = 2023-02-01T12:09:47.000Z
PRODUCT_ID = "H5235_0000_P14.TIF"
RELEASE_ID = 0001
REVISION_ID = 0000
/* QUALITY DATA ELEMENTS */
DATA_QUALITY_ID = 1
DATA_QUALITY_DESC = "Data calculated based on original SPICE kernels"
/* TIME DATA ELEMENTS */
SPACECRAFT_CLOCK_START_COUNT = "1/0149690288.08259"
SPACECRAFT_CLOCK_STOP_COUNT = "1/0149690478.34029"
START_TIME = 2008-01-29T12:38:22.470Z
STOP_TIME = 2008-01-29T12:40:31.194Z
/* ORBITAL DATA ELEMENTS */
ASCENDING_NODE_LONGITUDE = 119.24
MAXIMUM_RESOLUTION = 0.0272
FOOTPRINT_POINT_LATITUDE = (27.9862,27.9857,27.9845,27.9824, 27.9803,27.9773,27.9772,27.9422,27.7732 ,27.6078,27.3594,27.194,26.9455,26.6967 ,26.5309,26.2817,26.0325,25.7831, 25.6169,25.2873,25.1205,24.953,24.7858, 24.5358,24.2041,24.0343,23.8642,23.697, 23.53,23.363,23.1968,23.0315,22.7835, 22.6145,22.3608,22.0291,21.8616,21.6098 ,21.4416,21.2735,21.1056,20.9377, 20.7696,20.5175,20.3483,20.097,19.9294, 19.672,19.5869,19.5861,19.5944,19.5937, 19.5931,19.5919,19.5919,19.5923,19.7606 ,19.9293,20.0976,20.266,20.4341,20.6025 ,20.7707,20.9394,21.108,21.3604,21.5264 ,21.6933,21.8638,22.0336,22.3666, 22.5373,22.7049,23.0348,23.2006,23.3679 ,23.5355,23.7028,23.9564,24.1259,24.293 ,24.6248,24.7917,24.9588,25.1258, 25.2924,25.458,25.6247,25.873,26.0394, 26.289,26.6204,26.7888,26.9555,27.2041, 27.37,27.6187,27.8673,27.9525,27.9862)
FOOTPRINT_POINT_LONGITUDE = (340.562,340.292,340.009,339.714, 339.496,339.252,339.24,339.219,339.223, 339.227,339.232,339.235,339.24,339.245, 339.248,339.253,339.258,339.262,339.265 ,339.272,339.274,339.276,339.279, 339.283,339.288,339.289,339.29,339.292, 339.294,339.296,339.299,339.302,339.306 ,339.307,339.308,339.313,339.315, 339.317,339.318,339.319,339.32,339.322, 339.323,339.324,339.325,339.327,339.328 ,339.327,339.327,339.327,339.746, 340.056,340.259,340.546,340.558,340.562 ,340.562,340.563,340.563,340.563, 340.564,340.564,340.564,340.564,340.564 ,340.564,340.566,340.567,340.566, 340.565,340.567,340.566,340.566,340.57, 340.571,340.572,340.572,340.572,340.571 ,340.57,340.571,340.573,340.573,340.573 ,340.574,340.574,340.575,340.576, 340.577,340.578,340.578,340.579,340.579 ,340.579,340.579,340.58,340.58,340.581, 340.582,340.562)
ORBIT_NUMBER = 5235
ORBITAL_ECCENTRICITY = 0.573
ORBITAL_INCLINATION = 86.74
ORBITAL_SEMIMAJOR_AXIS = 8711.22
PERIAPSIS_ALTITUDE = 328.98
PERIAPSIS_ARGUMENT_ANGLE = 157.36
PERIAPSIS_TIME = 2008-01-29T12:40:04.000Z
SPACECRAFT_ORIENTATION = (0.0,-1.0,0.0)
^MEX_ORIENTATION_DESC = "MEX_ORIENTATION_DESC.TXT"
SPACECRAFT_POINTING_MODE = ACROSSTRACK
^MEX_POINTING_DESC = "MEX_POINTING_DESC.TXT"
RIGHT_ASCENSION = -1e+32
DECLINATION = -1e+32
OFFSET_ANGLE = 0.05
SPACECRAFT_SOLAR_DISTANCE = 2.41435e+08
TARGET_NAME = MARS
/* CAMERA DATA ELEMENTS */
DETECTOR_TEMPERATURE = 18.3705
FOCAL_PLANE_TEMPERATURE = 8.5833
INST_CMPRS_NAME = "DISCRETE COSINE TRANSFORMATION (DCT)"
INST_CMPRS_RATIO = 9.933
INST_CMPRS_QUALITY = 0
INST_CMPRS_QUANTZ_TBL_ID = 0
INSTRUMENT_TEMPERATURE = 10.8262
LENS_TEMPERATURE = 8.5833
MACROPIXEL_SIZE = 2
MISSING_FRAMES = 0
PIXEL_SUBSAMPLING_FLAG = N
SIGNAL_CHAIN_ID = 3
/* RADIOMETRIC DATA ELEMENTS */
BANDWIDTH = 174.0
CENTER_FILTER_WAVELENGTH = 675.0
RADIANCE_OFFSET = 2.43127
RADIANCE_SCALING_FACTOR = 0.0174797
REFLECTANCE_SCALING_FACTOR = 0.00054805
MEX:REFLECTANCE_OFFSET = 0.0762287
/* IMAGE OBJECT DEFINITIONS */
OBJECT = IMAGE
  INTERCHANGE_FORMAT = BINARY
  LINES = 19835
  LINE_SAMPLES = 2884
  SAMPLE_TYPE = UNSIGNED_INTEGER
  SAMPLE_BITS = 8
  BANDS = 1
  BAND_STORAGE_TYPE = BAND_SEQUENTIAL
  MAXIMUM = 255
  MEAN = 95.0062
  MINIMUM = 1
  STANDARD_DEVIATION = 30.8144
END_OBJECT = IMAGE
/* MAP OBJECT DEFINITIONS */
OBJECT = IMAGE_MAP_PROJECTION
  ^DATA_SET_MAP_PROJECTION_CATALOG= "DSMAP.CAT"
  A_AXIS_RADIUS = 3396.0
  B_AXIS_RADIUS = 3396.0
  C_AXIS_RADIUS = 3396.0
  CENTER_LATITUDE = 0.0
  CENTER_LONGITUDE = 340.0
  COORDINATE_SYSTEM_NAME = PLANETOGRAPHIC
  COORDINATE_SYSTEM_TYPE = "BODY-FIXED ROTATING"
  EASTERNMOST_LONGITUDE = 340.582
  FIRST_STANDARD_PARALLEL = "N/A"
  LINE_FIRST_PIXEL = 1
  LINE_LAST_PIXEL = 19835
  LINE_PROJECTION_OFFSET = 66324.75
  MAP_PROJECTION_ROTATION = 0.0
  MAP_PROJECTION_TYPE = SINUSOIDAL
  MAP_RESOLUTION = 2370.85521546667
  MAP_SCALE = 0.025
  MAXIMUM_LATITUDE = 27.9862
  MINIMUM_LATITUDE = 19.5861
  POSITIVE_LONGITUDE_DIRECTION = EAST
  REFERENCE_LATITUDE = "N/A"
  REFERENCE_LONGITUDE = "N/A"
  SAMPLE_FIRST_PIXEL = 1
  SAMPLE_LAST_PIXEL = 2884
  SAMPLE_PROJECTION_OFFSET = 1622.75
  SECOND_STANDARD_PARALLEL = "N/A"
  WESTERNMOST_LONGITUDE = 339.219
END_OBJECT = IMAGE_MAP_PROJECTION
END
