PDS_VERSION_ID = PDS3
/* FILE DATA ELEMENTS */
RECORD_TYPE = UNDEFINED
/* POINTERS TO DATA OBJECTS */
^IMAGE = ("H5231_0000_P24.TIF")
/* IDENTIFICATION DATA ELEMENTS */
DATA_SET_ID = "MEX-M-HRSC-4-REFDR-MAPPROJECT-EXT2-V4.0"
DATA_SET_NAME = "MARS EXPRESS HRSC MAP PROJECTED REFDR EXTENSION2 V4.0"
DETECTOR_ID = MEX_HRSC_P2
EVENT_TYPE = "MARS-REGIONAL-MAPPING-Fl-Gl-Lc"
INSTRUMENT_HOST_ID = MEX
INSTRUMENT_HOST_NAME = "MARS EXPRESS"
INSTRUMENT_ID = HRSC
INSTRUMENT_NAME = "HIGH RESOLUTION STEREO CAMERA"
MISSION_NAME = "MARS EXPRESS"
MISSION_PHASE_NAME = ME_Phase_11
PROCESSING_LEVEL_ID = 4
PRODUCT_CREATION_TIME = 2023-02-01T12:09:47.000Z
PRODUCT_ID = "H5231_0000_P24.TIF"
RELEASE_ID = 0001
REVISION_ID = 0000
/* QUALITY DATA ELEMENTS */
DATA_QUALITY_ID = 1
DATA_QUALITY_DESC = "Data calculated based on original SPICE kernels"
/* TIME DATA ELEMENTS */
SPACECRAFT_CLOCK_START_COUNT = "1/0149591431.08412"
SPACECRAFT_CLOCK_STOP_COUNT = "1/0149591808.55955"
START_TIME = 2008-01-28T09:11:53.484Z
STOP_TIME = 2008-01-28T09:16:40.439Z
/* ORBITAL DATA ELEMENTS */
ASCENDING_NODE_LONGITUDE = 119.32
MAXIMUM_RESOLUTION = 0.0278
FOOTPRINT_POINT_LATITUDE = (47.2486,47.2287,47.2003,47.1997, 47.2586,46.8181,46.1673,45.5221,45.0993 ,44.6753,44.2608,43.6405,43.0298, 42.4226,41.8258,41.4328,40.84,40.4444, 40.0482,39.6516,39.2535,38.8518,38.4531 ,37.8557,37.4576,37.0659,36.6612, 36.2921,35.9573,35.6229,35.2888,34.954, 34.6199,34.2843,33.9485,33.6142,33.2783 ,32.9467,32.6079,32.1048,31.77,31.4344, 31.1002,30.5962,30.259,29.9237,29.4204, 28.7677,28.6049,28.5728,28.5719,28.5697 ,28.5696,28.57,29.2231,29.5578,29.8925, 30.3938,30.8983,31.2346,31.5705,32.0733 ,32.5774,32.914,33.4176,33.7538,34.0908 ,34.4263,34.7613,35.2654,35.602,35.9372 ,36.2721,36.635,37.0358,37.4353,37.8346 ,38.2369,38.6348,39.2325,39.6317, 40.0289,40.4204,40.8243,41.4201,41.8167 ,42.2126,42.6164,43.0227,43.428,44.0496 ,44.4644,44.8857,45.3104,45.7357,46.169 ,46.6021,47.0438,47.2651,47.2486)
FOOTPRINT_POINT_LONGITUDE = (20.2064,19.0785,17.9402,17.9177, 17.8493,17.8993,17.9704,18.0378,18.0809 ,18.1234,18.1617,18.2186,18.2724,18.324 ,18.3729,18.4019,18.4462,18.4747, 18.5027,18.5299,18.5574,18.5872,18.6131 ,18.6498,18.6729,18.6896,18.7167, 18.7365,18.7542,18.771,18.787,18.8031, 18.8181,18.8338,18.8493,18.8629,18.8775 ,18.8881,18.9042,18.9232,18.935,18.947, 18.9575,18.9747,18.9868,18.997,19.0119, 19.0313,19.036,19.0363,19.5524,20.3746, 20.3876,20.3923,20.3902,20.3896,20.3878 ,20.3849,20.3826,20.3811,20.3794, 20.3766,20.374,20.3724,20.3695,20.3677, 20.3661,20.364,20.3618,20.3588,20.357, 20.3547,20.3523,20.3496,20.347,20.344, 20.341,20.3387,20.3351,20.33,20.3268, 20.3229,20.3173,20.3154,20.3095,20.3053 ,20.3008,20.2961,20.2914,20.2863, 20.2782,20.2726,20.2666,20.2605,20.2541 ,20.2471,20.24,20.2327,20.2288,20.2064)
ORBIT_NUMBER = 5231
ORBITAL_ECCENTRICITY = 0.573
ORBITAL_INCLINATION = 86.72
ORBITAL_SEMIMAJOR_AXIS = 8718.21
PERIAPSIS_ALTITUDE = 328.47
PERIAPSIS_ARGUMENT_ANGLE = 158.08
PERIAPSIS_TIME = 2008-01-28T09:18:02.000Z
SPACECRAFT_ORIENTATION = (0.0,-1.0,0.0)
^MEX_ORIENTATION_DESC = "MEX_ORIENTATION_DESC.TXT"
SPACECRAFT_POINTING_MODE = ACROSSTRACK
^MEX_POINTING_DESC = "MEX_POINTING_DESC.TXT"
RIGHT_ASCENSION = -1e+32
DECLINATION = -1e+32
OFFSET_ANGLE = -0.3
SPACECRAFT_SOLAR_DISTANCE = 2.41273e+08
TARGET_NAME = MARS
/* CAMERA DATA ELEMENTS */
DETECTOR_TEMPERATURE = 18.5744
FOCAL_PLANE_TEMPERATURE = 9.195
INST_CMPRS_NAME = "DISCRETE COSINE TRANSFORMATION (DCT)"
INST_CMPRS_RATIO = 6.4916
INST_CMPRS_QUALITY = 0
INST_CMPRS_QUANTZ_TBL_ID = 0
INSTRUMENT_TEMPERATURE = 11.0301
LENS_TEMPERATURE = 8.7872
MACROPIXEL_SIZE = 2
MISSING_FRAMES = 0
PIXEL_SUBSAMPLING_FLAG = N
SIGNAL_CHAIN_ID = 3
/* RADIOMETRIC DATA ELEMENTS */
BANDWIDTH = 177.0
CENTER_FILTER_WAVELENGTH = 676.5
RADIANCE_OFFSET = 2.90493
RADIANCE_SCALING_FACTOR = 0.0229564
REFLECTANCE_SCALING_FACTOR = 0.000708556
MEX:REFLECTANCE_OFFSET = 0.0896617
/* IMAGE OBJECT DEFINITIONS */
OBJECT = IMAGE
  INTERCHANGE_FORMAT = BINARY
  LINES = 44498
  LINE_SAMPLES = 4352
  SAMPLE_TYPE = UNSIGNED_INTEGER
  SAMPLE_BITS = 8
  BANDS = 1
  BAND_STORAGE_TYPE = BAND_SEQUENTIAL
  MAXIMUM = 255
  MEAN = 127.524
  MINIMUM = 1
  STANDARD_DEVIATION = 28.4322
END_OBJECT = IMAGE
/* MAP OBJECT DEFINITIONS */
OBJECT = IMAGE_MAP_PROJECTION
  ^DATA_SET_MAP_PROJECTION_CATALOG= "DSMAP.CAT"
  A_AXIS_RADIUS = 3396.0
  B_AXIS_RADIUS = 3396.0
  C_AXIS_RADIUS = 3396.0
  CENTER_LATITUDE = 0.0
  CENTER_LONGITUDE = 20.0
  COORDINATE_SYSTEM_NAME = PLANETOGRAPHIC
  COORDINATE_SYSTEM_TYPE = "BODY-FIXED ROTATING"
  EASTERNMOST_LONGITUDE = 20.3923
  FIRST_STANDARD_PARALLEL = "N/A"
  LINE_FIRST_PIXEL = 1
  LINE_LAST_PIXEL = 44498
  LINE_PROJECTION_OFFSET = 112190.75
  MAP_PROJECTION_ROTATION = 0.0
  MAP_PROJECTION_TYPE = SINUSOIDAL
  MAP_RESOLUTION = 2370.85521546667
  MAP_SCALE = 0.025
  MAXIMUM_LATITUDE = 47.2651
  MINIMUM_LATITUDE = 28.5696
  POSITIVE_LONGITUDE_DIRECTION = EAST
  REFERENCE_LATITUDE = "N/A"
  REFERENCE_LONGITUDE = "N/A"
  SAMPLE_FIRST_PIXEL = 1
  SAMPLE_LAST_PIXEL = 4352
  SAMPLE_PROJECTION_OFFSET = 3523.75
  SECOND_STANDARD_PARALLEL = "N/A"
  WESTERNMOST_LONGITUDE = 17.8493
END_OBJECT = IMAGE_MAP_PROJECTION
END
