PDS_VERSION_ID = PDS3
/* FILE DATA ELEMENTS */
RECORD_TYPE = UNDEFINED
/* POINTERS TO DATA OBJECTS */
^IMAGE = ("H5230_0000_GR4.TIF")
/* IDENTIFICATION DATA ELEMENTS */
DATA_SET_ID = "MEX-M-HRSC-4-REFDR-MAPPROJECT-EXT2-V4.0"
DATA_SET_NAME = "MARS EXPRESS HRSC MAP PROJECTED REFDR EXTENSION2 V4.0"
DETECTOR_ID = MEX_HRSC_GREEN
EVENT_TYPE = "MARS-REGIONAL-MAPPING-Te-Fl-Mw"
INSTRUMENT_HOST_ID = MEX
INSTRUMENT_HOST_NAME = "MARS EXPRESS"
INSTRUMENT_ID = HRSC
INSTRUMENT_NAME = "HIGH RESOLUTION STEREO CAMERA"
MISSION_NAME = "MARS EXPRESS"
MISSION_PHASE_NAME = ME_Phase_11
PROCESSING_LEVEL_ID = 4
PRODUCT_CREATION_TIME = 2023-02-01T12:09:47.000Z
PRODUCT_ID = "H5230_0000_GR4.TIF"
RELEASE_ID = 0001
REVISION_ID = 0000
/* QUALITY DATA ELEMENTS */
DATA_QUALITY_ID = 1
DATA_QUALITY_DESC = "Data calculated based on original SPICE kernels"
/* TIME DATA ELEMENTS */
SPACECRAFT_CLOCK_START_COUNT = "1/0149567305.07275"
SPACECRAFT_CLOCK_STOP_COUNT = "1/0149567654.38254"
START_TIME = 2008-01-28T02:28:53.207Z
STOP_TIME = 2008-01-28T02:33:25.429Z
/* ORBITAL DATA ELEMENTS */
ASCENDING_NODE_LONGITUDE = 119.33
MAXIMUM_RESOLUTION = 0.1076
FOOTPRINT_POINT_LATITUDE = (16.0688,16.0717,16.072,16.0719,16.0659 ,15.7217,15.3776,15.0337,14.5178, 14.1742,13.8306,13.4872,13.1378,12.7834 ,12.4291,11.8981,11.5444,11.191,10.8368 ,10.3081,9.95541,9.60302,9.25112, 8.72374,8.3722,8.02145,7.67083,7.32035, 6.79493,6.27127,5.92221,5.5737,5.2256, 4.70378,4.35653,4.01019,3.66354,3.31715 ,2.97167,2.62646,2.10897,1.76488,1.4215 ,0.906812,0.564416,0.222658,-0.118985, -0.45986,-0.800244,-1.14018,-1.30983, -1.37899,-1.3865,-1.39393,-1.39408, -1.39253,-0.543087,-0.0312009,0.311232, 0.824612,1.16727,1.51043,1.85439, 2.19906,2.71688,3.06218,3.40862,3.75443 ,4.10161,4.44788,4.79519,5.14324,5.6666 ,6.01552,6.3653,6.89004,7.41575,7.76634 ,8.11775,8.64477,8.99648,9.52495,9.8774 ,10.2303,10.5835,10.9369,11.2905, 11.8213,12.3526,12.7071,13.0617,13.4137 ,13.7572,14.101,14.445,14.7891,15.3053, 15.8218,15.9941,16.0688)
FOOTPRINT_POINT_LONGITUDE = (120.901,120.14,119.728,119.716,119.703 ,119.703,119.702,119.701,119.699, 119.698,119.696,119.694,119.693,119.69, 119.688,119.684,119.682,119.679,119.674 ,119.67,119.667,119.663,119.66,119.654, 119.649,119.645,119.641,119.636,119.628 ,119.621,119.616,119.61,119.605,119.596 ,119.59,119.585,119.578,119.571,119.564 ,119.558,119.546,119.539,119.532,119.52 ,119.513,119.505,119.497,119.489, 119.481,119.472,119.468,119.466,120.205 ,120.935,120.949,120.958,120.954,120.95 ,120.946,120.943,120.942,120.941, 120.939,120.937,120.933,120.932,120.929 ,120.929,120.927,120.928,120.927, 120.926,120.923,120.922,120.92,120.919, 120.917,120.917,120.915,120.915,120.915 ,120.914,120.914,120.913,120.912, 120.912,120.912,120.912,120.911,120.911 ,120.911,120.911,120.911,120.911, 120.911,120.911,120.912,120.912,120.912 ,120.901)
ORBIT_NUMBER = 5230
ORBITAL_ECCENTRICITY = 0.573
ORBITAL_INCLINATION = 86.72
ORBITAL_SEMIMAJOR_AXIS = 8719.89
PERIAPSIS_ALTITUDE = 328.0
PERIAPSIS_ARGUMENT_ANGLE = 158.26
PERIAPSIS_TIME = 2008-01-28T02:27:31.000Z
SPACECRAFT_ORIENTATION = (0.0,-1.0,0.0)
^MEX_ORIENTATION_DESC = "MEX_ORIENTATION_DESC.TXT"
SPACECRAFT_POINTING_MODE = ACROSSTRACK
^MEX_POINTING_DESC = "MEX_POINTING_DESC.TXT"
RIGHT_ASCENSION = -1e+32
DECLINATION = -1e+32
OFFSET_ANGLE = 0.1
SPACECRAFT_SOLAR_DISTANCE = 2.41232e+08
TARGET_NAME = MARS
/* CAMERA DATA ELEMENTS */
DETECTOR_TEMPERATURE = 18.1666
FOCAL_PLANE_TEMPERATURE = 7.9716
INST_CMPRS_NAME = "DISCRETE COSINE TRANSFORMATION (DCT)"
INST_CMPRS_RATIO = 14.5161
INST_CMPRS_QUALITY = 0
INST_CMPRS_QUANTZ_TBL_ID = 0
INSTRUMENT_TEMPERATURE = 11.4379
LENS_TEMPERATURE = 7.9716
MACROPIXEL_SIZE = 8
MISSING_FRAMES = 0
PIXEL_SUBSAMPLING_FLAG = N
SIGNAL_CHAIN_ID = 2
/* RADIOMETRIC DATA ELEMENTS */
BANDWIDTH = 88.0
CENTER_FILTER_WAVELENGTH = 538.0
RADIANCE_OFFSET = 1.17076
RADIANCE_SCALING_FACTOR = 0.00459123
REFLECTANCE_SCALING_FACTOR = 0.000230033
MEX:REFLECTANCE_OFFSET = 0.0586583
/* IMAGE OBJECT DEFINITIONS */
OBJECT = IMAGE
  INTERCHANGE_FORMAT = BINARY
  LINES = 10348
  LINE_SAMPLES = 904
  SAMPLE_TYPE = UNSIGNED_INTEGER
  SAMPLE_BITS = 8
  BANDS = 1
  BAND_STORAGE_TYPE = BAND_SEQUENTIAL
  MAXIMUM = 255
  MEAN = 147.828
  MINIMUM = 1
  STANDARD_DEVIATION = 19.493
END_OBJECT = IMAGE
/* MAP OBJECT DEFINITIONS */
OBJECT = IMAGE_MAP_PROJECTION
  ^DATA_SET_MAP_PROJECTION_CATALOG= "DSMAP.CAT"
  A_AXIS_RADIUS = 3396.0
  B_AXIS_RADIUS = 3396.0
  C_AXIS_RADIUS = 3396.0
  CENTER_LATITUDE = 0.0
  CENTER_LONGITUDE = 120.0
  COORDINATE_SYSTEM_NAME = PLANETOGRAPHIC
  COORDINATE_SYSTEM_TYPE = "BODY-FIXED ROTATING"
  EASTERNMOST_LONGITUDE = 120.958
  FIRST_STANDARD_PARALLEL = "N/A"
  LINE_FIRST_PIXEL = 1
  LINE_LAST_PIXEL = 10348
  LINE_PROJECTION_OFFSET = 9529.8125
  MAP_PROJECTION_ROTATION = 0.0
  MAP_PROJECTION_TYPE = SINUSOIDAL
  MAP_RESOLUTION = 592.713803866667
  MAP_SCALE = 0.1
  MAXIMUM_LATITUDE = 16.072
  MINIMUM_LATITUDE = -1.39408
  POSITIVE_LONGITUDE_DIRECTION = EAST
  REFERENCE_LATITUDE = "N/A"
  REFERENCE_LONGITUDE = "N/A"
  SAMPLE_FIRST_PIXEL = 1
  SAMPLE_LAST_PIXEL = 904
  SAMPLE_PROJECTION_OFFSET = 330.5625
  SECOND_STANDARD_PARALLEL = "N/A"
  WESTERNMOST_LONGITUDE = 119.466
END_OBJECT = IMAGE_MAP_PROJECTION
END
