PDS_VERSION_ID = PDS3
/* FILE DATA ELEMENTS */
RECORD_TYPE = UNDEFINED
/* POINTERS TO DATA OBJECTS */
^IMAGE = ("H5228_0000_P14.TIF")
/* IDENTIFICATION DATA ELEMENTS */
DATA_SET_ID = "MEX-M-HRSC-4-REFDR-MAPPROJECT-EXT2-V4.0"
DATA_SET_NAME = "MARS EXPRESS HRSC MAP PROJECTED REFDR EXTENSION2 V4.0"
DETECTOR_ID = MEX_HRSC_P1
EVENT_TYPE = "MARS-REGIONAL-MAPPING-Im-Fl-Pf"
INSTRUMENT_HOST_ID = MEX
INSTRUMENT_HOST_NAME = "MARS EXPRESS"
INSTRUMENT_ID = HRSC
INSTRUMENT_NAME = "HIGH RESOLUTION STEREO CAMERA"
MISSION_NAME = "MARS EXPRESS"
MISSION_PHASE_NAME = ME_Phase_11
PROCESSING_LEVEL_ID = 4
PRODUCT_CREATION_TIME = 2023-02-01T12:09:47.000Z
PRODUCT_ID = "H5228_0000_P14.TIF"
RELEASE_ID = 0001
REVISION_ID = 0000
/* QUALITY DATA ELEMENTS */
DATA_QUALITY_ID = 1
DATA_QUALITY_DESC = "Data calculated based on original SPICE kernels"
/* TIME DATA ELEMENTS */
SPACECRAFT_CLOCK_START_COUNT = "1/0149517870.09096"
SPACECRAFT_CLOCK_STOP_COUNT = "1/0149518300.39804"
START_TIME = 2008-01-27T12:44:44.616Z
STOP_TIME = 2008-01-27T12:50:41.557Z
/* ORBITAL DATA ELEMENTS */
ASCENDING_NODE_LONGITUDE = 119.37
MAXIMUM_RESOLUTION = 0.0546
FOOTPRINT_POINT_LATITUDE = (26.9659,26.9632,26.9553,26.9552, 26.9202,26.4575,26.0079,25.5577,25.1069 ,24.4295,23.7509,23.0708,22.6179, 22.1635,21.7088,21.2538,20.805,19.7027, 19.0403,18.5987,18.1564,17.7137,17.2571 ,16.7993,16.3411,15.8839,15.4264, 14.9648,14.5056,14.0467,13.5882,13.1292 ,12.6696,12.2103,11.7393,11.2655, 10.7913,10.0802,9.61299,9.1369,8.42914, 7.95633,7.48377,7.00769,6.53939,6.06674 ,5.59536,5.10905,4.54738,3.98448, 3.70595,3.62169,3.61845,3.61151,3.61138 ,3.61237,4.45347,5.27944,5.75153, 6.22231,6.69534,7.16824,7.63697,8.11582 ,8.58962,9.05648,9.53053,10.0045, 10.4794,10.9534,11.6659,12.3693,12.8285 ,13.5174,13.9765,14.6658,15.1253, 15.5845,16.2737,16.7346,17.191,17.871, 18.3133,18.9767,19.6398,20.0818,20.9639 ,21.4184,21.8738,22.5561,23.0105, 23.4644,23.9176,24.3704,24.8226,25.5003 ,25.9513,26.6302,26.8622,26.9659)
FOOTPRINT_POINT_LONGITUDE = (320.946,320.359,319.648,319.636, 319.616,319.626,319.635,319.643,319.651 ,319.662,319.672,319.68,319.686,319.691 ,319.696,319.7,319.704,319.712,319.715, 319.717,319.719,319.72,319.721,319.721, 319.722,319.722,319.722,319.72,319.718, 319.717,319.715,319.713,319.711,319.708 ,319.704,319.701,319.697,319.691, 319.689,319.683,319.677,319.671,319.665 ,319.658,319.653,319.646,319.639, 319.631,319.622,319.612,319.608,319.606 ,320.167,320.93,320.942,320.946,320.944 ,320.942,320.94,320.94,320.939,320.938, 320.939,320.936,320.935,320.938,320.938 ,320.937,320.937,320.937,320.937, 320.936,320.936,320.937,320.937,320.937 ,320.938,320.938,320.939,320.938,320.94 ,320.941,320.942,320.943,320.945, 320.945,320.948,320.949,320.95,320.951, 320.953,320.954,320.955,320.956,320.958 ,320.96,320.961,320.963,320.964, 320.946)
ORBIT_NUMBER = 5228
ORBITAL_ECCENTRICITY = 0.573
ORBITAL_INCLINATION = 86.74
ORBITAL_SEMIMAJOR_AXIS = 8712.54
PERIAPSIS_ALTITUDE = 328.23
PERIAPSIS_ARGUMENT_ANGLE = 158.61
PERIAPSIS_TIME = 2008-01-27T12:46:30.000Z
SPACECRAFT_ORIENTATION = (0.0,-1.0,0.0)
^MEX_ORIENTATION_DESC = "MEX_ORIENTATION_DESC.TXT"
SPACECRAFT_POINTING_MODE = NADIR
^MEX_POINTING_DESC = "MEX_POINTING_DESC.TXT"
RIGHT_ASCENSION = -1e+32
DECLINATION = -1e+32
OFFSET_ANGLE = -1e+32
SPACECRAFT_SOLAR_DISTANCE = 2.4115e+08
TARGET_NAME = MARS
/* CAMERA DATA ELEMENTS */
DETECTOR_TEMPERATURE = 17.5549
FOCAL_PLANE_TEMPERATURE = 8.3794
INST_CMPRS_NAME = "DISCRETE COSINE TRANSFORMATION (DCT)"
INST_CMPRS_RATIO = 13.1979
INST_CMPRS_QUALITY = 0
INST_CMPRS_QUANTZ_TBL_ID = 0
INSTRUMENT_TEMPERATURE = 11.0301
LENS_TEMPERATURE = 8.7872
MACROPIXEL_SIZE = 4
MISSING_FRAMES = 0
PIXEL_SUBSAMPLING_FLAG = N
SIGNAL_CHAIN_ID = 3
/* RADIOMETRIC DATA ELEMENTS */
BANDWIDTH = 174.0
CENTER_FILTER_WAVELENGTH = 675.0
RADIANCE_OFFSET = 2.73796
RADIANCE_SCALING_FACTOR = 0.0218576
REFLECTANCE_SCALING_FACTOR = 0.000683692
MEX:REFLECTANCE_OFFSET = 0.0856414
/* IMAGE OBJECT DEFINITIONS */
OBJECT = IMAGE
  INTERCHANGE_FORMAT = BINARY
  LINES = 27654
  LINE_SAMPLES = 1631
  SAMPLE_TYPE = UNSIGNED_INTEGER
  SAMPLE_BITS = 8
  BANDS = 1
  BAND_STORAGE_TYPE = BAND_SEQUENTIAL
  MAXIMUM = 255
  MEAN = 135.007
  MINIMUM = 1
  STANDARD_DEVIATION = 39.5935
END_OBJECT = IMAGE
/* MAP OBJECT DEFINITIONS */
OBJECT = IMAGE_MAP_PROJECTION
  ^DATA_SET_MAP_PROJECTION_CATALOG= "DSMAP.CAT"
  A_AXIS_RADIUS = 3396.0
  B_AXIS_RADIUS = 3396.0
  C_AXIS_RADIUS = 3396.0
  CENTER_LATITUDE = 0.0
  CENTER_LONGITUDE = 320.0
  COORDINATE_SYSTEM_NAME = PLANETOGRAPHIC
  COORDINATE_SYSTEM_TYPE = "BODY-FIXED ROTATING"
  EASTERNMOST_LONGITUDE = 320.964
  FIRST_STANDARD_PARALLEL = "N/A"
  LINE_FIRST_PIXEL = 1
  LINE_LAST_PIXEL = 27654
  LINE_PROJECTION_OFFSET = 31950.875
  MAP_PROJECTION_ROTATION = 0.0
  MAP_PROJECTION_TYPE = SINUSOIDAL
  MAP_RESOLUTION = 1185.42760773333
  MAP_SCALE = 0.05
  MAXIMUM_LATITUDE = 26.9659
  MINIMUM_LATITUDE = 3.61138
  POSITIVE_LONGITUDE_DIRECTION = EAST
  REFERENCE_LATITUDE = "N/A"
  REFERENCE_LONGITUDE = "N/A"
  SAMPLE_FIRST_PIXEL = 1
  SAMPLE_LAST_PIXEL = 1631
  SAMPLE_PROJECTION_OFFSET = 492.625
  SECOND_STANDARD_PARALLEL = "N/A"
  WESTERNMOST_LONGITUDE = 319.606
END_OBJECT = IMAGE_MAP_PROJECTION
END
