PDS_VERSION_ID = PDS3
/* FILE DATA ELEMENTS */
RECORD_TYPE = UNDEFINED
/* POINTERS TO DATA OBJECTS */
^IMAGE = ("H5223_0000_GR4.TIF")
/* IDENTIFICATION DATA ELEMENTS */
DATA_SET_ID = "MEX-M-HRSC-4-REFDR-MAPPROJECT-EXT2-V4.0"
DATA_SET_NAME = "MARS EXPRESS HRSC MAP PROJECTED REFDR EXTENSION2 V4.0"
DETECTOR_ID = MEX_HRSC_GREEN
EVENT_TYPE = "MARS-REGIONAL-MAPPING-Te-Im-Pf"
INSTRUMENT_HOST_ID = MEX
INSTRUMENT_HOST_NAME = "MARS EXPRESS"
INSTRUMENT_ID = HRSC
INSTRUMENT_NAME = "HIGH RESOLUTION STEREO CAMERA"
MISSION_NAME = "MARS EXPRESS"
MISSION_PHASE_NAME = ME_Phase_11
PROCESSING_LEVEL_ID = 4
PRODUCT_CREATION_TIME = 2023-02-01T12:09:47.000Z
PRODUCT_ID = "H5223_0000_GR4.TIF"
RELEASE_ID = 0001
REVISION_ID = 0000
/* QUALITY DATA ELEMENTS */
DATA_QUALITY_ID = 1
DATA_QUALITY_DESC = "Data calculated based on original SPICE kernels"
/* TIME DATA ELEMENTS */
SPACECRAFT_CLOCK_START_COUNT = "1/0149394710.09066"
SPACECRAFT_CLOCK_STOP_COUNT = "1/0149394915.33051"
START_TIME = 2008-01-26T02:32:19.724Z
STOP_TIME = 2008-01-26T02:34:42.536Z
/* ORBITAL DATA ELEMENTS */
ASCENDING_NODE_LONGITUDE = 119.48
MAXIMUM_RESOLUTION = 0.1057
FOOTPRINT_POINT_LATITUDE = (26.6721,26.672,26.6704,26.6681,26.668, 26.6587,26.4727,26.2865,26.1004,25.9141 ,25.7279,25.5415,25.3551,25.1686,24.982 ,24.6088,24.3288,24.1421,23.9553, 23.7683,23.488,23.301,23.114,22.927, 22.6464,22.4594,22.1803,21.8182,21.4562 ,21.094,20.7317,20.46,20.2787,20.0976, 19.8256,19.5538,19.3725,19.1913,19.01, 18.8287,18.6474,18.4662,18.2849,18.0129 ,17.8316,17.6503,17.4692,17.3786, 17.3429,17.342,17.3405,17.339,17.3389, 17.3405,17.5218,17.7032,17.8847,18.0661 ,18.2475,18.429,18.7011,18.8825,19.0639 ,19.2453,19.5174,19.6988,19.8801, 20.0615,20.2429,20.4242,20.6962,20.9681 ,21.1494,21.3307,21.5118,21.693,22.146, 22.424,22.6113,22.7987,22.9859,23.2666, 23.5474,23.7344,24.015,24.2019,24.3889, 24.5758,24.7626,24.9494,25.1361,25.3228 ,25.5094,25.696,25.8825,26.0689,26.3484 ,26.5348,26.6279,26.6721)
FOOTPRINT_POINT_LONGITUDE = (101.464,100.989,100.542,100.192,100.18 ,100.165,100.168,100.171,100.175, 100.178,100.181,100.184,100.187,100.19, 100.192,100.198,100.202,100.204,100.207 ,100.209,100.212,100.214,100.216, 100.218,100.221,100.223,100.226,100.229 ,100.232,100.234,100.237,100.239,100.24 ,100.241,100.242,100.243,100.244, 100.245,100.245,100.246,100.246,100.247 ,100.247,100.248,100.248,100.249, 100.249,100.249,100.249,100.831,101.181 ,101.43,101.442,101.449,101.45,101.45, 101.451,101.451,101.452,101.452,101.453 ,101.454,101.454,101.455,101.456, 101.456,101.457,101.458,101.458,101.459 ,101.46,101.461,101.461,101.462,101.463 ,101.464,101.465,101.466,101.467, 101.468,101.469,101.47,101.471,101.472, 101.473,101.474,101.475,101.476,101.476 ,101.477,101.478,101.479,101.48,101.481 ,101.482,101.483,101.484,101.485, 101.485,101.464)
ORBIT_NUMBER = 5223
ORBITAL_ECCENTRICITY = 0.573
ORBITAL_INCLINATION = 86.73
ORBITAL_SEMIMAJOR_AXIS = 8722.56
PERIAPSIS_ALTITUDE = 327.01
PERIAPSIS_ARGUMENT_ANGLE = 159.47
PERIAPSIS_TIME = 2008-01-26T02:33:59.000Z
SPACECRAFT_ORIENTATION = (0.0,-1.0,0.0)
^MEX_ORIENTATION_DESC = "MEX_ORIENTATION_DESC.TXT"
SPACECRAFT_POINTING_MODE = ACROSSTRACK
^MEX_POINTING_DESC = "MEX_POINTING_DESC.TXT"
RIGHT_ASCENSION = -1e+32
DECLINATION = -1e+32
OFFSET_ANGLE = 0.2
SPACECRAFT_SOLAR_DISTANCE = 2.40943e+08
TARGET_NAME = MARS
/* CAMERA DATA ELEMENTS */
DETECTOR_TEMPERATURE = 17.7588
FOCAL_PLANE_TEMPERATURE = 7.7677
INST_CMPRS_NAME = "DISCRETE COSINE TRANSFORMATION (DCT)"
INST_CMPRS_RATIO = 19.2124
INST_CMPRS_QUALITY = 0
INST_CMPRS_QUANTZ_TBL_ID = 0
INSTRUMENT_TEMPERATURE = 10.8262
LENS_TEMPERATURE = 7.5638
MACROPIXEL_SIZE = 8
MISSING_FRAMES = 0
PIXEL_SUBSAMPLING_FLAG = N
SIGNAL_CHAIN_ID = 2
/* RADIOMETRIC DATA ELEMENTS */
BANDWIDTH = 88.0
CENTER_FILTER_WAVELENGTH = 538.0
RADIANCE_OFFSET = 1.05856
RADIANCE_SCALING_FACTOR = 0.00499841
REFLECTANCE_SCALING_FACTOR = 0.000249834
MEX:REFLECTANCE_OFFSET = 0.0529097
/* IMAGE OBJECT DEFINITIONS */
OBJECT = IMAGE
  INTERCHANGE_FORMAT = BINARY
  LINES = 5541
  LINE_SAMPLES = 707
  SAMPLE_TYPE = UNSIGNED_INTEGER
  SAMPLE_BITS = 8
  BANDS = 1
  BAND_STORAGE_TYPE = BAND_SEQUENTIAL
  MAXIMUM = 254
  MEAN = 136.084
  MINIMUM = 1
  STANDARD_DEVIATION = 11.9698
END_OBJECT = IMAGE
/* MAP OBJECT DEFINITIONS */
OBJECT = IMAGE_MAP_PROJECTION
  ^DATA_SET_MAP_PROJECTION_CATALOG= "DSMAP.CAT"
  A_AXIS_RADIUS = 3396.0
  B_AXIS_RADIUS = 3396.0
  C_AXIS_RADIUS = 3396.0
  CENTER_LATITUDE = 0.0
  CENTER_LONGITUDE = 101.0
  COORDINATE_SYSTEM_NAME = PLANETOGRAPHIC
  COORDINATE_SYSTEM_TYPE = "BODY-FIXED ROTATING"
  EASTERNMOST_LONGITUDE = 101.485
  FIRST_STANDARD_PARALLEL = "N/A"
  LINE_FIRST_PIXEL = 1
  LINE_LAST_PIXEL = 5541
  LINE_PROJECTION_OFFSET = 15818.5625
  MAP_PROJECTION_ROTATION = 0.0
  MAP_PROJECTION_TYPE = SINUSOIDAL
  MAP_RESOLUTION = 592.713803866667
  MAP_SCALE = 0.1
  MAXIMUM_LATITUDE = 26.6721
  MINIMUM_LATITUDE = 17.3389
  POSITIVE_LONGITUDE_DIRECTION = EAST
  REFERENCE_LATITUDE = "N/A"
  REFERENCE_LONGITUDE = "N/A"
  SAMPLE_FIRST_PIXEL = 1
  SAMPLE_LAST_PIXEL = 707
  SAMPLE_PROJECTION_OFFSET = 449.1875
  SECOND_STANDARD_PARALLEL = "N/A"
  WESTERNMOST_LONGITUDE = 100.165
END_OBJECT = IMAGE_MAP_PROJECTION
END
