PDS_VERSION_ID = PDS3
/* FILE DATA ELEMENTS */
RECORD_TYPE = UNDEFINED
/* POINTERS TO DATA OBJECTS */
^IMAGE = ("H5210_0001_ND4.TIF")
/* IDENTIFICATION DATA ELEMENTS */
DATA_SET_ID = "MEX-M-HRSC-4-REFDR-MAPPROJECT-EXT2-V4.0"
DATA_SET_NAME = "MARS EXPRESS HRSC MAP PROJECTED REFDR EXTENSION2 V4.0"
DETECTOR_ID = MEX_HRSC_NADIR
EVENT_TYPE = "MARS-REGIONAL-MAPPING-Fl-Pf"
INSTRUMENT_HOST_ID = MEX
INSTRUMENT_HOST_NAME = "MARS EXPRESS"
INSTRUMENT_ID = HRSC
INSTRUMENT_NAME = "HIGH RESOLUTION STEREO CAMERA"
MISSION_NAME = "MARS EXPRESS"
MISSION_PHASE_NAME = ME_Phase_11
PROCESSING_LEVEL_ID = 4
PRODUCT_CREATION_TIME = 2023-02-01T12:09:47.000Z
PRODUCT_ID = "H5210_0001_ND4.TIF"
RELEASE_ID = 0001
REVISION_ID = 0000
/* QUALITY DATA ELEMENTS */
DATA_QUALITY_ID = 1
DATA_QUALITY_DESC = "Data calculated based on original SPICE kernels"
/* TIME DATA ELEMENTS */
SPACECRAFT_CLOCK_START_COUNT = "1/0149075484.08238"
SPACECRAFT_CLOCK_STOP_COUNT = "1/0149076659.42996"
START_TIME = 2008-01-22T09:53:18.134Z
STOP_TIME = 2008-01-22T10:01:47.119Z
/* ORBITAL DATA ELEMENTS */
ASCENDING_NODE_LONGITUDE = 119.74
MAXIMUM_RESOLUTION = 0.0413
FOOTPRINT_POINT_LATITUDE = (-37.3081,-37.3298,-37.3329,-37.3323, -37.3248,-37.3158,-37.315,-37.3142, -38.0395,-38.775,-39.522,-40.2806, -41.0512,-41.8338,-42.6288,-43.0311, -43.4366,-43.8452,-44.2571,-44.6724, -45.0909,-45.5129,-45.9386,-46.3677, -46.8003,-47.2363,-47.8974,-48.3398, -48.7794,-49.216,-49.6496,-50.0804, -50.5083,-50.9334,-51.3556,-51.775, -52.1916,-52.6054,-53.0166,-53.425, -53.8306,-54.2336,-55.0315,-55.819, -56.5963,-57.3633,-57.5536,-57.5727, -57.5948,-57.6049,-57.6043,-57.5971, -57.5738,-57.5396,-57.5076,-57.4689, -57.4231,-57.3777,-57.3202,-57.3125, -57.3081,-56.5657,-55.8114,-55.0455, -54.2672,-53.4778,-53.0789,-52.6769, -52.2721,-51.8641,-51.4533,-51.0395, -50.6227,-50.2027,-49.7794,-49.3532, -48.9237,-48.4914,-47.8368,-47.4, -46.9667,-46.5369,-46.1101,-45.6867, -45.2667,-44.8501,-44.4364,-44.0259, -43.6187,-43.2145,-42.8134,-42.0202, -41.2389,-40.4694,-39.7116,-38.965, -38.2294,-37.5049,-37.3251,-37.3081)
FOOTPRINT_POINT_LONGITUDE = (323.367,321.809,321.098,320.52,319.542 ,318.918,318.873,318.833,318.77,318.697 ,318.62,318.544,318.465,318.382,318.295 ,318.249,318.2,318.154,318.102,318.052, 318.001,317.948,317.895,317.84,317.784, 317.725,317.635,317.573,317.511,317.447 ,317.382,317.317,317.25,317.183,317.115 ,317.046,316.975,316.904,316.832, 316.759,316.685,316.61,316.456,316.298, 316.14,315.975,315.934,315.93,317.179, 318.44,319.351,320.257,321.613,322.858, 323.758,324.659,325.563,326.352,327.25, 327.363,327.418,327.134,326.866,326.613 ,326.379,326.151,326.038,325.928,325.82 ,325.716,325.613,325.511,325.411, 325.315,325.223,325.133,325.046,324.958 ,324.831,324.75,324.671,324.594,324.521 ,324.45,324.381,324.314,324.252,324.192 ,324.131,324.073,324.016,323.911, 323.814,323.722,323.636,323.556,323.48, 323.407,323.39,323.367)
ORBIT_NUMBER = 5210
ORBITAL_ECCENTRICITY = 0.573
ORBITAL_INCLINATION = 86.74
ORBITAL_SEMIMAJOR_AXIS = 8715.7
PERIAPSIS_ALTITUDE = 326.53
PERIAPSIS_ARGUMENT_ANGLE = 161.78
PERIAPSIS_TIME = 2008-01-22T09:37:19.000Z
SPACECRAFT_ORIENTATION = (0.0,-1.0,0.0)
^MEX_ORIENTATION_DESC = "MEX_ORIENTATION_DESC.TXT"
SPACECRAFT_POINTING_MODE = NADIR
^MEX_POINTING_DESC = "MEX_POINTING_DESC.TXT"
RIGHT_ASCENSION = -1e+32
DECLINATION = -1e+32
OFFSET_ANGLE = -1e+32
SPACECRAFT_SOLAR_DISTANCE = 2.40396e+08
TARGET_NAME = MARS
/* CAMERA DATA ELEMENTS */
DETECTOR_TEMPERATURE = 20.0017
FOCAL_PLANE_TEMPERATURE = 8.1755
INST_CMPRS_NAME = "DISCRETE COSINE TRANSFORMATION (DCT)"
INST_CMPRS_RATIO = 6.64091
INST_CMPRS_QUALITY = 0
INST_CMPRS_QUANTZ_TBL_ID = 0
INSTRUMENT_TEMPERATURE = 14.2925
LENS_TEMPERATURE = 8.9911
MACROPIXEL_SIZE = 1
MISSING_FRAMES = 0
PIXEL_SUBSAMPLING_FLAG = N
SIGNAL_CHAIN_ID = 0
/* RADIOMETRIC DATA ELEMENTS */
BANDWIDTH = 177.0
CENTER_FILTER_WAVELENGTH = 677.5
RADIANCE_OFFSET = 0.345182
RADIANCE_SCALING_FACTOR = 0.0119573
REFLECTANCE_SCALING_FACTOR = 0.000367093
MEX:REFLECTANCE_OFFSET = 0.0105972
/* IMAGE OBJECT DEFINITIONS */
OBJECT = IMAGE
  INTERCHANGE_FORMAT = BINARY
  LINES = 24063
  LINE_SAMPLES = 7331
  SAMPLE_TYPE = UNSIGNED_INTEGER
  SAMPLE_BITS = 8
  BANDS = 1
  BAND_STORAGE_TYPE = BAND_SEQUENTIAL
  MAXIMUM = 255
  MEAN = 133.867
  MINIMUM = 1
  STANDARD_DEVIATION = 42.8053
END_OBJECT = IMAGE
/* MAP OBJECT DEFINITIONS */
OBJECT = IMAGE_MAP_PROJECTION
  ^DATA_SET_MAP_PROJECTION_CATALOG= "DSMAP.CAT"
  A_AXIS_RADIUS = 3396.0
  B_AXIS_RADIUS = 3396.0
  C_AXIS_RADIUS = 3396.0
  CENTER_LATITUDE = 0.0
  CENTER_LONGITUDE = 321.0
  COORDINATE_SYSTEM_NAME = PLANETOGRAPHIC
  COORDINATE_SYSTEM_TYPE = "BODY-FIXED ROTATING"
  EASTERNMOST_LONGITUDE = 327.418
  FIRST_STANDARD_PARALLEL = "N/A"
  LINE_FIRST_PIXEL = 1
  LINE_LAST_PIXEL = 24063
  LINE_PROJECTION_OFFSET = -44225.0
  MAP_PROJECTION_ROTATION = 0.0
  MAP_PROJECTION_TYPE = SINUSOIDAL
  MAP_RESOLUTION = 1185.42760773333
  MAP_SCALE = 0.05
  MAXIMUM_LATITUDE = -37.3081
  MINIMUM_LATITUDE = -57.6049
  POSITIVE_LONGITUDE_DIRECTION = EAST
  REFERENCE_LATITUDE = "N/A"
  REFERENCE_LONGITUDE = "N/A"
  SAMPLE_FIRST_PIXEL = 1
  SAMPLE_LAST_PIXEL = 7331
  SAMPLE_PROJECTION_OFFSET = 3220.0
  SECOND_STANDARD_PARALLEL = "N/A"
  WESTERNMOST_LONGITUDE = 315.93
END_OBJECT = IMAGE_MAP_PROJECTION
END
