PDS_VERSION_ID = PDS3
/* FILE DATA ELEMENTS */
RECORD_TYPE = UNDEFINED
/* POINTERS TO DATA OBJECTS */
^IMAGE = ("H5203_0001_P24.TIF")
/* IDENTIFICATION DATA ELEMENTS */
DATA_SET_ID = "MEX-M-HRSC-4-REFDR-MAPPROJECT-EXT2-V4.0"
DATA_SET_NAME = "MARS EXPRESS HRSC MAP PROJECTED REFDR EXTENSION2 V4.0"
DETECTOR_ID = MEX_HRSC_P2
EVENT_TYPE = "MARS-REGIONAL-STEREO-Fl"
INSTRUMENT_HOST_ID = MEX
INSTRUMENT_HOST_NAME = "MARS EXPRESS"
INSTRUMENT_ID = HRSC
INSTRUMENT_NAME = "HIGH RESOLUTION STEREO CAMERA"
MISSION_NAME = "MARS EXPRESS"
MISSION_PHASE_NAME = ME_Phase_11
PROCESSING_LEVEL_ID = 4
PRODUCT_CREATION_TIME = 2023-02-01T12:09:47.000Z
PRODUCT_ID = "H5203_0001_P24.TIF"
RELEASE_ID = 0001
REVISION_ID = 0000
/* QUALITY DATA ELEMENTS */
DATA_QUALITY_ID = 1
DATA_QUALITY_DESC = "Data calculated based on original SPICE kernels"
/* TIME DATA ELEMENTS */
SPACECRAFT_CLOCK_START_COUNT = "1/0148902004.08252"
SPACECRAFT_CLOCK_STOP_COUNT = "1/0148902306.25045"
START_TIME = 2008-01-20T09:41:07.691Z
STOP_TIME = 2008-01-20T09:44:58.082Z
/* ORBITAL DATA ELEMENTS */
ASCENDING_NODE_LONGITUDE = 119.88
MAXIMUM_RESOLUTION = 0.0265
FOOTPRINT_POINT_LATITUDE = (28.5165,28.5076,28.4993,28.4902, 28.4899,28.5086,27.9551,27.5932,27.2916 ,26.9849,26.6802,26.3739,26.0627, 25.7606,25.4563,25.1503,24.8344,24.5282 ,24.069,23.7633,23.4574,23.1482,22.842, 22.5355,22.0757,21.7697,21.4629,21.1559 ,20.8534,20.5569,20.2605,19.8158, 19.5188,19.2241,18.9262,18.6305,18.3344 ,18.0383,17.7425,17.4469,17.1511, 16.8556,16.5634,16.2779,15.9926,15.7074 ,15.1374,14.5678,13.9987,13.5728, 13.4309,13.414,13.4191,13.4253,13.43, 13.4302,13.4306,14.2836,14.8526,15.1381 ,15.4233,15.9938,16.2797,16.5653, 16.8571,17.3005,17.5963,17.8925,18.3365 ,18.781,19.0774,19.522,19.8185,20.1153, 20.4122,20.7078,21.0063,21.3131,21.6197 ,21.9262,22.2329,22.6926,23.1528,23.461 ,23.9197,24.2267,24.5337,24.8436,25.306 ,25.616,25.9228,26.2254,26.532,26.8336, 27.1401,27.5993,27.9615,28.3298,28.511, 28.5165)
FOOTPRINT_POINT_LONGITUDE = (302.881,302.372,301.948,301.527, 301.514,301.504,301.519,301.526,301.531 ,301.538,301.543,301.549,301.557, 301.561,301.566,301.571,301.579,301.583 ,301.59,301.594,301.598,301.603,301.607 ,301.611,301.616,301.619,301.622, 301.625,301.628,301.631,301.633,301.637 ,301.639,301.64,301.643,301.644,301.646 ,301.647,301.648,301.65,301.651,301.651 ,301.652,301.653,301.653,301.654, 301.654,301.654,301.654,301.653,301.653 ,301.653,302.013,302.48,302.815,302.826 ,302.831,302.832,302.832,302.833, 302.834,302.835,302.836,302.837,302.838 ,302.839,302.84,302.841,302.842,302.844 ,302.845,302.847,302.848,302.849, 302.851,302.851,302.853,302.855,302.856 ,302.857,302.859,302.861,302.863, 302.866,302.867,302.869,302.871,302.876 ,302.882,302.888,302.89,302.887,302.89, 302.886,302.888,302.891,302.894,302.9, 302.9,302.881)
ORBIT_NUMBER = 5203
ORBITAL_ECCENTRICITY = 0.573
ORBITAL_INCLINATION = 86.73
ORBITAL_SEMIMAJOR_AXIS = 8721.08
PERIAPSIS_ALTITUDE = 325.61
PERIAPSIS_ARGUMENT_ANGLE = 163.03
PERIAPSIS_TIME = 2008-01-20T09:43:51.000Z
SPACECRAFT_ORIENTATION = (0.0,-1.0,0.0)
^MEX_ORIENTATION_DESC = "MEX_ORIENTATION_DESC.TXT"
SPACECRAFT_POINTING_MODE = ACROSSTRACK
^MEX_POINTING_DESC = "MEX_POINTING_DESC.TXT"
RIGHT_ASCENSION = -1e+32
DECLINATION = -1e+32
OFFSET_ANGLE = 0.35
SPACECRAFT_SOLAR_DISTANCE = 2.40095e+08
TARGET_NAME = MARS
/* CAMERA DATA ELEMENTS */
DETECTOR_TEMPERATURE = 20.0017
FOCAL_PLANE_TEMPERATURE = 8.3794
INST_CMPRS_NAME = "DISCRETE COSINE TRANSFORMATION (DCT)"
INST_CMPRS_RATIO = 7.14254
INST_CMPRS_QUALITY = 0
INST_CMPRS_QUANTZ_TBL_ID = 0
INSTRUMENT_TEMPERATURE = 12.6613
LENS_TEMPERATURE = 8.7872
MACROPIXEL_SIZE = 2
MISSING_FRAMES = 0
PIXEL_SUBSAMPLING_FLAG = N
SIGNAL_CHAIN_ID = 3
/* RADIOMETRIC DATA ELEMENTS */
BANDWIDTH = 177.0
CENTER_FILTER_WAVELENGTH = 676.5
RADIANCE_OFFSET = 2.04183
RADIANCE_SCALING_FACTOR = 0.0265336
REFLECTANCE_SCALING_FACTOR = 0.000810994
MEX:REFLECTANCE_OFFSET = 0.0624082
/* IMAGE OBJECT DEFINITIONS */
OBJECT = IMAGE
  INTERCHANGE_FORMAT = BINARY
  LINES = 36093
  LINE_SAMPLES = 3025
  SAMPLE_TYPE = UNSIGNED_INTEGER
  SAMPLE_BITS = 8
  BANDS = 1
  BAND_STORAGE_TYPE = BAND_SEQUENTIAL
  MAXIMUM = 255
  MEAN = 95.0554
  MINIMUM = 1
  STANDARD_DEVIATION = 29.4457
END_OBJECT = IMAGE
/* MAP OBJECT DEFINITIONS */
OBJECT = IMAGE_MAP_PROJECTION
  ^DATA_SET_MAP_PROJECTION_CATALOG= "DSMAP.CAT"
  A_AXIS_RADIUS = 3396.0
  B_AXIS_RADIUS = 3396.0
  C_AXIS_RADIUS = 3396.0
  CENTER_LATITUDE = 0.0
  CENTER_LONGITUDE = 302.0
  COORDINATE_SYSTEM_NAME = PLANETOGRAPHIC
  COORDINATE_SYSTEM_TYPE = "BODY-FIXED ROTATING"
  EASTERNMOST_LONGITUDE = 302.9
  FIRST_STANDARD_PARALLEL = "N/A"
  LINE_FIRST_PIXEL = 1
  LINE_LAST_PIXEL = 36093
  LINE_PROJECTION_OFFSET = 67896.75
  MAP_PROJECTION_ROTATION = 0.0
  MAP_PROJECTION_TYPE = SINUSOIDAL
  MAP_RESOLUTION = 2370.85521546667
  MAP_SCALE = 0.025
  MAXIMUM_LATITUDE = 28.5165
  MINIMUM_LATITUDE = 13.414
  POSITIVE_LONGITUDE_DIRECTION = EAST
  REFERENCE_LATITUDE = "N/A"
  REFERENCE_LONGITUDE = "N/A"
  SAMPLE_FIRST_PIXEL = 1
  SAMPLE_LAST_PIXEL = 3025
  SAMPLE_PROJECTION_OFFSET = 1067.75
  SECOND_STANDARD_PARALLEL = "N/A"
  WESTERNMOST_LONGITUDE = 301.504
END_OBJECT = IMAGE_MAP_PROJECTION
END
