PDS_VERSION_ID = PDS3
/* FILE DATA ELEMENTS */
RECORD_TYPE = UNDEFINED
/* POINTERS TO DATA OBJECTS */
^IMAGE = ("H5173_0000_S24.TIF")
/* IDENTIFICATION DATA ELEMENTS */
DATA_SET_ID = "MEX-M-HRSC-4-REFDR-MAPPROJECT-EXT2-V4.0"
DATA_SET_NAME = "MARS EXPRESS HRSC MAP PROJECTED REFDR EXTENSION2 V4.0"
DETECTOR_ID = MEX_HRSC_S2
EVENT_TYPE = "MARS-REGIONAL-MAPPING-Te-Fl-Pf"
INSTRUMENT_HOST_ID = MEX
INSTRUMENT_HOST_NAME = "MARS EXPRESS"
INSTRUMENT_ID = HRSC
INSTRUMENT_NAME = "HIGH RESOLUTION STEREO CAMERA"
MISSION_NAME = "MARS EXPRESS"
MISSION_PHASE_NAME = ME_Phase_11
PROCESSING_LEVEL_ID = 4
PRODUCT_CREATION_TIME = 2023-02-01T12:09:47.000Z
PRODUCT_ID = "H5173_0000_S24.TIF"
RELEASE_ID = 0001
REVISION_ID = 0000
/* QUALITY DATA ELEMENTS */
DATA_QUALITY_ID = 1
DATA_QUALITY_DESC = "Data calculated based on original SPICE kernels"
/* TIME DATA ELEMENTS */
SPACECRAFT_CLOCK_START_COUNT = "1/0148162958.09071"
SPACECRAFT_CLOCK_STOP_COUNT = "1/0148163372.25649"
START_TIME = 2008-01-11T20:24:17.016Z
STOP_TIME = 2008-01-11T20:29:34.241Z
/* ORBITAL DATA ELEMENTS */
ASCENDING_NODE_LONGITUDE = 120.49
MAXIMUM_RESOLUTION = 0.0277
FOOTPRINT_POINT_LATITUDE = (38.7473,38.739,38.7316,38.7206,38.7203 ,38.7796,38.2886,37.8011,37.3079, 36.8173,36.3226,35.841,35.1274,34.4175, 33.7238,33.0346,32.5779,32.1127,31.6524 ,31.1875,30.7274,30.2795,29.8102, 29.3457,28.8861,28.4344,28.05,27.6601, 27.2753,26.8969,26.5115,25.9338,25.5341 ,24.9509,24.3728,23.9855,23.6019, 23.2149,22.8289,22.2505,21.8763,21.5023 ,20.9415,20.5677,20.1939,19.8205,19.26, 18.5254,17.9782,17.8001,17.7813,17.7817 ,17.7814,17.7814,17.7818,18.5034, 19.2382,19.6135,20.175,20.5486,20.9228, 21.2953,21.8553,22.2289,22.6124,23.0004 ,23.3822,23.768,24.1552,24.5451,25.1279 ,25.7142,26.1031,26.492,26.8754,27.4554 ,27.842,28.2293,28.6401,29.1022,29.5601 ,30.0294,30.4954,30.9511,31.4091, 31.8734,32.3318,32.7936,33.2507,33.7167 ,34.1826,34.6505,35.3555,35.8426, 36.5628,37.0564,37.7963,38.5365,38.7832 ,38.7473)
FOOTPRINT_POINT_LONGITUDE = (64.0051,63.2437,62.6975,62.0139, 61.9944,61.9629,61.9941,62.0227,62.0524 ,62.0798,62.1077,62.1335,62.1676, 62.2036,62.2344,62.2648,62.2829,62.3036 ,62.3215,62.3405,62.357,62.3683,62.3868 ,62.4028,62.4165,62.4301,62.4403, 62.4521,62.4617,62.4687,62.4778,62.4906 ,62.5037,62.517,62.5279,62.5354,62.5414 ,62.5482,62.5545,62.5634,62.569,62.5743 ,62.5817,62.5863,62.5908,62.5948, 62.6007,62.6076,62.6141,62.6148,62.6149 ,63.1955,63.8,63.8116,63.8158,63.8209, 63.8263,63.8296,63.834,63.8368,63.8397, 63.8421,63.8461,63.8489,63.8516,63.8551 ,63.8567,63.8596,63.863,63.8673,63.8732 ,63.8804,63.8846,63.8888,63.8913, 63.8967,63.9004,63.9044,63.9088,63.9137 ,63.9172,63.9248,63.9314,63.9346, 63.9387,63.9451,63.9496,63.9554,63.9597 ,63.9673,63.9743,63.9786,63.9857, 63.9931,63.9991,64.0051,64.0143,64.0243 ,64.0277,64.0051)
ORBIT_NUMBER = 5173
ORBITAL_ECCENTRICITY = 0.574
ORBITAL_INCLINATION = 86.74
ORBITAL_SEMIMAJOR_AXIS = 8729.95
PERIAPSIS_ALTITUDE = 321.75
PERIAPSIS_ARGUMENT_ANGLE = 168.29
PERIAPSIS_TIME = 2008-01-11T20:30:38.000Z
SPACECRAFT_ORIENTATION = (0.0,-1.0,0.0)
^MEX_ORIENTATION_DESC = "MEX_ORIENTATION_DESC.TXT"
SPACECRAFT_POINTING_MODE = NADIR
^MEX_POINTING_DESC = "MEX_POINTING_DESC.TXT"
RIGHT_ASCENSION = -1e+32
DECLINATION = -1e+32
OFFSET_ANGLE = -1e+32
SPACECRAFT_SOLAR_DISTANCE = 2.38762e+08
TARGET_NAME = MARS
/* CAMERA DATA ELEMENTS */
DETECTOR_TEMPERATURE = 18.9822
FOCAL_PLANE_TEMPERATURE = 8.3794
INST_CMPRS_NAME = "DISCRETE COSINE TRANSFORMATION (DCT)"
INST_CMPRS_RATIO = 7.55908
INST_CMPRS_QUALITY = 0
INST_CMPRS_QUANTZ_TBL_ID = 0
INSTRUMENT_TEMPERATURE = 10.8262
LENS_TEMPERATURE = 8.7872
MACROPIXEL_SIZE = 2
MISSING_FRAMES = 0
PIXEL_SUBSAMPLING_FLAG = N
SIGNAL_CHAIN_ID = 1
/* RADIOMETRIC DATA ELEMENTS */
BANDWIDTH = 178.0
CENTER_FILTER_WAVELENGTH = 679.0
RADIANCE_OFFSET = 2.31885
RADIANCE_SCALING_FACTOR = 0.0205801
REFLECTANCE_SCALING_FACTOR = 0.000621304
MEX:REFLECTANCE_OFFSET = 0.0700051
/* IMAGE OBJECT DEFINITIONS */
OBJECT = IMAGE
  INTERCHANGE_FORMAT = BINARY
  LINES = 49849
  LINE_SAMPLES = 4028
  SAMPLE_TYPE = UNSIGNED_INTEGER
  SAMPLE_BITS = 8
  BANDS = 1
  BAND_STORAGE_TYPE = BAND_SEQUENTIAL
  MAXIMUM = 255
  MEAN = 132.238
  MINIMUM = 1
  STANDARD_DEVIATION = 32.4887
END_OBJECT = IMAGE
/* MAP OBJECT DEFINITIONS */
OBJECT = IMAGE_MAP_PROJECTION
  ^DATA_SET_MAP_PROJECTION_CATALOG= "DSMAP.CAT"
  A_AXIS_RADIUS = 3396.0
  B_AXIS_RADIUS = 3396.0
  C_AXIS_RADIUS = 3396.0
  CENTER_LATITUDE = 0.0
  CENTER_LONGITUDE = 63.0
  COORDINATE_SYSTEM_NAME = PLANETOGRAPHIC
  COORDINATE_SYSTEM_TYPE = "BODY-FIXED ROTATING"
  EASTERNMOST_LONGITUDE = 64.0277
  FIRST_STANDARD_PARALLEL = "N/A"
  LINE_FIRST_PIXEL = 1
  LINE_LAST_PIXEL = 49849
  LINE_PROJECTION_OFFSET = 92026.75
  MAP_PROJECTION_ROTATION = 0.0
  MAP_PROJECTION_TYPE = SINUSOIDAL
  MAP_RESOLUTION = 2370.85521546667
  MAP_SCALE = 0.025
  MAXIMUM_LATITUDE = 38.7832
  MINIMUM_LATITUDE = 17.7813
  POSITIVE_LONGITUDE_DIRECTION = EAST
  REFERENCE_LATITUDE = "N/A"
  REFERENCE_LONGITUDE = "N/A"
  SAMPLE_FIRST_PIXEL = 1
  SAMPLE_LAST_PIXEL = 4028
  SAMPLE_PROJECTION_OFFSET = 2029.75
  SECOND_STANDARD_PARALLEL = "N/A"
  WESTERNMOST_LONGITUDE = 61.9629
END_OBJECT = IMAGE_MAP_PROJECTION
END
