PDS_VERSION_ID = PDS3
/* FILE DATA ELEMENTS */
RECORD_TYPE = UNDEFINED
/* POINTERS TO DATA OBJECTS */
^IMAGE = ("H5173_0000_S14.TIF")
/* IDENTIFICATION DATA ELEMENTS */
DATA_SET_ID = "MEX-M-HRSC-4-REFDR-MAPPROJECT-EXT2-V4.0"
DATA_SET_NAME = "MARS EXPRESS HRSC MAP PROJECTED REFDR EXTENSION2 V4.0"
DETECTOR_ID = MEX_HRSC_S1
EVENT_TYPE = "MARS-REGIONAL-MAPPING-Te-Fl-Pf"
INSTRUMENT_HOST_ID = MEX
INSTRUMENT_HOST_NAME = "MARS EXPRESS"
INSTRUMENT_ID = HRSC
INSTRUMENT_NAME = "HIGH RESOLUTION STEREO CAMERA"
MISSION_NAME = "MARS EXPRESS"
MISSION_PHASE_NAME = ME_Phase_11
PROCESSING_LEVEL_ID = 4
PRODUCT_CREATION_TIME = 2023-02-01T12:09:47.000Z
PRODUCT_ID = "H5173_0000_S14.TIF"
RELEASE_ID = 0001
REVISION_ID = 0000
/* QUALITY DATA ELEMENTS */
DATA_QUALITY_ID = 1
DATA_QUALITY_DESC = "Data calculated based on original SPICE kernels"
/* TIME DATA ELEMENTS */
SPACECRAFT_CLOCK_START_COUNT = "1/0148162958.09071"
SPACECRAFT_CLOCK_STOP_COUNT = "1/0148163372.25649"
START_TIME = 2008-01-11T20:22:41.986Z
STOP_TIME = 2008-01-11T20:28:35.106Z
/* ORBITAL DATA ELEMENTS */
ASCENDING_NODE_LONGITUDE = 120.49
MAXIMUM_RESOLUTION = 0.0285
FOOTPRINT_POINT_LATITUDE = (38.8717,38.8631,38.8516,38.83,38.8293, 38.7677,38.1295,37.6993,37.2702,36.8373 ,36.4064,35.9703,35.5289,34.8737, 34.2043,33.7583,33.3097,32.8655,32.4094 ,31.9611,31.5116,30.8402,30.1607, 29.7338,29.2924,28.8578,28.4299,27.9943 ,27.5639,26.9001,26.241,25.801,25.3725, 24.9298,24.4849,24.0641,23.6892,23.1226 ,22.7461,22.3691,21.9916,21.6135, 21.2343,20.8545,20.4743,19.9019,19.5202 ,19.1366,18.7516,18.0026,17.8136, 17.7949,17.7963,17.7951,17.7951,17.7955 ,18.3548,18.9313,19.3146,19.6954, 20.0778,20.4595,20.8403,21.4117,21.983, 22.3617,22.7354,23.1174,24.0609,24.6984 ,25.1405,25.5788,26.2364,26.677,27.118, 27.5539,28.2057,28.6386,29.0705,29.5083 ,30.1598,30.8305,31.2813,31.9587,32.417 ,33.0943,33.5426,34.2062,34.6509,35.101 ,35.5372,35.9793,36.4213,36.8565, 37.2899,37.722,38.1505,38.5771,38.79, 38.8717)
FOOTPRINT_POINT_LONGITUDE = (64.1588,63.2601,62.6542,61.8683, 61.8458,61.8179,61.8656,61.8956,61.9258 ,61.9547,61.9842,62.0117,62.0374, 62.0781,62.1139,62.1377,62.1606,62.1849 ,62.2052,62.228,62.2503,62.2802,62.3039 ,62.3249,62.3412,62.3555,62.3719, 62.3857,62.4011,62.4184,62.4371,62.4493 ,62.4652,62.4764,62.487,62.4968,62.5048 ,62.5167,62.5242,62.5314,62.5386, 62.5455,62.552,62.5583,62.5644,62.5729, 62.5784,62.5834,62.5878,62.5994,62.6006 ,62.6008,63.3281,63.8174,63.8294, 63.8337,63.8395,63.8456,63.8498,63.8547 ,63.8589,63.8631,63.8675,63.8737, 63.8795,63.8838,63.8896,63.8924,63.9035 ,63.9129,63.9195,63.9271,63.9379, 63.9439,63.9493,63.9562,63.9666,63.9736 ,63.9805,63.987,64.0013,64.0125,64.0192 ,64.034,64.041,64.0544,64.0638,64.0802, 64.0896,64.0964,64.1079,64.1166,64.1247 ,64.1349,64.1451,64.1553,64.1663, 64.1774,64.1829,64.1588)
ORBIT_NUMBER = 5173
ORBITAL_ECCENTRICITY = 0.574
ORBITAL_INCLINATION = 86.74
ORBITAL_SEMIMAJOR_AXIS = 8729.95
PERIAPSIS_ALTITUDE = 321.75
PERIAPSIS_ARGUMENT_ANGLE = 168.29
PERIAPSIS_TIME = 2008-01-11T20:30:38.000Z
SPACECRAFT_ORIENTATION = (0.0,-1.0,0.0)
^MEX_ORIENTATION_DESC = "MEX_ORIENTATION_DESC.TXT"
SPACECRAFT_POINTING_MODE = NADIR
^MEX_POINTING_DESC = "MEX_POINTING_DESC.TXT"
RIGHT_ASCENSION = -1e+32
DECLINATION = -1e+32
OFFSET_ANGLE = -1e+32
SPACECRAFT_SOLAR_DISTANCE = 2.38762e+08
TARGET_NAME = MARS
/* CAMERA DATA ELEMENTS */
DETECTOR_TEMPERATURE = 17.5549
FOCAL_PLANE_TEMPERATURE = 8.3794
INST_CMPRS_NAME = "DISCRETE COSINE TRANSFORMATION (DCT)"
INST_CMPRS_RATIO = 6.45125
INST_CMPRS_QUALITY = 0
INST_CMPRS_QUANTZ_TBL_ID = 0
INSTRUMENT_TEMPERATURE = 10.8262
LENS_TEMPERATURE = 8.7872
MACROPIXEL_SIZE = 2
MISSING_FRAMES = 1
PIXEL_SUBSAMPLING_FLAG = N
SIGNAL_CHAIN_ID = 1
/* RADIOMETRIC DATA ELEMENTS */
BANDWIDTH = 180.0
CENTER_FILTER_WAVELENGTH = 677.0
RADIANCE_OFFSET = 2.44794
RADIANCE_SCALING_FACTOR = 0.0215221
REFLECTANCE_SCALING_FACTOR = 0.000640109
MEX:REFLECTANCE_OFFSET = 0.0728066
/* IMAGE OBJECT DEFINITIONS */
OBJECT = IMAGE
  INTERCHANGE_FORMAT = BINARY
  LINES = 49849
  LINE_SAMPLES = 4028
  SAMPLE_TYPE = UNSIGNED_INTEGER
  SAMPLE_BITS = 8
  BANDS = 1
  BAND_STORAGE_TYPE = BAND_SEQUENTIAL
  MAXIMUM = 255
  MEAN = 130.998
  MINIMUM = 1
  STANDARD_DEVIATION = 32.2414
END_OBJECT = IMAGE
/* MAP OBJECT DEFINITIONS */
OBJECT = IMAGE_MAP_PROJECTION
  ^DATA_SET_MAP_PROJECTION_CATALOG= "DSMAP.CAT"
  A_AXIS_RADIUS = 3396.0
  B_AXIS_RADIUS = 3396.0
  C_AXIS_RADIUS = 3396.0
  CENTER_LATITUDE = 0.0
  CENTER_LONGITUDE = 63.0
  COORDINATE_SYSTEM_NAME = PLANETOGRAPHIC
  COORDINATE_SYSTEM_TYPE = "BODY-FIXED ROTATING"
  EASTERNMOST_LONGITUDE = 64.1829
  FIRST_STANDARD_PARALLEL = "N/A"
  LINE_FIRST_PIXEL = 1
  LINE_LAST_PIXEL = 49849
  LINE_PROJECTION_OFFSET = 92026.75
  MAP_PROJECTION_ROTATION = 0.0
  MAP_PROJECTION_TYPE = SINUSOIDAL
  MAP_RESOLUTION = 2370.85521546667
  MAP_SCALE = 0.025
  MAXIMUM_LATITUDE = 38.8717
  MINIMUM_LATITUDE = 17.7949
  POSITIVE_LONGITUDE_DIRECTION = EAST
  REFERENCE_LATITUDE = "N/A"
  REFERENCE_LONGITUDE = "N/A"
  SAMPLE_FIRST_PIXEL = 1
  SAMPLE_LAST_PIXEL = 4028
  SAMPLE_PROJECTION_OFFSET = 2029.75
  SECOND_STANDARD_PARALLEL = "N/A"
  WESTERNMOST_LONGITUDE = 61.8179
END_OBJECT = IMAGE_MAP_PROJECTION
END
