PDS_VERSION_ID = PDS3
/* FILE DATA ELEMENTS */
RECORD_TYPE = UNDEFINED
/* POINTERS TO DATA OBJECTS */
^IMAGE = ("H5173_0000_ND4.TIF")
/* IDENTIFICATION DATA ELEMENTS */
DATA_SET_ID = "MEX-M-HRSC-4-REFDR-MAPPROJECT-EXT2-V4.0"
DATA_SET_NAME = "MARS EXPRESS HRSC MAP PROJECTED REFDR EXTENSION2 V4.0"
DETECTOR_ID = MEX_HRSC_NADIR
EVENT_TYPE = "MARS-REGIONAL-MAPPING-Te-Fl-Pf"
INSTRUMENT_HOST_ID = MEX
INSTRUMENT_HOST_NAME = "MARS EXPRESS"
INSTRUMENT_ID = HRSC
INSTRUMENT_NAME = "HIGH RESOLUTION STEREO CAMERA"
MISSION_NAME = "MARS EXPRESS"
MISSION_PHASE_NAME = ME_Phase_11
PROCESSING_LEVEL_ID = 4
PRODUCT_CREATION_TIME = 2023-02-01T12:09:47.000Z
PRODUCT_ID = "H5173_0000_ND4.TIF"
RELEASE_ID = 0001
REVISION_ID = 0000
/* QUALITY DATA ELEMENTS */
DATA_QUALITY_ID = 1
DATA_QUALITY_DESC = "Data calculated based on original SPICE kernels"
/* TIME DATA ELEMENTS */
SPACECRAFT_CLOCK_START_COUNT = "1/0148162958.09071"
SPACECRAFT_CLOCK_STOP_COUNT = "1/0148163372.25649"
START_TIME = 2008-01-11T20:23:33.087Z
STOP_TIME = 2008-01-11T20:29:05.090Z
/* ORBITAL DATA ELEMENTS */
ASCENDING_NODE_LONGITUDE = 120.49
MAXIMUM_RESOLUTION = 0.0132
FOOTPRINT_POINT_LATITUDE = (38.8118,38.8049,38.7936,38.7785, 38.7779,38.7778,38.3195,37.86,37.1661, 36.7034,36.2394,35.7742,35.3079,34.8403 ,34.3715,33.6696,33.2099,32.7493, 32.0739,31.6233,31.1829,30.7416,30.2995 ,29.8565,29.4126,28.968,28.5226,28.0765 ,27.6296,27.182,26.7338,26.2923,25.5383 ,24.7826,24.4041,24.0252,23.646,23.2663 ,22.8862,22.5058,22.125,21.7439,21.3624 ,20.9806,20.5986,20.2192,19.4783, 18.7365,17.9937,17.8079,17.7883,17.7895 ,17.7889,17.7888,17.789,18.7182,19.4607 ,20.2022,20.5812,20.9636,21.3457, 21.7274,22.1089,22.4901,22.8709,23.2513 ,23.6313,24.011,24.3904,24.7693,25.5259 ,26.2809,26.7191,27.168,27.6163,28.0638 ,28.5107,28.9568,29.4021,29.8466, 30.2906,30.7335,31.1756,31.6169,32.2935 ,32.7445,33.2054,33.6663,34.3694, 34.8393,35.308,35.7758,36.2421,36.7075, 37.1716,37.6366,38.0983,38.5588,38.7886 ,38.8118)
FOOTPRINT_POINT_LONGITUDE = (64.0585,63.3645,62.6501,61.9561,61.935 ,61.9023,61.9338,61.963,62.008,62.0358, 62.0632,62.0896,62.1135,62.1399,62.1641 ,62.1983,62.2181,62.2401,62.2706, 62.2903,62.3097,62.3267,62.3387,62.3572 ,62.3741,62.3895,62.4038,62.4168, 62.4314,62.4435,62.453,62.4646,62.4862, 62.5048,62.5128,62.5205,62.5275,62.5348 ,62.5417,62.5483,62.5548,62.561,62.5671 ,62.5727,62.5781,62.5832,62.5926, 62.6003,62.6103,62.6113,62.6114,63.349, 63.8014,63.8133,63.8192,63.8271,63.8338 ,63.841,63.8445,63.8479,63.8512,63.854, 63.8576,63.8613,63.8653,63.8675,63.8702 ,63.8745,63.8793,63.8837,63.893,63.904, 63.9087,63.9125,63.918,63.9234,63.9292, 63.9348,63.9396,63.9459,63.9553,63.9599 ,63.9646,63.9703,63.9807,63.9868, 63.9929,64.0012,64.0138,64.0192,64.0245 ,64.0343,64.0385,64.0462,64.0537,64.061 ,64.0693,64.0775,64.0812,64.0585)
ORBIT_NUMBER = 5173
ORBITAL_ECCENTRICITY = 0.574
ORBITAL_INCLINATION = 86.74
ORBITAL_SEMIMAJOR_AXIS = 8729.95
PERIAPSIS_ALTITUDE = 321.75
PERIAPSIS_ARGUMENT_ANGLE = 168.29
PERIAPSIS_TIME = 2008-01-11T20:30:38.000Z
SPACECRAFT_ORIENTATION = (0.0,-1.0,0.0)
^MEX_ORIENTATION_DESC = "MEX_ORIENTATION_DESC.TXT"
SPACECRAFT_POINTING_MODE = NADIR
^MEX_POINTING_DESC = "MEX_POINTING_DESC.TXT"
RIGHT_ASCENSION = -1e+32
DECLINATION = -1e+32
OFFSET_ANGLE = -1e+32
SPACECRAFT_SOLAR_DISTANCE = 2.38762e+08
TARGET_NAME = MARS
/* CAMERA DATA ELEMENTS */
DETECTOR_TEMPERATURE = 18.5744
FOCAL_PLANE_TEMPERATURE = 8.3794
INST_CMPRS_NAME = "DISCRETE COSINE TRANSFORMATION (DCT)"
INST_CMPRS_RATIO = 6.16116
INST_CMPRS_QUALITY = 0
INST_CMPRS_QUANTZ_TBL_ID = 0
INSTRUMENT_TEMPERATURE = 10.8262
LENS_TEMPERATURE = 8.7872
MACROPIXEL_SIZE = 1
MISSING_FRAMES = 0
MISSING_FRAMES = 1
PIXEL_SUBSAMPLING_FLAG = N
SIGNAL_CHAIN_ID = 0
/* RADIOMETRIC DATA ELEMENTS */
BANDWIDTH = 177.0
CENTER_FILTER_WAVELENGTH = 677.5
RADIANCE_OFFSET = 1.82301
RADIANCE_SCALING_FACTOR = 0.0203351
REFLECTANCE_SCALING_FACTOR = 0.00061583
MEX:REFLECTANCE_OFFSET = 0.0552082
/* IMAGE OBJECT DEFINITIONS */
OBJECT = IMAGE
  INTERCHANGE_FORMAT = BINARY
  LINES = 99698
  LINE_SAMPLES = 8056
  SAMPLE_TYPE = UNSIGNED_INTEGER
  SAMPLE_BITS = 8
  BANDS = 1
  BAND_STORAGE_TYPE = BAND_SEQUENTIAL
  MAXIMUM = 255
  MEAN = 128.682
  MINIMUM = 1
  STANDARD_DEVIATION = 31.7765
END_OBJECT = IMAGE
/* MAP OBJECT DEFINITIONS */
OBJECT = IMAGE_MAP_PROJECTION
  ^DATA_SET_MAP_PROJECTION_CATALOG= "DSMAP.CAT"
  A_AXIS_RADIUS = 3396.0
  B_AXIS_RADIUS = 3396.0
  C_AXIS_RADIUS = 3396.0
  CENTER_LATITUDE = 0.0
  CENTER_LONGITUDE = 63.0
  COORDINATE_SYSTEM_NAME = PLANETOGRAPHIC
  COORDINATE_SYSTEM_TYPE = "BODY-FIXED ROTATING"
  EASTERNMOST_LONGITUDE = 64.0812
  FIRST_STANDARD_PARALLEL = "N/A"
  LINE_FIRST_PIXEL = 1
  LINE_LAST_PIXEL = 99698
  LINE_PROJECTION_OFFSET = 184054.0
  MAP_PROJECTION_ROTATION = 0.0
  MAP_PROJECTION_TYPE = SINUSOIDAL
  MAP_RESOLUTION = 4741.71043093333
  MAP_SCALE = 0.0125
  MAXIMUM_LATITUDE = 38.8118
  MINIMUM_LATITUDE = 17.7883
  POSITIVE_LONGITUDE_DIRECTION = EAST
  REFERENCE_LATITUDE = "N/A"
  REFERENCE_LONGITUDE = "N/A"
  SAMPLE_FIRST_PIXEL = 1
  SAMPLE_LAST_PIXEL = 8056
  SAMPLE_PROJECTION_OFFSET = 4060.0
  SECOND_STANDARD_PARALLEL = "N/A"
  WESTERNMOST_LONGITUDE = 61.9023
END_OBJECT = IMAGE_MAP_PROJECTION
END
