PDS_VERSION_ID = PDS3
/* FILE DATA ELEMENTS */
RECORD_TYPE = UNDEFINED
/* POINTERS TO DATA OBJECTS */
^IMAGE = ("H5173_0000_IR4.TIF")
/* IDENTIFICATION DATA ELEMENTS */
DATA_SET_ID = "MEX-M-HRSC-4-REFDR-MAPPROJECT-EXT2-V4.0"
DATA_SET_NAME = "MARS EXPRESS HRSC MAP PROJECTED REFDR EXTENSION2 V4.0"
DETECTOR_ID = MEX_HRSC_IR
EVENT_TYPE = "MARS-REGIONAL-MAPPING-Te-Fl-Pf"
INSTRUMENT_HOST_ID = MEX
INSTRUMENT_HOST_NAME = "MARS EXPRESS"
INSTRUMENT_ID = HRSC
INSTRUMENT_NAME = "HIGH RESOLUTION STEREO CAMERA"
MISSION_NAME = "MARS EXPRESS"
MISSION_PHASE_NAME = ME_Phase_11
PROCESSING_LEVEL_ID = 4
PRODUCT_CREATION_TIME = 2023-02-01T12:09:47.000Z
PRODUCT_ID = "H5173_0000_IR4.TIF"
RELEASE_ID = 0001
REVISION_ID = 0000
/* QUALITY DATA ELEMENTS */
DATA_QUALITY_ID = 1
DATA_QUALITY_DESC = "Data calculated based on original SPICE kernels"
/* TIME DATA ELEMENTS */
SPACECRAFT_CLOCK_START_COUNT = "1/0148162958.09071"
SPACECRAFT_CLOCK_STOP_COUNT = "1/0148163372.25649"
START_TIME = 2008-01-11T20:22:51.471Z
STOP_TIME = 2008-01-11T20:28:40.370Z
/* ORBITAL DATA ELEMENTS */
ASCENDING_NODE_LONGITUDE = 120.49
MAXIMUM_RESOLUTION = 0.0558
FOOTPRINT_POINT_LATITUDE = (38.8572,38.8491,38.8347,38.8174, 38.8167,38.7656,38.1198,37.6853,37.0335 ,36.5978,36.1581,35.7161,35.27,34.6061, 34.1574,33.7079,33.0335,32.5788,31.8979 ,31.2292,30.7817,30.3307,29.8955, 29.4666,28.8178,28.1675,27.7354,27.2991 ,26.8536,26.1935,25.753,25.3225,24.8795 ,24.267,23.8943,23.5182,23.1436,22.7675 ,22.391,22.0141,21.6366,21.2582,20.8792 ,20.4998,19.9289,19.5482,19.1658, 18.5938,18.0443,17.8571,17.7892,17.7894 ,17.7894,17.7902,18.5332,18.911,19.2933 ,19.6736,20.0546,20.4356,20.8155, 21.3855,21.7661,22.1445,22.7073,23.0882 ,23.6556,24.4001,24.8115,25.2506, 25.9126,26.3508,26.7924,27.2322,27.669, 28.1047,28.5385,29.1889,29.6216,30.0537 ,30.4914,30.9397,31.3904,32.0666, 32.5237,32.9754,33.4304,33.8756,34.3237 ,34.773,35.2261,35.6642,36.1124,36.5544 ,36.9935,37.4304,37.8664,38.515,38.7302 ,38.8572)
FOOTPRINT_POINT_LONGITUDE = (64.1372,63.2883,62.525,61.8885,61.8672 ,61.8411,61.8881,61.9178,61.9622, 61.9913,62.0187,62.0452,62.07,62.1092, 62.1329,62.1563,62.1913,62.2125,62.2449 ,62.2765,62.2955,62.3087,62.3277, 62.3466,62.3691,62.391,62.4062,62.4197, 62.4297,62.4479,62.4598,62.4757,62.4866 ,62.5004,62.509,62.5163,62.5241,62.5314 ,62.5386,62.5455,62.5523,62.5586, 62.5648,62.5707,62.579,62.5844,62.5891, 62.5957,62.6047,62.6061,62.6065,63.8151 ,63.8265,63.8304,63.8377,63.8416, 63.8457,63.8503,63.8545,63.8585,63.8628 ,63.8687,63.8722,63.8763,63.884,63.8866 ,63.8915,63.9022,63.9079,63.9156,63.925 ,63.9322,63.9375,63.9432,63.9497, 63.9562,63.9631,63.9728,63.979,63.9893, 63.9977,64.0031,64.0099,64.0227,64.0305 ,64.0402,64.0477,64.059,64.0684,64.0766 ,64.0824,64.0944,64.101,64.1098,64.1193 ,64.1292,64.1387,64.1542,64.1595, 64.1372)
ORBIT_NUMBER = 5173
ORBITAL_ECCENTRICITY = 0.574
ORBITAL_INCLINATION = 86.74
ORBITAL_SEMIMAJOR_AXIS = 8729.95
PERIAPSIS_ALTITUDE = 321.75
PERIAPSIS_ARGUMENT_ANGLE = 168.29
PERIAPSIS_TIME = 2008-01-11T20:30:38.000Z
SPACECRAFT_ORIENTATION = (0.0,-1.0,0.0)
^MEX_ORIENTATION_DESC = "MEX_ORIENTATION_DESC.TXT"
SPACECRAFT_POINTING_MODE = NADIR
^MEX_POINTING_DESC = "MEX_POINTING_DESC.TXT"
RIGHT_ASCENSION = -1e+32
DECLINATION = -1e+32
OFFSET_ANGLE = -1e+32
SPACECRAFT_SOLAR_DISTANCE = 2.38762e+08
TARGET_NAME = MARS
/* CAMERA DATA ELEMENTS */
DETECTOR_TEMPERATURE = 17.5549
FOCAL_PLANE_TEMPERATURE = 8.3794
INST_CMPRS_NAME = "DISCRETE COSINE TRANSFORMATION (DCT)"
INST_CMPRS_RATIO = 6.73793
INST_CMPRS_QUALITY = 0
INST_CMPRS_QUANTZ_TBL_ID = 0
INSTRUMENT_TEMPERATURE = 10.8262
LENS_TEMPERATURE = 8.7872
MACROPIXEL_SIZE = 4
MISSING_FRAMES = 0
PIXEL_SUBSAMPLING_FLAG = N
SIGNAL_CHAIN_ID = 2
/* RADIOMETRIC DATA ELEMENTS */
BANDWIDTH = 81.0
CENTER_FILTER_WAVELENGTH = 955.5
RADIANCE_OFFSET = 0.501542
RADIANCE_SCALING_FACTOR = 0.00602343
REFLECTANCE_SCALING_FACTOR = 0.000740799
MEX:REFLECTANCE_OFFSET = 0.0616829
/* IMAGE OBJECT DEFINITIONS */
OBJECT = IMAGE
  INTERCHANGE_FORMAT = BINARY
  LINES = 24925
  LINE_SAMPLES = 2014
  SAMPLE_TYPE = UNSIGNED_INTEGER
  SAMPLE_BITS = 8
  BANDS = 1
  BAND_STORAGE_TYPE = BAND_SEQUENTIAL
  MAXIMUM = 255
  MEAN = 127.518
  MINIMUM = 1
  STANDARD_DEVIATION = 36.616
END_OBJECT = IMAGE
/* MAP OBJECT DEFINITIONS */
OBJECT = IMAGE_MAP_PROJECTION
  ^DATA_SET_MAP_PROJECTION_CATALOG= "DSMAP.CAT"
  A_AXIS_RADIUS = 3396.0
  B_AXIS_RADIUS = 3396.0
  C_AXIS_RADIUS = 3396.0
  CENTER_LATITUDE = 0.0
  CENTER_LONGITUDE = 63.0
  COORDINATE_SYSTEM_NAME = PLANETOGRAPHIC
  COORDINATE_SYSTEM_TYPE = "BODY-FIXED ROTATING"
  EASTERNMOST_LONGITUDE = 64.15949999999999
  FIRST_STANDARD_PARALLEL = "N/A"
  LINE_FIRST_PIXEL = 1
  LINE_LAST_PIXEL = 24925
  LINE_PROJECTION_OFFSET = 46013.125
  MAP_PROJECTION_ROTATION = 0.0
  MAP_PROJECTION_TYPE = SINUSOIDAL
  MAP_RESOLUTION = 1185.42760773333
  MAP_SCALE = 0.05
  MAXIMUM_LATITUDE = 38.8572
  MINIMUM_LATITUDE = 17.7892
  POSITIVE_LONGITUDE_DIRECTION = EAST
  REFERENCE_LATITUDE = "N/A"
  REFERENCE_LONGITUDE = "N/A"
  SAMPLE_FIRST_PIXEL = 1
  SAMPLE_LAST_PIXEL = 2014
  SAMPLE_PROJECTION_OFFSET = 1014.625
  SECOND_STANDARD_PARALLEL = "N/A"
  WESTERNMOST_LONGITUDE = 61.8411
END_OBJECT = IMAGE_MAP_PROJECTION
END
