PDS_VERSION_ID = PDS3
/* FILE DATA ELEMENTS */
RECORD_TYPE = UNDEFINED
/* POINTERS TO DATA OBJECTS */
^IMAGE = ("H5167_0000_GR4.TIF")
/* IDENTIFICATION DATA ELEMENTS */
DATA_SET_ID = "MEX-M-HRSC-4-REFDR-MAPPROJECT-EXT2-V4.0"
DATA_SET_NAME = "MARS EXPRESS HRSC MAP PROJECTED REFDR EXTENSION2 V4.0"
DETECTOR_ID = MEX_HRSC_GREEN
EVENT_TYPE = "MARS-REGIONAL-MAPPING-Im-Fl-Lc"
INSTRUMENT_HOST_ID = MEX
INSTRUMENT_HOST_NAME = "MARS EXPRESS"
INSTRUMENT_ID = HRSC
INSTRUMENT_NAME = "HIGH RESOLUTION STEREO CAMERA"
MISSION_NAME = "MARS EXPRESS"
MISSION_PHASE_NAME = ME_Phase_11
PROCESSING_LEVEL_ID = 4
PRODUCT_CREATION_TIME = 2023-02-01T12:09:47.000Z
PRODUCT_ID = "H5167_0000_GR4.TIF"
RELEASE_ID = 0001
REVISION_ID = 0000
/* QUALITY DATA ELEMENTS */
DATA_QUALITY_ID = 1
DATA_QUALITY_DESC = "Data calculated based on original SPICE kernels"
/* TIME DATA ELEMENTS */
SPACECRAFT_CLOCK_START_COUNT = "1/0148015609.07284"
SPACECRAFT_CLOCK_STOP_COUNT = "1/0148015827.46047"
START_TIME = 2008-01-10T03:27:17.040Z
STOP_TIME = 2008-01-10T03:29:53.655Z
/* ORBITAL DATA ELEMENTS */
ASCENDING_NODE_LONGITUDE = 120.61
MAXIMUM_RESOLUTION = 0.1031
FOOTPRINT_POINT_LATITUDE = (12.5969,12.5976,12.5979,12.598,12.5976 ,12.5976,12.5942,12.1927,11.9919, 11.5908,11.3897,11.1889,10.9879,10.7869 ,10.5859,10.3849,10.1838,9.88221, 9.68113,9.37951,9.07785,8.87679,8.67582 ,8.47491,8.27336,7.97225,7.77112, 7.57008,7.36906,7.16817,6.96726,6.76625 ,6.56518,6.36419,6.06277,5.86179, 5.66094,5.45978,5.15893,4.7574,4.35629, 4.14899,3.94146,3.73398,3.52654,3.31936 ,3.11173,2.90433,2.69709,2.48996, 2.38641,2.34634,2.34434,2.3428,2.34035, 2.34029,2.34199,2.54977,2.86083,3.17201 ,3.37946,3.58707,3.79479,4.00253, 4.21037,4.41416,4.81575,5.11666,5.31874 ,5.5204,5.92199,6.12301,6.42425,6.62523 ,6.92683,7.12793,7.42961,7.63073, 7.93239,8.13341,8.33448,8.5357,8.83747, 9.03859,9.34023,9.5415,9.8432,10.0443, 10.2455,10.4465,10.6477,10.9493,11.1505 ,11.3516,11.7529,12.0541,12.255,12.4558 ,12.5562,12.5969)
FOOTPRINT_POINT_LONGITUDE = (303.919,303.653,303.439,303.097, 302.795,302.785,302.775,302.776,302.776 ,302.778,302.778,302.778,302.778, 302.778,302.778,302.778,302.778,302.777 ,302.777,302.776,302.776,302.775, 302.775,302.775,302.773,302.773,302.772 ,302.772,302.771,302.77,302.77,302.769, 302.768,302.766,302.765,302.763,302.762 ,302.76,302.759,302.757,302.754,302.753 ,302.751,302.75,302.748,302.746,302.744 ,302.742,302.74,302.738,302.737,302.736 ,303.158,303.429,303.872,303.883,303.89 ,303.889,303.889,303.889,303.89,303.89, 303.889,303.889,303.889,303.892,303.893 ,303.894,303.892,303.892,303.893, 303.894,303.895,303.895,303.896,303.897 ,303.898,303.899,303.9,303.901,303.901, 303.902,303.903,303.904,303.905,303.906 ,303.907,303.908,303.909,303.91,303.911 ,303.912,303.913,303.914,303.917, 303.919,303.92,303.921,303.922,303.919)
ORBIT_NUMBER = 5167
ORBITAL_ECCENTRICITY = 0.574
ORBITAL_INCLINATION = 86.73
ORBITAL_SEMIMAJOR_AXIS = 8725.16
PERIAPSIS_ALTITUDE = 321.58
PERIAPSIS_ARGUMENT_ANGLE = 169.35
PERIAPSIS_TIME = 2008-01-10T03:27:51.000Z
SPACECRAFT_ORIENTATION = (0.0,-1.0,0.0)
^MEX_ORIENTATION_DESC = "MEX_ORIENTATION_DESC.TXT"
SPACECRAFT_POINTING_MODE = ACROSSTRACK
^MEX_POINTING_DESC = "MEX_POINTING_DESC.TXT"
RIGHT_ASCENSION = -1e+32
DECLINATION = -1e+32
OFFSET_ANGLE = -0.16
SPACECRAFT_SOLAR_DISTANCE = 2.38487e+08
TARGET_NAME = MARS
/* CAMERA DATA ELEMENTS */
DETECTOR_TEMPERATURE = 18.5744
FOCAL_PLANE_TEMPERATURE = 7.3599
INST_CMPRS_NAME = "DISCRETE COSINE TRANSFORMATION (DCT)"
INST_CMPRS_RATIO = 11.2081
INST_CMPRS_QUALITY = 0
INST_CMPRS_QUANTZ_TBL_ID = 0
INSTRUMENT_TEMPERATURE = 10.8262
LENS_TEMPERATURE = 8.1755
MACROPIXEL_SIZE = 8
MISSING_FRAMES = 0
PIXEL_SUBSAMPLING_FLAG = N
SIGNAL_CHAIN_ID = 2
/* RADIOMETRIC DATA ELEMENTS */
BANDWIDTH = 88.0
CENTER_FILTER_WAVELENGTH = 538.0
RADIANCE_OFFSET = 1.00905
RADIANCE_SCALING_FACTOR = 0.00545593
REFLECTANCE_SCALING_FACTOR = 0.000267171
MEX:REFLECTANCE_OFFSET = 0.049412
/* IMAGE OBJECT DEFINITIONS */
OBJECT = IMAGE
  INTERCHANGE_FORMAT = BINARY
  LINES = 6087
  LINE_SAMPLES = 699
  SAMPLE_TYPE = UNSIGNED_INTEGER
  SAMPLE_BITS = 8
  BANDS = 1
  BAND_STORAGE_TYPE = BAND_SEQUENTIAL
  MAXIMUM = 255
  MEAN = 123.534
  MINIMUM = 1
  STANDARD_DEVIATION = 24.0875
END_OBJECT = IMAGE
/* MAP OBJECT DEFINITIONS */
OBJECT = IMAGE_MAP_PROJECTION
  ^DATA_SET_MAP_PROJECTION_CATALOG= "DSMAP.CAT"
  A_AXIS_RADIUS = 3396.0
  B_AXIS_RADIUS = 3396.0
  C_AXIS_RADIUS = 3396.0
  CENTER_LATITUDE = 0.0
  CENTER_LONGITUDE = 303.0
  COORDINATE_SYSTEM_NAME = PLANETOGRAPHIC
  COORDINATE_SYSTEM_TYPE = "BODY-FIXED ROTATING"
  EASTERNMOST_LONGITUDE = 303.922
  FIRST_STANDARD_PARALLEL = "N/A"
  LINE_FIRST_PIXEL = 1
  LINE_LAST_PIXEL = 6087
  LINE_PROJECTION_OFFSET = 7477.4375
  MAP_PROJECTION_ROTATION = 0.0
  MAP_PROJECTION_TYPE = SINUSOIDAL
  MAP_RESOLUTION = 592.713803866667
  MAP_SCALE = 0.1
  MAXIMUM_LATITUDE = 12.598
  MINIMUM_LATITUDE = 2.34029
  POSITIVE_LONGITUDE_DIRECTION = EAST
  REFERENCE_LATITUDE = "N/A"
  REFERENCE_LONGITUDE = "N/A"
  SAMPLE_FIRST_PIXEL = 1
  SAMPLE_LAST_PIXEL = 699
  SAMPLE_PROJECTION_OFFSET = 164.9375
  SECOND_STANDARD_PARALLEL = "N/A"
  WESTERNMOST_LONGITUDE = 302.736
END_OBJECT = IMAGE_MAP_PROJECTION
END
