PDS_VERSION_ID = PDS3
/* FILE DATA ELEMENTS */
RECORD_TYPE = UNDEFINED
/* POINTERS TO DATA OBJECTS */
^IMAGE = ("H5167_0000_BL4.TIF")
/* IDENTIFICATION DATA ELEMENTS */
DATA_SET_ID = "MEX-M-HRSC-4-REFDR-MAPPROJECT-EXT2-V4.0"
DATA_SET_NAME = "MARS EXPRESS HRSC MAP PROJECTED REFDR EXTENSION2 V4.0"
DETECTOR_ID = MEX_HRSC_BLUE
EVENT_TYPE = "MARS-REGIONAL-MAPPING-Im-Fl-Lc"
INSTRUMENT_HOST_ID = MEX
INSTRUMENT_HOST_NAME = "MARS EXPRESS"
INSTRUMENT_ID = HRSC
INSTRUMENT_NAME = "HIGH RESOLUTION STEREO CAMERA"
MISSION_NAME = "MARS EXPRESS"
MISSION_PHASE_NAME = ME_Phase_11
PROCESSING_LEVEL_ID = 4
PRODUCT_CREATION_TIME = 2023-02-01T12:09:47.000Z
PRODUCT_ID = "H5167_0000_BL4.TIF"
RELEASE_ID = 0001
REVISION_ID = 0000
/* QUALITY DATA ELEMENTS */
DATA_QUALITY_ID = 1
DATA_QUALITY_DESC = "Data calculated based on original SPICE kernels"
/* TIME DATA ELEMENTS */
SPACECRAFT_CLOCK_START_COUNT = "1/0148015609.07284"
SPACECRAFT_CLOCK_STOP_COUNT = "1/0148015827.46047"
START_TIME = 2008-01-10T03:27:26.543Z
STOP_TIME = 2008-01-10T03:30:03.896Z
/* ORBITAL DATA ELEMENTS */
ASCENDING_NODE_LONGITUDE = 120.61
MAXIMUM_RESOLUTION = 0.1031
FOOTPRINT_POINT_LATITUDE = (12.6075,12.6092,12.6105,12.6118, 12.6118,12.6124,12.408,12.2036,11.9993, 11.7947,11.5899,11.2835,11.0792,10.875, 10.6708,10.4665,10.2623,9.95604,9.75188 ,9.54778,9.24164,9.0376,8.8335,8.62941, 8.22226,8.01769,7.71172,7.40607,7.10028 ,6.89659,6.69306,6.28614,5.87953, 5.47338,5.06672,4.859,4.64898,4.43893, 4.22903,4.01934,3.80981,3.49559,3.28613 ,3.07719,2.86812,2.65907,2.45003, 2.34554,2.34222,2.34045,2.33904,2.33717 ,2.33483,2.3347,2.3363,2.54461,2.75356, 3.06725,3.27637,3.48566,3.6951,3.90438, 4.11392,4.32472,4.53523,4.74515,5.05783 ,5.46242,5.86957,6.17474,6.37848, 6.68403,6.88768,7.09136,7.29515,7.49894 ,7.70283,7.90676,8.11084,8.31505, 8.51903,8.72367,9.13134,9.33562,9.6417, 9.84619,10.1526,10.3569,10.5614,10.7654 ,10.9704,11.2764,11.4807,11.6859, 11.8906,12.0952,12.2997,12.5042,12.6064 ,12.6075)
FOOTPRINT_POINT_LONGITUDE = (303.919,303.589,303.248,302.797, 302.786,302.777,302.777,302.777,302.778 ,302.778,302.779,302.779,302.779, 302.779,302.779,302.779,302.779,302.778 ,302.778,302.777,302.776,302.776, 302.775,302.775,302.772,302.773,302.772 ,302.771,302.77,302.769,302.768,302.765 ,302.762,302.759,302.757,302.756, 302.754,302.753,302.752,302.75,302.748, 302.745,302.744,302.741,302.739,302.737 ,302.735,302.734,302.734,303.005, 303.212,303.518,303.877,303.887,303.895 ,303.894,303.894,303.893,303.893, 303.893,303.893,303.893,303.893,303.894 ,303.895,303.895,303.896,303.894, 303.896,303.896,303.897,303.898,303.898 ,303.899,303.899,303.9,303.9,303.901, 303.902,303.903,303.903,303.905,303.905 ,303.906,303.907,303.908,303.909,303.91 ,303.911,303.911,303.913,303.914, 303.914,303.916,303.918,303.919,303.92, 303.921,303.921,303.919)
ORBIT_NUMBER = 5167
ORBITAL_ECCENTRICITY = 0.574
ORBITAL_INCLINATION = 86.73
ORBITAL_SEMIMAJOR_AXIS = 8725.16
PERIAPSIS_ALTITUDE = 321.58
PERIAPSIS_ARGUMENT_ANGLE = 169.35
PERIAPSIS_TIME = 2008-01-10T03:27:51.000Z
SPACECRAFT_ORIENTATION = (0.0,-1.0,0.0)
^MEX_ORIENTATION_DESC = "MEX_ORIENTATION_DESC.TXT"
SPACECRAFT_POINTING_MODE = ACROSSTRACK
^MEX_POINTING_DESC = "MEX_POINTING_DESC.TXT"
RIGHT_ASCENSION = -1e+32
DECLINATION = -1e+32
OFFSET_ANGLE = -0.16
SPACECRAFT_SOLAR_DISTANCE = 2.38487e+08
TARGET_NAME = MARS
/* CAMERA DATA ELEMENTS */
DETECTOR_TEMPERATURE = 18.5744
FOCAL_PLANE_TEMPERATURE = 7.3599
INST_CMPRS_NAME = "DISCRETE COSINE TRANSFORMATION (DCT)"
INST_CMPRS_RATIO = 14.1834
INST_CMPRS_QUALITY = 0
INST_CMPRS_QUANTZ_TBL_ID = 0
INSTRUMENT_TEMPERATURE = 10.8262
LENS_TEMPERATURE = 8.1755
MACROPIXEL_SIZE = 8
MISSING_FRAMES = 0
PIXEL_SUBSAMPLING_FLAG = N
SIGNAL_CHAIN_ID = 2
/* RADIOMETRIC DATA ELEMENTS */
BANDWIDTH = 76.0
CENTER_FILTER_WAVELENGTH = 444.0
RADIANCE_OFFSET = 0.449719
RADIANCE_SCALING_FACTOR = 0.00241478
REFLECTANCE_SCALING_FACTOR = 0.000141112
MEX:REFLECTANCE_OFFSET = 0.0262801
/* IMAGE OBJECT DEFINITIONS */
OBJECT = IMAGE
  INTERCHANGE_FORMAT = BINARY
  LINES = 6087
  LINE_SAMPLES = 699
  SAMPLE_TYPE = UNSIGNED_INTEGER
  SAMPLE_BITS = 8
  BANDS = 1
  BAND_STORAGE_TYPE = BAND_SEQUENTIAL
  MAXIMUM = 255
  MEAN = 114.063
  MINIMUM = 2
  STANDARD_DEVIATION = 34.6602
END_OBJECT = IMAGE
/* MAP OBJECT DEFINITIONS */
OBJECT = IMAGE_MAP_PROJECTION
  ^DATA_SET_MAP_PROJECTION_CATALOG= "DSMAP.CAT"
  A_AXIS_RADIUS = 3396.0
  B_AXIS_RADIUS = 3396.0
  C_AXIS_RADIUS = 3396.0
  CENTER_LATITUDE = 0.0
  CENTER_LONGITUDE = 303.0
  COORDINATE_SYSTEM_NAME = PLANETOGRAPHIC
  COORDINATE_SYSTEM_TYPE = "BODY-FIXED ROTATING"
  EASTERNMOST_LONGITUDE = 303.921
  FIRST_STANDARD_PARALLEL = "N/A"
  LINE_FIRST_PIXEL = 1
  LINE_LAST_PIXEL = 6087
  LINE_PROJECTION_OFFSET = 7477.4375
  MAP_PROJECTION_ROTATION = 0.0
  MAP_PROJECTION_TYPE = SINUSOIDAL
  MAP_RESOLUTION = 592.713803866667
  MAP_SCALE = 0.1
  MAXIMUM_LATITUDE = 12.6124
  MINIMUM_LATITUDE = 2.3347
  POSITIVE_LONGITUDE_DIRECTION = EAST
  REFERENCE_LATITUDE = "N/A"
  REFERENCE_LONGITUDE = "N/A"
  SAMPLE_FIRST_PIXEL = 1
  SAMPLE_LAST_PIXEL = 699
  SAMPLE_PROJECTION_OFFSET = 164.9375
  SECOND_STANDARD_PARALLEL = "N/A"
  WESTERNMOST_LONGITUDE = 302.734
END_OBJECT = IMAGE_MAP_PROJECTION
END
