PDS_VERSION_ID = PDS3
/* FILE DATA ELEMENTS */
RECORD_TYPE = UNDEFINED
/* POINTERS TO DATA OBJECTS */
^IMAGE = ("H5160_0000_S24.TIF")
/* IDENTIFICATION DATA ELEMENTS */
DATA_SET_ID = "MEX-M-HRSC-4-REFDR-MAPPROJECT-EXT2-V4.0"
DATA_SET_NAME = "MARS EXPRESS HRSC MAP PROJECTED REFDR EXTENSION2 V4.0"
DETECTOR_ID = MEX_HRSC_S2
EVENT_TYPE = "MARS-REGIONAL-STEREO-Vo-Lc-La"
INSTRUMENT_HOST_ID = MEX
INSTRUMENT_HOST_NAME = "MARS EXPRESS"
INSTRUMENT_ID = HRSC
INSTRUMENT_NAME = "HIGH RESOLUTION STEREO CAMERA"
MISSION_NAME = "MARS EXPRESS"
MISSION_PHASE_NAME = ME_Phase_11
PROCESSING_LEVEL_ID = 4
PRODUCT_CREATION_TIME = 2023-02-01T12:09:47.000Z
PRODUCT_ID = "H5160_0000_S24.TIF"
RELEASE_ID = 0001
REVISION_ID = 0000
/* QUALITY DATA ELEMENTS */
DATA_QUALITY_ID = 1
DATA_QUALITY_DESC = "Data calculated based on original SPICE kernels"
/* TIME DATA ELEMENTS */
SPACECRAFT_CLOCK_START_COUNT = "1/0147843341.07285"
SPACECRAFT_CLOCK_STOP_COUNT = "1/0147843639.65528"
START_TIME = 2008-01-08T03:36:43.566Z
STOP_TIME = 2008-01-08T03:40:41.806Z
/* ORBITAL DATA ELEMENTS */
ASCENDING_NODE_LONGITUDE = 120.75
MAXIMUM_RESOLUTION = 0.0142
FOOTPRINT_POINT_LATITUDE = (3.10166,3.1082,3.11604,3.11623,3.10151 ,2.70015,2.16465,1.89639,1.48622, 1.07466,0.800278,0.52422,0.251542, -0.018576,-0.524984,-0.812388,-1.23529, -1.89626,-2.18269,-2.45197,-2.85499, -3.12269,-3.65678,-4.08401,-4.3993, -4.68664,-5.0067,-5.32255,-5.65642, -5.95139,-6.26249,-6.73663,-7.06088, -7.36928,-7.66446,-7.9466,-8.2456, -8.55257,-8.8573,-9.1706,-9.49155, -9.82034,-10.1595,-10.479,-10.7968, -11.2807,-11.4425,-11.4529,-11.4584, -11.4626,-11.469,-11.4719,-11.472, -11.4718,-11.1472,-10.6636,-10.1624, -9.83395,-9.52123,-9.20057,-8.88855, -8.42845,-8.12206,-7.8307,-7.54959, -7.07902,-6.7462,-6.45178,-6.13344, -5.82007,-5.49382,-5.17251,-4.85664, -4.57858,-4.26653,-3.8127,-3.54541, -3.14377,-2.87654,-2.6088,-2.34054, -2.07182,-1.64751,-1.35083,-0.821414, -0.553049,-0.0420617,0.229396,0.501852, 0.774686,1.04886,1.32266,1.59652, 1.86824,2.13573,2.40331,2.67226,2.94035 ,3.07542,3.10166)
FOOTPRINT_POINT_LONGITUDE = (284.313,283.697,283.149,283.138, 283.137,283.133,283.128,283.126,283.121 ,283.116,283.113,283.111,283.107, 283.102,283.082,283.084,283.083,283.068 ,283.069,283.065,283.059,283.054, 283.044,283.037,283.03,283.014,283.009, 283.003,283.004,282.991,282.984,282.976 ,282.973,282.965,282.953,282.937, 282.927,282.919,282.911,282.903,282.898 ,282.895,282.894,282.886,282.877, 282.863,282.858,282.858,283.166,283.458 ,283.994,284.391,284.407,284.414, 284.409,284.403,284.402,284.4,284.396, 284.394,284.39,284.384,284.38,284.372, 284.362,284.359,284.361,284.354,284.353 ,284.35,284.35,284.35,284.348,284.336, 284.332,284.329,284.328,284.326,284.324 ,284.323,284.321,284.32,284.323,284.329 ,284.324,284.322,284.312,284.311,284.31 ,284.31,284.309,284.309,284.308,284.308 ,284.308,284.308,284.308,284.308, 284.309,284.313)
ORBIT_NUMBER = 5160
ORBITAL_ECCENTRICITY = 0.574
ORBITAL_INCLINATION = 86.73
ORBITAL_SEMIMAJOR_AXIS = 8731.86
PERIAPSIS_ALTITUDE = 320.61
PERIAPSIS_ARGUMENT_ANGLE = 170.58
PERIAPSIS_TIME = 2008-01-08T03:34:37.000Z
SPACECRAFT_ORIENTATION = (0.0,-1.0,0.0)
^MEX_ORIENTATION_DESC = "MEX_ORIENTATION_DESC.TXT"
SPACECRAFT_POINTING_MODE = ACROSSTRACK
^MEX_POINTING_DESC = "MEX_POINTING_DESC.TXT"
RIGHT_ASCENSION = -1e+32
DECLINATION = -1e+32
OFFSET_ANGLE = -0.1
SPACECRAFT_SOLAR_DISTANCE = 2.38163e+08
TARGET_NAME = MARS
/* CAMERA DATA ELEMENTS */
DETECTOR_TEMPERATURE = 17.5549
FOCAL_PLANE_TEMPERATURE = 8.3794
INST_CMPRS_NAME = "DISCRETE COSINE TRANSFORMATION (DCT)"
INST_CMPRS_RATIO = 7.28745
INST_CMPRS_QUALITY = 0
INST_CMPRS_QUANTZ_TBL_ID = 0
INSTRUMENT_TEMPERATURE = 10.8262
LENS_TEMPERATURE = 8.7872
MACROPIXEL_SIZE = 1
MISSING_FRAMES = 0
PIXEL_SUBSAMPLING_FLAG = N
SIGNAL_CHAIN_ID = 1
/* RADIOMETRIC DATA ELEMENTS */
BANDWIDTH = 178.0
CENTER_FILTER_WAVELENGTH = 679.0
RADIANCE_OFFSET = 1.77283
RADIANCE_SCALING_FACTOR = 0.0248026
REFLECTANCE_SCALING_FACTOR = 0.000745039
MEX:REFLECTANCE_OFFSET = 0.0532534
/* IMAGE OBJECT DEFINITIONS */
OBJECT = IMAGE
  INTERCHANGE_FORMAT = BINARY
  LINES = 68984
  LINE_SAMPLES = 6761
  SAMPLE_TYPE = UNSIGNED_INTEGER
  SAMPLE_BITS = 8
  BANDS = 1
  BAND_STORAGE_TYPE = BAND_SEQUENTIAL
  MAXIMUM = 255
  MEAN = 91.7266
  MINIMUM = 1
  STANDARD_DEVIATION = 35.3812
END_OBJECT = IMAGE
/* MAP OBJECT DEFINITIONS */
OBJECT = IMAGE_MAP_PROJECTION
  ^DATA_SET_MAP_PROJECTION_CATALOG= "DSMAP.CAT"
  A_AXIS_RADIUS = 3396.0
  B_AXIS_RADIUS = 3396.0
  C_AXIS_RADIUS = 3396.0
  CENTER_LATITUDE = 0.0
  CENTER_LONGITUDE = 284.0
  COORDINATE_SYSTEM_NAME = PLANETOGRAPHIC
  COORDINATE_SYSTEM_TYPE = "BODY-FIXED ROTATING"
  EASTERNMOST_LONGITUDE = 284.414
  FIRST_STANDARD_PARALLEL = "N/A"
  LINE_FIRST_PIXEL = 1
  LINE_LAST_PIXEL = 68984
  LINE_PROJECTION_OFFSET = 14702.0
  MAP_PROJECTION_ROTATION = 0.0
  MAP_PROJECTION_TYPE = SINUSOIDAL
  MAP_RESOLUTION = 4741.71043093333
  MAP_SCALE = 0.0125
  MAXIMUM_LATITUDE = 3.11623
  MINIMUM_LATITUDE = -11.472
  POSITIVE_LONGITUDE_DIRECTION = EAST
  REFERENCE_LATITUDE = "N/A"
  REFERENCE_LONGITUDE = "N/A"
  SAMPLE_FIRST_PIXEL = 1
  SAMPLE_LAST_PIXEL = 6761
  SAMPLE_PROJECTION_OFFSET = 5055.0
  SECOND_STANDARD_PARALLEL = "N/A"
  WESTERNMOST_LONGITUDE = 282.858
END_OBJECT = IMAGE_MAP_PROJECTION
END
