PDS_VERSION_ID = PDS3
/* FILE DATA ELEMENTS */
RECORD_TYPE = UNDEFINED
/* POINTERS TO DATA OBJECTS */
^IMAGE = ("H5160_0000_ND4.TIF")
/* IDENTIFICATION DATA ELEMENTS */
DATA_SET_ID = "MEX-M-HRSC-4-REFDR-MAPPROJECT-EXT2-V4.0"
DATA_SET_NAME = "MARS EXPRESS HRSC MAP PROJECTED REFDR EXTENSION2 V4.0"
DETECTOR_ID = MEX_HRSC_NADIR
EVENT_TYPE = "MARS-REGIONAL-STEREO-Vo-Lc-La"
INSTRUMENT_HOST_ID = MEX
INSTRUMENT_HOST_NAME = "MARS EXPRESS"
INSTRUMENT_ID = HRSC
INSTRUMENT_NAME = "HIGH RESOLUTION STEREO CAMERA"
MISSION_NAME = "MARS EXPRESS"
MISSION_PHASE_NAME = ME_Phase_11
PROCESSING_LEVEL_ID = 4
PRODUCT_CREATION_TIME = 2023-02-01T12:09:47.000Z
PRODUCT_ID = "H5160_0000_ND4.TIF"
RELEASE_ID = 0001
REVISION_ID = 0000
/* QUALITY DATA ELEMENTS */
DATA_QUALITY_ID = 1
DATA_QUALITY_DESC = "Data calculated based on original SPICE kernels"
/* TIME DATA ELEMENTS */
SPACECRAFT_CLOCK_START_COUNT = "1/0147843341.07285"
SPACECRAFT_CLOCK_STOP_COUNT = "1/0147843639.65528"
START_TIME = 2008-01-08T03:36:13.806Z
STOP_TIME = 2008-01-08T03:40:00.809Z
/* ORBITAL DATA ELEMENTS */
ASCENDING_NODE_LONGITUDE = 120.75
MAXIMUM_RESOLUTION = 0.013
FOOTPRINT_POINT_LATITUDE = (3.09204,3.09587,3.09766,3.09771, 3.09727,2.55803,2.28726,2.01661,1.74606 ,1.47567,0.935297,0.395436,-0.143643, -0.420504,-0.837704,-1.11599,-1.39342, -1.67077,-1.94843,-2.36428,-2.64114, -2.91777,-3.19419,-3.47038,-3.74637, -4.0221,-4.29763,-4.57258,-4.84742, -5.25961,-5.53411,-5.94859,-6.41937, -6.74555,-7.23447,-7.55954,-7.88389, -8.2079,-8.53186,-8.85535,-9.17845, -9.50126,-9.82366,-10.3067,-10.6277, -10.9484,-11.2685,-11.432,-11.4426, -11.4467,-11.449,-11.4511,-11.4511, -11.4509,-10.967,-10.6464,-10.3249, -10.0032,-9.68119,-9.3586,-9.03569, -8.71243,-8.38861,-8.06446,-7.7401, -7.41545,-7.08986,-6.76376,-6.43781, -5.96509,-5.55043,-5.27587,-5.00102, -4.72648,-4.4515,-4.17606,-3.90038, -3.62446,-3.34828,-3.07195,-2.79538, -2.51859,-2.2416,-1.9644,-1.68659, -1.27011,-0.992108,-0.714131,-0.43594, -0.158779,0.380535,0.920475,1.46099, 1.73143,2.00202,2.27274,2.67905,2.95005 ,3.0833,3.09204)
FOOTPRINT_POINT_LONGITUDE = (284.3,283.553,283.166,283.155,283.155, 283.15,283.148,283.146,283.144,283.142, 283.136,283.131,283.122,283.112,283.106 ,283.11,283.101,283.094,283.096,283.094 ,283.09,283.086,283.082,283.078,283.074 ,283.069,283.065,283.054,283.046,283.04 ,283.037,283.028,283.018,283.012, 283.009,283.0,282.986,282.972,282.965, 282.958,282.951,282.946,282.942,282.941 ,282.933,282.925,282.917,282.913, 282.913,283.473,283.86,284.346,284.36, 284.367,284.362,284.358,284.36,284.359, 284.356,284.355,284.352,284.348,284.346 ,284.342,284.335,284.326,284.326, 284.329,284.322,284.321,284.32,284.32, 284.321,284.312,284.307,284.305,284.304 ,284.303,284.303,284.301,284.3,284.299, 284.298,284.298,284.304,284.303,284.305 ,284.303,284.302,284.294,284.293, 284.293,284.293,284.293,284.293,284.293 ,284.294,284.295,284.295,284.3)
ORBIT_NUMBER = 5160
ORBITAL_ECCENTRICITY = 0.574
ORBITAL_INCLINATION = 86.73
ORBITAL_SEMIMAJOR_AXIS = 8731.86
PERIAPSIS_ALTITUDE = 320.61
PERIAPSIS_ARGUMENT_ANGLE = 170.58
PERIAPSIS_TIME = 2008-01-08T03:34:37.000Z
SPACECRAFT_ORIENTATION = (0.0,-1.0,0.0)
^MEX_ORIENTATION_DESC = "MEX_ORIENTATION_DESC.TXT"
SPACECRAFT_POINTING_MODE = ACROSSTRACK
^MEX_POINTING_DESC = "MEX_POINTING_DESC.TXT"
RIGHT_ASCENSION = -1e+32
DECLINATION = -1e+32
OFFSET_ANGLE = -0.1
SPACECRAFT_SOLAR_DISTANCE = 2.38163e+08
TARGET_NAME = MARS
/* CAMERA DATA ELEMENTS */
DETECTOR_TEMPERATURE = 17.1471
FOCAL_PLANE_TEMPERATURE = 8.3794
INST_CMPRS_NAME = "DISCRETE COSINE TRANSFORMATION (DCT)"
INST_CMPRS_RATIO = 6.22862
INST_CMPRS_QUALITY = 0
INST_CMPRS_QUANTZ_TBL_ID = 0
INSTRUMENT_TEMPERATURE = 10.8262
LENS_TEMPERATURE = 8.7872
MACROPIXEL_SIZE = 1
MISSING_FRAMES = 2
PIXEL_SUBSAMPLING_FLAG = N
SIGNAL_CHAIN_ID = 0
/* RADIOMETRIC DATA ELEMENTS */
BANDWIDTH = 177.0
CENTER_FILTER_WAVELENGTH = 677.5
RADIANCE_OFFSET = 1.45054
RADIANCE_SCALING_FACTOR = 0.0242705
REFLECTANCE_SCALING_FACTOR = 0.000731327
MEX:REFLECTANCE_OFFSET = 0.0437082
/* IMAGE OBJECT DEFINITIONS */
OBJECT = IMAGE
  INTERCHANGE_FORMAT = BINARY
  LINES = 68984
  LINE_SAMPLES = 6761
  SAMPLE_TYPE = UNSIGNED_INTEGER
  SAMPLE_BITS = 8
  BANDS = 1
  BAND_STORAGE_TYPE = BAND_SEQUENTIAL
  MAXIMUM = 255
  MEAN = 88.6673
  MINIMUM = 1
  STANDARD_DEVIATION = 32.8324
END_OBJECT = IMAGE
/* MAP OBJECT DEFINITIONS */
OBJECT = IMAGE_MAP_PROJECTION
  ^DATA_SET_MAP_PROJECTION_CATALOG= "DSMAP.CAT"
  A_AXIS_RADIUS = 3396.0
  B_AXIS_RADIUS = 3396.0
  C_AXIS_RADIUS = 3396.0
  CENTER_LATITUDE = 0.0
  CENTER_LONGITUDE = 284.0
  COORDINATE_SYSTEM_NAME = PLANETOGRAPHIC
  COORDINATE_SYSTEM_TYPE = "BODY-FIXED ROTATING"
  EASTERNMOST_LONGITUDE = 284.367
  FIRST_STANDARD_PARALLEL = "N/A"
  LINE_FIRST_PIXEL = 1
  LINE_LAST_PIXEL = 68984
  LINE_PROJECTION_OFFSET = 14702.0
  MAP_PROJECTION_ROTATION = 0.0
  MAP_PROJECTION_TYPE = SINUSOIDAL
  MAP_RESOLUTION = 4741.71043093333
  MAP_SCALE = 0.0125
  MAXIMUM_LATITUDE = 3.09771
  MINIMUM_LATITUDE = -11.4511
  POSITIVE_LONGITUDE_DIRECTION = EAST
  REFERENCE_LATITUDE = "N/A"
  REFERENCE_LONGITUDE = "N/A"
  SAMPLE_FIRST_PIXEL = 1
  SAMPLE_LAST_PIXEL = 6761
  SAMPLE_PROJECTION_OFFSET = 5055.0
  SECOND_STANDARD_PARALLEL = "N/A"
  WESTERNMOST_LONGITUDE = 282.913
END_OBJECT = IMAGE_MAP_PROJECTION
END
