PDS_VERSION_ID = PDS3
/* FILE DATA ELEMENTS */
RECORD_TYPE = UNDEFINED
/* POINTERS TO DATA OBJECTS */
^IMAGE = ("H5157_0000_S14.TIF")
/* IDENTIFICATION DATA ELEMENTS */
DATA_SET_ID = "MEX-M-HRSC-4-REFDR-MAPPROJECT-EXT2-V4.0"
DATA_SET_NAME = "MARS EXPRESS HRSC MAP PROJECTED REFDR EXTENSION2 V4.0"
DETECTOR_ID = MEX_HRSC_S1
EVENT_TYPE = "MARS-REGIONAL-MAPPING-Vo-Eo-La"
INSTRUMENT_HOST_ID = MEX
INSTRUMENT_HOST_NAME = "MARS EXPRESS"
INSTRUMENT_ID = HRSC
INSTRUMENT_NAME = "HIGH RESOLUTION STEREO CAMERA"
MISSION_NAME = "MARS EXPRESS"
MISSION_PHASE_NAME = ME_Phase_11
PROCESSING_LEVEL_ID = 4
PRODUCT_CREATION_TIME = 2023-02-01T12:09:47.000Z
PRODUCT_ID = "H5157_0000_S14.TIF"
RELEASE_ID = 0001
REVISION_ID = 0000
/* QUALITY DATA ELEMENTS */
DATA_QUALITY_ID = 1
DATA_QUALITY_DESC = "Data calculated based on original SPICE kernels"
/* TIME DATA ELEMENTS */
SPACECRAFT_CLOCK_START_COUNT = "1/0147769286.09060"
SPACECRAFT_CLOCK_STOP_COUNT = "1/0147769510.17855"
START_TIME = 2008-01-07T07:01:30.007Z
STOP_TIME = 2008-01-07T07:04:13.217Z
/* ORBITAL DATA ELEMENTS */
ASCENDING_NODE_LONGITUDE = 120.82
MAXIMUM_RESOLUTION = 0.0271
FOOTPRINT_POINT_LATITUDE = (13.0647,13.0627,13.0579,13.0541,13.054 ,13.0465,12.8283,12.407,12.092,11.672, 11.251,10.8295,10.4077,10.1968,9.98552, 9.77436,9.56278,9.24554,9.03414,8.82247 ,8.61078,8.39871,8.18697,7.97467, 7.65648,7.33837,7.12544,6.91354,6.70083 ,6.48849,6.27548,6.0621,5.84799,5.52628 ,5.31304,5.09917,4.88493,4.67054,4.4557 ,4.24043,4.02533,3.81058,3.59547, 3.38017,3.16459,2.94879,2.73344,2.51755 ,2.4098,2.38607,2.38858,2.39194,2.39491 ,2.39633,2.39635,2.39677,2.71977, 2.93503,3.15099,3.36642,3.58143,3.79647 ,4.01232,4.33481,4.54954,4.76413, 4.97823,5.19207,5.40615,5.62047,5.83406 ,6.04675,6.25987,6.47151,6.79123, 7.00474,7.32291,7.6417,7.85373,8.17104, 8.38416,8.59628,8.80822,9.01996,9.23244 ,9.44434,9.65596,9.86758,10.079,10.2903 ,10.5015,10.7126,10.9238,11.3454, 11.7664,12.1868,12.6066,12.9268,13.0359 ,13.0647)
FOOTPRINT_POINT_LONGITUDE = (224.505,224.141,223.627,223.34,223.329 ,223.322,223.323,223.325,223.326, 223.328,223.329,223.331,223.332,223.332 ,223.333,223.333,223.333,223.334, 223.334,223.334,223.334,223.334,223.335 ,223.335,223.335,223.334,223.334, 223.334,223.334,223.334,223.333,223.333 ,223.332,223.33,223.329,223.329,223.327 ,223.326,223.325,223.324,223.322, 223.321,223.319,223.318,223.316,223.314 ,223.312,223.31,223.309,223.309,223.531 ,223.851,224.214,224.432,224.443, 224.447,224.448,224.448,224.449,224.449 ,224.45,224.45,224.451,224.452,224.452, 224.453,224.454,224.455,224.456,224.456 ,224.457,224.459,224.46,224.461,224.463 ,224.464,224.466,224.468,224.469, 224.471,224.473,224.474,224.475,224.477 ,224.478,224.479,224.481,224.482, 224.484,224.485,224.487,224.488,224.49, 224.493,224.496,224.499,224.503,224.505 ,224.506,224.505)
ORBIT_NUMBER = 5157
ORBITAL_ECCENTRICITY = 0.575
ORBITAL_INCLINATION = 86.73
ORBITAL_SEMIMAJOR_AXIS = 8734.14
PERIAPSIS_ALTITUDE = 320.4
PERIAPSIS_ARGUMENT_ANGLE = 171.09
PERIAPSIS_TIME = 2008-01-07T07:03:02.000Z
SPACECRAFT_ORIENTATION = (0.0,-1.0,0.0)
^MEX_ORIENTATION_DESC = "MEX_ORIENTATION_DESC.TXT"
SPACECRAFT_POINTING_MODE = ACROSSTRACK
^MEX_POINTING_DESC = "MEX_POINTING_DESC.TXT"
RIGHT_ASCENSION = -1e+32
DECLINATION = -1e+32
OFFSET_ANGLE = -0.15
SPACECRAFT_SOLAR_DISTANCE = 2.38023e+08
TARGET_NAME = MARS
/* CAMERA DATA ELEMENTS */
DETECTOR_TEMPERATURE = 17.5549
FOCAL_PLANE_TEMPERATURE = 7.9716
INST_CMPRS_NAME = "DISCRETE COSINE TRANSFORMATION (DCT)"
INST_CMPRS_RATIO = 6.11875
INST_CMPRS_QUALITY = 0
INST_CMPRS_QUANTZ_TBL_ID = 0
INSTRUMENT_TEMPERATURE = 11.0301
LENS_TEMPERATURE = 8.5833
MACROPIXEL_SIZE = 2
MISSING_FRAMES = 0
PIXEL_SUBSAMPLING_FLAG = N
SIGNAL_CHAIN_ID = 1
/* RADIOMETRIC DATA ELEMENTS */
BANDWIDTH = 180.0
CENTER_FILTER_WAVELENGTH = 677.0
RADIANCE_OFFSET = 3.4573
RADIANCE_SCALING_FACTOR = 0.0154676
REFLECTANCE_SCALING_FACTOR = 0.000457196
MEX:REFLECTANCE_OFFSET = 0.102192
/* IMAGE OBJECT DEFINITIONS */
OBJECT = IMAGE
  INTERCHANGE_FORMAT = BINARY
  LINES = 25317
  LINE_SAMPLES = 2798
  SAMPLE_TYPE = UNSIGNED_INTEGER
  SAMPLE_BITS = 8
  BANDS = 1
  BAND_STORAGE_TYPE = BAND_SEQUENTIAL
  MAXIMUM = 255
  MEAN = 134.545
  MINIMUM = 1
  STANDARD_DEVIATION = 16.2035
END_OBJECT = IMAGE
/* MAP OBJECT DEFINITIONS */
OBJECT = IMAGE_MAP_PROJECTION
  ^DATA_SET_MAP_PROJECTION_CATALOG= "DSMAP.CAT"
  A_AXIS_RADIUS = 3396.0
  B_AXIS_RADIUS = 3396.0
  C_AXIS_RADIUS = 3396.0
  CENTER_LATITUDE = 0.0
  CENTER_LONGITUDE = 224.0
  COORDINATE_SYSTEM_NAME = PLANETOGRAPHIC
  COORDINATE_SYSTEM_TYPE = "BODY-FIXED ROTATING"
  EASTERNMOST_LONGITUDE = 224.506
  FIRST_STANDARD_PARALLEL = "N/A"
  LINE_FIRST_PIXEL = 1
  LINE_LAST_PIXEL = 25317
  LINE_PROJECTION_OFFSET = 30979.75
  MAP_PROJECTION_ROTATION = 0.0
  MAP_PROJECTION_TYPE = SINUSOIDAL
  MAP_RESOLUTION = 2370.85521546667
  MAP_SCALE = 0.025
  MAXIMUM_LATITUDE = 13.0647
  MINIMUM_LATITUDE = 2.38607
  POSITIVE_LONGITUDE_DIRECTION = EAST
  REFERENCE_LATITUDE = "N/A"
  REFERENCE_LONGITUDE = "N/A"
  SAMPLE_FIRST_PIXEL = 1
  SAMPLE_LAST_PIXEL = 2798
  SAMPLE_PROJECTION_OFFSET = 1647.75
  SECOND_STANDARD_PARALLEL = "N/A"
  WESTERNMOST_LONGITUDE = 223.309
END_OBJECT = IMAGE_MAP_PROJECTION
END
