PDS_VERSION_ID = PDS3
/* FILE DATA ELEMENTS */
RECORD_TYPE = UNDEFINED
/* POINTERS TO DATA OBJECTS */
^IMAGE = ("H5157_0000_P14.TIF")
/* IDENTIFICATION DATA ELEMENTS */
DATA_SET_ID = "MEX-M-HRSC-4-REFDR-MAPPROJECT-EXT2-V4.0"
DATA_SET_NAME = "MARS EXPRESS HRSC MAP PROJECTED REFDR EXTENSION2 V4.0"
DETECTOR_ID = MEX_HRSC_P1
EVENT_TYPE = "MARS-REGIONAL-MAPPING-Vo-Eo-La"
INSTRUMENT_HOST_ID = MEX
INSTRUMENT_HOST_NAME = "MARS EXPRESS"
INSTRUMENT_ID = HRSC
INSTRUMENT_NAME = "HIGH RESOLUTION STEREO CAMERA"
MISSION_NAME = "MARS EXPRESS"
MISSION_PHASE_NAME = ME_Phase_11
PROCESSING_LEVEL_ID = 4
PRODUCT_CREATION_TIME = 2023-02-01T12:09:47.000Z
PRODUCT_ID = "H5157_0000_P14.TIF"
RELEASE_ID = 0001
REVISION_ID = 0000
/* QUALITY DATA ELEMENTS */
DATA_QUALITY_ID = 1
DATA_QUALITY_DESC = "Data calculated based on original SPICE kernels"
/* TIME DATA ELEMENTS */
SPACECRAFT_CLOCK_START_COUNT = "1/0147769286.09060"
SPACECRAFT_CLOCK_STOP_COUNT = "1/0147769510.17855"
START_TIME = 2008-01-07T07:01:39.879Z
STOP_TIME = 2008-01-07T07:04:23.107Z
/* ORBITAL DATA ELEMENTS */
ASCENDING_NODE_LONGITUDE = 120.82
MAXIMUM_RESOLUTION = 0.0526
FOOTPRINT_POINT_LATITUDE = (13.0756,13.075,13.0739,13.0717,13.0692 ,13.0691,13.0637,12.8524,12.4314, 12.1156,11.6946,11.3784,10.9564,10.4286 ,10.2174,10.0061,9.79473,9.58311, 9.37162,9.05432,8.73685,8.52493,8.31333 ,8.10138,7.88917,7.67735,7.35949, 7.14703,6.93524,6.72303,6.51088,6.29848 ,6.08568,5.8724,5.65879,5.44623,5.23335 ,4.91362,4.70026,4.48665,4.2728,4.0591, 3.8456,3.63197,3.41814,3.20427,2.99018, 2.77637,2.56228,2.45535,2.38188,2.38394 ,2.38556,2.38677,2.38676,2.38758, 2.70834,2.92207,3.1361,3.35019,3.56373, 3.77743,3.99145,4.31224,4.5258,4.73929, 4.95248,5.16547,5.37853,5.5918,5.80478, 6.01717,6.3358,6.54766,6.75997,6.97304, 7.18484,7.50271,7.82147,8.03328,8.35142 ,8.56334,8.88124,9.09306,9.30515, 9.51684,9.7286,9.94021,10.1518,10.3631, 10.5745,10.7858,10.9971,11.4192,11.8409 ,12.2622,12.683,12.8942,12.9997, 13.0756)
FOOTPRINT_POINT_LONGITUDE = (224.501,224.263,223.98,223.632,223.347 ,223.336,223.331,223.331,223.332, 223.334,223.335,223.336,223.337,223.339 ,223.339,223.339,223.34,223.34,223.34, 223.34,223.34,223.34,223.34,223.34, 223.34,223.34,223.34,223.339,223.339, 223.339,223.339,223.338,223.337,223.336 ,223.335,223.334,223.334,223.332, 223.331,223.329,223.328,223.326,223.325 ,223.323,223.321,223.32,223.318,223.316 ,223.314,223.313,223.312,223.653, 224.003,224.435,224.445,224.449,224.449 ,224.45,224.45,224.45,224.451,224.451, 224.451,224.452,224.453,224.453,224.454 ,224.455,224.456,224.456,224.457, 224.458,224.46,224.461,224.462,224.463, 224.464,224.466,224.468,224.469,224.471 ,224.472,224.474,224.475,224.476, 224.478,224.479,224.48,224.482,224.483, 224.485,224.486,224.487,224.49,224.493, 224.497,224.5,224.501,224.502,224.501)
ORBIT_NUMBER = 5157
ORBITAL_ECCENTRICITY = 0.575
ORBITAL_INCLINATION = 86.73
ORBITAL_SEMIMAJOR_AXIS = 8734.14
PERIAPSIS_ALTITUDE = 320.4
PERIAPSIS_ARGUMENT_ANGLE = 171.09
PERIAPSIS_TIME = 2008-01-07T07:03:02.000Z
SPACECRAFT_ORIENTATION = (0.0,-1.0,0.0)
^MEX_ORIENTATION_DESC = "MEX_ORIENTATION_DESC.TXT"
SPACECRAFT_POINTING_MODE = ACROSSTRACK
^MEX_POINTING_DESC = "MEX_POINTING_DESC.TXT"
RIGHT_ASCENSION = -1e+32
DECLINATION = -1e+32
OFFSET_ANGLE = -0.15
SPACECRAFT_SOLAR_DISTANCE = 2.38023e+08
TARGET_NAME = MARS
/* CAMERA DATA ELEMENTS */
DETECTOR_TEMPERATURE = 17.5549
FOCAL_PLANE_TEMPERATURE = 7.9716
INST_CMPRS_NAME = "DISCRETE COSINE TRANSFORMATION (DCT)"
INST_CMPRS_RATIO = 6.69323
INST_CMPRS_QUALITY = 0
INST_CMPRS_QUANTZ_TBL_ID = 0
INSTRUMENT_TEMPERATURE = 11.0301
LENS_TEMPERATURE = 8.5833
MACROPIXEL_SIZE = 4
MISSING_FRAMES = 0
PIXEL_SUBSAMPLING_FLAG = N
SIGNAL_CHAIN_ID = 3
/* RADIOMETRIC DATA ELEMENTS */
BANDWIDTH = 174.0
CENTER_FILTER_WAVELENGTH = 675.0
RADIANCE_OFFSET = 3.1251
RADIANCE_SCALING_FACTOR = 0.0148444
REFLECTANCE_SCALING_FACTOR = 0.000452363
MEX:REFLECTANCE_OFFSET = 0.095233
/* IMAGE OBJECT DEFINITIONS */
OBJECT = IMAGE
  INTERCHANGE_FORMAT = BINARY
  LINES = 12659
  LINE_SAMPLES = 1399
  SAMPLE_TYPE = UNSIGNED_INTEGER
  SAMPLE_BITS = 8
  BANDS = 1
  BAND_STORAGE_TYPE = BAND_SEQUENTIAL
  MAXIMUM = 255
  MEAN = 132.391
  MINIMUM = 1
  STANDARD_DEVIATION = 15.0037
END_OBJECT = IMAGE
/* MAP OBJECT DEFINITIONS */
OBJECT = IMAGE_MAP_PROJECTION
  ^DATA_SET_MAP_PROJECTION_CATALOG= "DSMAP.CAT"
  A_AXIS_RADIUS = 3396.0
  B_AXIS_RADIUS = 3396.0
  C_AXIS_RADIUS = 3396.0
  CENTER_LATITUDE = 0.0
  CENTER_LONGITUDE = 224.0
  COORDINATE_SYSTEM_NAME = PLANETOGRAPHIC
  COORDINATE_SYSTEM_TYPE = "BODY-FIXED ROTATING"
  EASTERNMOST_LONGITUDE = 224.502
  FIRST_STANDARD_PARALLEL = "N/A"
  LINE_FIRST_PIXEL = 1
  LINE_LAST_PIXEL = 12659
  LINE_PROJECTION_OFFSET = 15489.625
  MAP_PROJECTION_ROTATION = 0.0
  MAP_PROJECTION_TYPE = SINUSOIDAL
  MAP_RESOLUTION = 1185.42760773333
  MAP_SCALE = 0.05
  MAXIMUM_LATITUDE = 13.0756
  MINIMUM_LATITUDE = 2.38188
  POSITIVE_LONGITUDE_DIRECTION = EAST
  REFERENCE_LATITUDE = "N/A"
  REFERENCE_LONGITUDE = "N/A"
  SAMPLE_FIRST_PIXEL = 1
  SAMPLE_LAST_PIXEL = 1399
  SAMPLE_PROJECTION_OFFSET = 823.625
  SECOND_STANDARD_PARALLEL = "N/A"
  WESTERNMOST_LONGITUDE = 223.312
END_OBJECT = IMAGE_MAP_PROJECTION
END
