PDS_VERSION_ID = PDS3
/* FILE DATA ELEMENTS */
RECORD_TYPE = UNDEFINED
/* POINTERS TO DATA OBJECTS */
^IMAGE = ("H5155_0000_P24.TIF")
/* IDENTIFICATION DATA ELEMENTS */
DATA_SET_ID = "MEX-M-HRSC-4-REFDR-MAPPROJECT-EXT2-V4.0"
DATA_SET_NAME = "MARS EXPRESS HRSC MAP PROJECTED REFDR EXTENSION2 V4.0"
DETECTOR_ID = MEX_HRSC_P2
EVENT_TYPE = "MARS-REGIONAL-MAPPING-Vo-Eo"
INSTRUMENT_HOST_ID = MEX
INSTRUMENT_HOST_NAME = "MARS EXPRESS"
INSTRUMENT_ID = HRSC
INSTRUMENT_NAME = "HIGH RESOLUTION STEREO CAMERA"
MISSION_NAME = "MARS EXPRESS"
MISSION_PHASE_NAME = ME_Phase_11
PROCESSING_LEVEL_ID = 4
PRODUCT_CREATION_TIME = 2023-02-01T12:09:47.000Z
PRODUCT_ID = "H5155_0000_P24.TIF"
RELEASE_ID = 0001
REVISION_ID = 0000
/* QUALITY DATA ELEMENTS */
DATA_QUALITY_ID = 1
DATA_QUALITY_DESC = "Data calculated based on original SPICE kernels"
/* TIME DATA ELEMENTS */
SPACECRAFT_CLOCK_START_COUNT = "1/0147720070.09100"
SPACECRAFT_CLOCK_STOP_COUNT = "1/0147720310.16685"
START_TIME = 2008-01-06T17:22:01.530Z
STOP_TIME = 2008-01-06T17:25:00.991Z
/* ORBITAL DATA ELEMENTS */
ASCENDING_NODE_LONGITUDE = 120.85
MAXIMUM_RESOLUTION = 0.0524
FOOTPRINT_POINT_LATITUDE = (10.5527,10.5609,10.5693,10.5808, 10.5811,10.5746,10.3437,10.1131,9.88235 ,9.6521,9.42162,9.19112,8.96098,8.73081 ,8.50044,8.27092,8.04072,7.81117, 7.58115,7.35217,7.12285,6.77906,6.43513 ,6.20623,5.97739,5.74883,5.4065,5.1783, 4.83597,4.60813,4.26641,4.03881,3.69821 ,3.23629,3.00134,2.76676,2.5325,2.18165 ,1.9477,1.7139,1.36345,1.13032,0.780515 ,0.547337,0.19855,-0.0391014,-0.279198, -0.521764,-0.880668,-0.999547,-1.0516, -1.06433,-1.07318,-1.08476,-1.08504, -1.08429,-0.844864,-0.485588,-0.246222, -0.00590655,0.23316,0.465851,0.698443, 0.930152,1.1632,1.51403,1.86484,2.09869 ,2.45009,2.68452,2.91898,3.15363, 3.50361,3.95831,4.52759,4.86952,5.09767 ,5.32595,5.55451,5.78303,6.01178, 6.24039,6.58441,6.92817,7.27231,7.50223 ,7.73181,7.96143,8.19145,8.42142, 8.65099,8.88126,9.11174,9.34218,9.57293 ,9.80371,10.1497,10.3805,10.4958, 10.5527)
FOOTPRINT_POINT_LONGITUDE = (64.1916,63.8547,63.5135,63.0586, 63.0477,63.05,63.0504,63.0505,63.0508, 63.0506,63.0506,63.0507,63.0504,63.0502 ,63.0501,63.0493,63.0492,63.0484, 63.0481,63.047,63.0461,63.0447,63.0435, 63.0425,63.0414,63.0401,63.0378,63.0363 ,63.0342,63.0325,63.0301,63.0284, 63.0253,63.0213,63.0194,63.0173,63.015, 63.0112,63.0089,63.0065,63.0029,63.0002 ,62.9964,62.994,62.9893,62.9843,62.9815 ,62.9809,62.976,62.9739,62.9731,63.3818 ,63.8289,64.1611,64.1721,64.1758, 64.1753,64.1747,64.1742,64.1739,64.1737 ,64.1734,64.1732,64.1729,64.1727, 64.1726,64.1725,64.1725,64.1725,64.1726 ,64.1727,64.1728,64.173,64.1734,64.1741 ,64.1746,64.175,64.1754,64.1758,64.1762 ,64.1767,64.1772,64.178,64.1789,64.1798 ,64.1805,64.1811,64.1818,64.1826, 64.1833,64.184,64.1848,64.1857,64.1865, 64.1874,64.1883,64.1896,64.1906,64.191, 64.1916)
ORBIT_NUMBER = 5155
ORBITAL_ECCENTRICITY = 0.574
ORBITAL_INCLINATION = 86.74
ORBITAL_SEMIMAJOR_AXIS = 8731.82
PERIAPSIS_ALTITUDE = 319.97
PERIAPSIS_ARGUMENT_ANGLE = 171.45
PERIAPSIS_TIME = 2008-01-06T17:22:14.000Z
SPACECRAFT_ORIENTATION = (0.0,-1.0,0.0)
^MEX_ORIENTATION_DESC = "MEX_ORIENTATION_DESC.TXT"
SPACECRAFT_POINTING_MODE = ACROSSTRACK
^MEX_POINTING_DESC = "MEX_POINTING_DESC.TXT"
RIGHT_ASCENSION = -1e+32
DECLINATION = -1e+32
OFFSET_ANGLE = -0.5
SPACECRAFT_SOLAR_DISTANCE = 2.3793e+08
TARGET_NAME = MARS
/* CAMERA DATA ELEMENTS */
DETECTOR_TEMPERATURE = 18.5744
FOCAL_PLANE_TEMPERATURE = 7.9716
INST_CMPRS_NAME = "DISCRETE COSINE TRANSFORMATION (DCT)"
INST_CMPRS_RATIO = 9.9649
INST_CMPRS_QUALITY = 0
INST_CMPRS_QUANTZ_TBL_ID = 0
INSTRUMENT_TEMPERATURE = 11.234
LENS_TEMPERATURE = 8.3794
MACROPIXEL_SIZE = 4
MISSING_FRAMES = 0
PIXEL_SUBSAMPLING_FLAG = N
SIGNAL_CHAIN_ID = 3
/* RADIOMETRIC DATA ELEMENTS */
BANDWIDTH = 177.0
CENTER_FILTER_WAVELENGTH = 676.5
RADIANCE_OFFSET = 1.8741
RADIANCE_SCALING_FACTOR = 0.0113582
REFLECTANCE_SCALING_FACTOR = 0.000340927
MEX:REFLECTANCE_OFFSET = 0.056253
/* IMAGE OBJECT DEFINITIONS */
OBJECT = IMAGE
  INTERCHANGE_FORMAT = BINARY
  LINES = 13802
  LINE_SAMPLES = 1433
  SAMPLE_TYPE = UNSIGNED_INTEGER
  SAMPLE_BITS = 8
  BANDS = 1
  BAND_STORAGE_TYPE = BAND_SEQUENTIAL
  MAXIMUM = 255
  MEAN = 118.977
  MINIMUM = 1
  STANDARD_DEVIATION = 23.207
END_OBJECT = IMAGE
/* MAP OBJECT DEFINITIONS */
OBJECT = IMAGE_MAP_PROJECTION
  ^DATA_SET_MAP_PROJECTION_CATALOG= "DSMAP.CAT"
  A_AXIS_RADIUS = 3396.0
  B_AXIS_RADIUS = 3396.0
  C_AXIS_RADIUS = 3396.0
  CENTER_LATITUDE = 0.0
  CENTER_LONGITUDE = 64.0
  COORDINATE_SYSTEM_NAME = PLANETOGRAPHIC
  COORDINATE_SYSTEM_TYPE = "BODY-FIXED ROTATING"
  EASTERNMOST_LONGITUDE = 64.19159999999999
  FIRST_STANDARD_PARALLEL = "N/A"
  LINE_FIRST_PIXEL = 1
  LINE_LAST_PIXEL = 13802
  LINE_PROJECTION_OFFSET = 12534.625
  MAP_PROJECTION_ROTATION = 0.0
  MAP_PROJECTION_TYPE = SINUSOIDAL
  MAP_RESOLUTION = 1185.42760773333
  MAP_SCALE = 0.05
  MAXIMUM_LATITUDE = 10.5811
  MINIMUM_LATITUDE = -1.08504
  POSITIVE_LONGITUDE_DIRECTION = EAST
  REFERENCE_LATITUDE = "N/A"
  REFERENCE_LONGITUDE = "N/A"
  SAMPLE_FIRST_PIXEL = 1
  SAMPLE_LAST_PIXEL = 1433
  SAMPLE_PROJECTION_OFFSET = 1207.125
  SECOND_STANDARD_PARALLEL = "N/A"
  WESTERNMOST_LONGITUDE = 62.9731
END_OBJECT = IMAGE_MAP_PROJECTION
END
