PDS_VERSION_ID = PDS3
/* FILE DATA ELEMENTS */
RECORD_TYPE = UNDEFINED
/* POINTERS TO DATA OBJECTS */
^IMAGE = ("H5155_0000_IR4.TIF")
/* IDENTIFICATION DATA ELEMENTS */
DATA_SET_ID = "MEX-M-HRSC-4-REFDR-MAPPROJECT-EXT2-V4.0"
DATA_SET_NAME = "MARS EXPRESS HRSC MAP PROJECTED REFDR EXTENSION2 V4.0"
DETECTOR_ID = MEX_HRSC_IR
EVENT_TYPE = "MARS-REGIONAL-MAPPING-Vo-Eo"
INSTRUMENT_HOST_ID = MEX
INSTRUMENT_HOST_NAME = "MARS EXPRESS"
INSTRUMENT_ID = HRSC
INSTRUMENT_NAME = "HIGH RESOLUTION STEREO CAMERA"
MISSION_NAME = "MARS EXPRESS"
MISSION_PHASE_NAME = ME_Phase_11
PROCESSING_LEVEL_ID = 4
PRODUCT_CREATION_TIME = 2023-02-01T12:09:47.000Z
PRODUCT_ID = "H5155_0000_IR4.TIF"
RELEASE_ID = 0001
REVISION_ID = 0000
/* QUALITY DATA ELEMENTS */
DATA_QUALITY_ID = 1
DATA_QUALITY_DESC = "Data calculated based on original SPICE kernels"
/* TIME DATA ELEMENTS */
SPACECRAFT_CLOCK_START_COUNT = "1/0147720070.09100"
SPACECRAFT_CLOCK_STOP_COUNT = "1/0147720310.16685"
START_TIME = 2008-01-06T17:21:18.864Z
STOP_TIME = 2008-01-06T17:24:16.110Z
/* ORBITAL DATA ELEMENTS */
ASCENDING_NODE_LONGITUDE = 120.85
MAXIMUM_RESOLUTION = 0.0532
FOOTPRINT_POINT_LATITUDE = (10.5822,10.5741,10.565,10.5515,10.5511 ,10.5575,10.101,9.8727,9.64384,9.30088, 9.07183,8.84267,8.49889,8.15464,7.81025 ,7.58053,7.35003,7.0047,6.77445,6.42924 ,6.08354,5.85281,5.62164,5.27501, 4.92863,4.6973,4.46611,4.23485,4.00344, 3.77145,3.53979,3.19248,2.84516,2.49745 ,2.26521,2.03329,1.80139,1.56969, 1.33772,1.10562,0.757886,0.5242, 0.282776,0.039134,-0.201044,-0.438385, -0.67759,-0.918062,-1.03849,-1.08477, -1.07588,-1.06982,-1.05919,-1.05898, -1.05807,-0.818066,-0.457717,-0.216956, 0.0228742,0.262419,0.502625,0.856461, 1.08951,1.32144,1.55303,1.78483,2.01695 ,2.24904,2.48084,2.82874,3.06077, 3.29266,3.64031,3.98786,4.33533,4.68241 ,5.02935,5.26066,5.60721,5.83824, 6.06916,6.30025,6.53038,6.76094,6.99145 ,7.22195,7.56663,7.79666,8.02672, 8.25644,8.48626,8.83094,9.06011,9.28921 ,9.63225,9.86116,10.09,10.4326,10.5469, 10.5822)
FOOTPRINT_POINT_LONGITUDE = (64.1972,63.8571,63.5124,63.0531,63.042 ,63.0443,63.0457,63.0465,63.0468, 63.0476,63.0479,63.0481,63.0485,63.0485 ,63.0485,63.0484,63.0478,63.0472, 63.0467,63.0462,63.0453,63.0445,63.0435 ,63.0419,63.0405,63.0393,63.0382,63.037 ,63.0357,63.0339,63.0324,63.0302, 63.0279,63.0254,63.0233,63.0214,63.0196 ,63.0178,63.0158,63.0137,63.0107, 63.0093,63.006,63.0012,62.9988,62.9982, 62.9962,62.9934,62.9918,62.9909,63.3328 ,63.573,64.1428,64.1534,64.157,64.1571, 64.1572,64.1574,64.1576,64.1579,64.1581 ,64.1585,64.1589,64.1592,64.1597, 64.1601,64.1606,64.161,64.1616,64.1624, 64.163,64.1636,64.1646,64.1656,64.1667, 64.1679,64.1692,64.17,64.1713,64.1723, 64.1732,64.1742,64.1752,64.1762,64.1773 ,64.1783,64.18,64.1812,64.1823,64.1835, 64.1847,64.1866,64.1878,64.1891,64.1911 ,64.1925,64.1938,64.1959,64.1966, 64.1972)
ORBIT_NUMBER = 5155
ORBITAL_ECCENTRICITY = 0.574
ORBITAL_INCLINATION = 86.74
ORBITAL_SEMIMAJOR_AXIS = 8731.82
PERIAPSIS_ALTITUDE = 319.97
PERIAPSIS_ARGUMENT_ANGLE = 171.45
PERIAPSIS_TIME = 2008-01-06T17:22:14.000Z
SPACECRAFT_ORIENTATION = (0.0,-1.0,0.0)
^MEX_ORIENTATION_DESC = "MEX_ORIENTATION_DESC.TXT"
SPACECRAFT_POINTING_MODE = ACROSSTRACK
^MEX_POINTING_DESC = "MEX_POINTING_DESC.TXT"
RIGHT_ASCENSION = -1e+32
DECLINATION = -1e+32
OFFSET_ANGLE = -0.5
SPACECRAFT_SOLAR_DISTANCE = 2.3793e+08
TARGET_NAME = MARS
/* CAMERA DATA ELEMENTS */
DETECTOR_TEMPERATURE = 17.5549
FOCAL_PLANE_TEMPERATURE = 7.9716
INST_CMPRS_NAME = "DISCRETE COSINE TRANSFORMATION (DCT)"
INST_CMPRS_RATIO = 8.87772
INST_CMPRS_QUALITY = 0
INST_CMPRS_QUANTZ_TBL_ID = 0
INSTRUMENT_TEMPERATURE = 11.234
LENS_TEMPERATURE = 8.3794
MACROPIXEL_SIZE = 4
MISSING_FRAMES = 0
PIXEL_SUBSAMPLING_FLAG = N
SIGNAL_CHAIN_ID = 2
/* RADIOMETRIC DATA ELEMENTS */
BANDWIDTH = 81.0
CENTER_FILTER_WAVELENGTH = 955.5
RADIANCE_OFFSET = 0.399626
RADIANCE_SCALING_FACTOR = 0.002885
REFLECTANCE_SCALING_FACTOR = 0.000352347
MEX:REFLECTANCE_OFFSET = 0.0488066
/* IMAGE OBJECT DEFINITIONS */
OBJECT = IMAGE
  INTERCHANGE_FORMAT = BINARY
  LINES = 13802
  LINE_SAMPLES = 1433
  SAMPLE_TYPE = UNSIGNED_INTEGER
  SAMPLE_BITS = 8
  BANDS = 1
  BAND_STORAGE_TYPE = BAND_SEQUENTIAL
  MAXIMUM = 255
  MEAN = 116.955
  MINIMUM = 1
  STANDARD_DEVIATION = 27.6836
END_OBJECT = IMAGE
/* MAP OBJECT DEFINITIONS */
OBJECT = IMAGE_MAP_PROJECTION
  ^DATA_SET_MAP_PROJECTION_CATALOG= "DSMAP.CAT"
  A_AXIS_RADIUS = 3396.0
  B_AXIS_RADIUS = 3396.0
  C_AXIS_RADIUS = 3396.0
  CENTER_LATITUDE = 0.0
  CENTER_LONGITUDE = 64.0
  COORDINATE_SYSTEM_NAME = PLANETOGRAPHIC
  COORDINATE_SYSTEM_TYPE = "BODY-FIXED ROTATING"
  EASTERNMOST_LONGITUDE = 64.1972
  FIRST_STANDARD_PARALLEL = "N/A"
  LINE_FIRST_PIXEL = 1
  LINE_LAST_PIXEL = 13802
  LINE_PROJECTION_OFFSET = 12534.625
  MAP_PROJECTION_ROTATION = 0.0
  MAP_PROJECTION_TYPE = SINUSOIDAL
  MAP_RESOLUTION = 1185.42760773333
  MAP_SCALE = 0.05
  MAXIMUM_LATITUDE = 10.5822
  MINIMUM_LATITUDE = -1.08477
  POSITIVE_LONGITUDE_DIRECTION = EAST
  REFERENCE_LATITUDE = "N/A"
  REFERENCE_LONGITUDE = "N/A"
  SAMPLE_FIRST_PIXEL = 1
  SAMPLE_LAST_PIXEL = 1433
  SAMPLE_PROJECTION_OFFSET = 1207.125
  SECOND_STANDARD_PARALLEL = "N/A"
  WESTERNMOST_LONGITUDE = 62.9909
END_OBJECT = IMAGE_MAP_PROJECTION
END
