PDS_VERSION_ID = PDS3
/* FILE DATA ELEMENTS */
RECORD_TYPE = UNDEFINED
/* POINTERS TO DATA OBJECTS */
^IMAGE = ("H5143_0000_ND4.TIF")
/* IDENTIFICATION DATA ELEMENTS */
DATA_SET_ID = "MEX-M-HRSC-4-REFDR-MAPPROJECT-EXT2-V4.0"
DATA_SET_NAME = "MARS EXPRESS HRSC MAP PROJECTED REFDR EXTENSION2 V4.0"
DETECTOR_ID = MEX_HRSC_NADIR
EVENT_TYPE = "MARS-REGIONAL-MAPPING-Vo-Pf-Eo"
INSTRUMENT_HOST_ID = MEX
INSTRUMENT_HOST_NAME = "MARS EXPRESS"
INSTRUMENT_ID = HRSC
INSTRUMENT_NAME = "HIGH RESOLUTION STEREO CAMERA"
MISSION_NAME = "MARS EXPRESS"
MISSION_PHASE_NAME = ME_Phase_11
PROCESSING_LEVEL_ID = 4
PRODUCT_CREATION_TIME = 2023-02-01T12:09:47.000Z
PRODUCT_ID = "H5143_0000_ND4.TIF"
RELEASE_ID = 0001
REVISION_ID = 0000
/* QUALITY DATA ELEMENTS */
DATA_QUALITY_ID = 1
DATA_QUALITY_DESC = "Data calculated based on original SPICE kernels"
/* TIME DATA ELEMENTS */
SPACECRAFT_CLOCK_START_COUNT = "1/0147424429.07282"
SPACECRAFT_CLOCK_STOP_COUNT = "1/0147424749.40820"
START_TIME = 2008-01-03T07:14:23.959Z
STOP_TIME = 2008-01-03T07:18:40.949Z
/* ORBITAL DATA ELEMENTS */
ASCENDING_NODE_LONGITUDE = 121.1
MAXIMUM_RESOLUTION = 0.0129
FOOTPRINT_POINT_LATITUDE = (15.2429,15.2436,15.2437,15.2429, 15.2429,15.2428,14.9004,14.5578,14.2149 ,13.8719,13.5286,13.1851,12.8415, 12.4977,12.1589,11.4935,10.8275,10.4944 ,10.1611,9.8278,9.49441,8.99408,8.66049 ,8.32683,7.99312,7.65936,7.32559,6.9918 ,6.65799,6.32416,5.82343,5.48963, 5.15586,4.8221,4.48841,4.15475,3.82113, 3.48758,3.15413,2.82076,2.48747,1.82119 ,1.15534,0.490024,-0.174687,-0.688267, -1.03155,-1.37463,-1.54609,-1.55984, -1.56246,-1.56444,-1.56648,-1.56655, -1.56637,-1.22331,-0.880055,-0.536601, -0.194195,0.47068,1.13615,1.80216, 2.13534,2.46862,2.80204,3.1355,3.46907, 3.80271,4.13642,4.47017,4.80399,5.13785 ,5.63871,5.97264,6.30658,6.64053, 6.97447,7.30841,7.64232,7.97619,8.47696 ,8.81073,9.14444,9.4781,9.81167,10.1452 ,10.4786,10.8119,11.4782,12.144,12.6545 ,12.9984,13.3422,13.6858,14.0291, 14.3723,14.7153,15.0581,15.2294, 15.2429)
FOOTPRINT_POINT_LONGITUDE = (185.051,184.682,184.298,183.85,183.838 ,183.816,183.82,183.823,183.826,183.829 ,183.831,183.834,183.836,183.838,183.84 ,183.844,183.846,183.847,183.848, 183.849,183.847,183.852,183.851,183.851 ,183.851,183.852,183.851,183.85,183.849 ,183.848,183.847,183.846,183.844, 183.844,183.841,183.84,183.839,183.838, 183.835,183.833,183.83,183.825,183.821, 183.816,183.81,183.804,183.801,183.797, 183.795,183.795,184.239,184.587,184.956 ,184.967,184.973,184.973,184.973, 184.973,184.973,184.973,184.974,184.976 ,184.976,184.977,184.978,184.979,184.98 ,184.981,184.982,184.983,184.984, 184.986,184.988,184.989,184.991,184.993 ,184.994,184.996,184.998,185.0,185.003, 185.005,185.007,185.009,185.011,185.013 ,185.015,185.018,185.023,185.028, 185.032,185.035,185.038,185.041,185.044 ,185.048,185.051,185.054,185.056, 185.051)
ORBIT_NUMBER = 5143
ORBITAL_ECCENTRICITY = 0.574
ORBITAL_INCLINATION = 86.73
ORBITAL_SEMIMAJOR_AXIS = 8722.5
PERIAPSIS_ALTITUDE = 319.5
PERIAPSIS_ARGUMENT_ANGLE = 173.54
PERIAPSIS_TIME = 2008-01-03T07:16:38.000Z
SPACECRAFT_ORIENTATION = (0.0,-1.0,0.0)
^MEX_ORIENTATION_DESC = "MEX_ORIENTATION_DESC.TXT"
SPACECRAFT_POINTING_MODE = ACROSSTRACK
^MEX_POINTING_DESC = "MEX_POINTING_DESC.TXT"
RIGHT_ASCENSION = -1e+32
DECLINATION = -1e+32
OFFSET_ANGLE = -0.3
SPACECRAFT_SOLAR_DISTANCE = 2.37362e+08
TARGET_NAME = MARS
/* CAMERA DATA ELEMENTS */
DETECTOR_TEMPERATURE = 18.3705
FOCAL_PLANE_TEMPERATURE = 8.5833
INST_CMPRS_NAME = "DISCRETE COSINE TRANSFORMATION (DCT)"
INST_CMPRS_RATIO = 6.62341
INST_CMPRS_QUALITY = 0
INST_CMPRS_QUANTZ_TBL_ID = 0
INSTRUMENT_TEMPERATURE = 11.234
LENS_TEMPERATURE = 7.5638
MACROPIXEL_SIZE = 1
MISSING_FRAMES = 0
PIXEL_SUBSAMPLING_FLAG = N
SIGNAL_CHAIN_ID = 0
/* RADIOMETRIC DATA ELEMENTS */
BANDWIDTH = 177.0
CENTER_FILTER_WAVELENGTH = 677.5
RADIANCE_OFFSET = 2.59807
RADIANCE_SCALING_FACTOR = 0.0172421
REFLECTANCE_SCALING_FACTOR = 0.000516053
MEX:REFLECTANCE_OFFSET = 0.0777598
/* IMAGE OBJECT DEFINITIONS */
OBJECT = IMAGE
  INTERCHANGE_FORMAT = BINARY
  LINES = 79712
  LINE_SAMPLES = 5814
  SAMPLE_TYPE = UNSIGNED_INTEGER
  SAMPLE_BITS = 8
  BANDS = 1
  BAND_STORAGE_TYPE = BAND_SEQUENTIAL
  MAXIMUM = 255
  MEAN = 105.168
  MINIMUM = 1
  STANDARD_DEVIATION = 20.3091
END_OBJECT = IMAGE
/* MAP OBJECT DEFINITIONS */
OBJECT = IMAGE_MAP_PROJECTION
  ^DATA_SET_MAP_PROJECTION_CATALOG= "DSMAP.CAT"
  A_AXIS_RADIUS = 3396.0
  B_AXIS_RADIUS = 3396.0
  C_AXIS_RADIUS = 3396.0
  CENTER_LATITUDE = 0.0
  CENTER_LONGITUDE = 184.0
  COORDINATE_SYSTEM_NAME = PLANETOGRAPHIC
  COORDINATE_SYSTEM_TYPE = "BODY-FIXED ROTATING"
  EASTERNMOST_LONGITUDE = 185.056
  FIRST_STANDARD_PARALLEL = "N/A"
  LINE_FIRST_PIXEL = 1
  LINE_LAST_PIXEL = 79712
  LINE_PROJECTION_OFFSET = 72297.0
  MAP_PROJECTION_ROTATION = 0.0
  MAP_PROJECTION_TYPE = SINUSOIDAL
  MAP_RESOLUTION = 4741.71043093333
  MAP_SCALE = 0.0125
  MAXIMUM_LATITUDE = 15.2437
  MINIMUM_LATITUDE = -1.56655
  POSITIVE_LONGITUDE_DIRECTION = EAST
  REFERENCE_LATITUDE = "N/A"
  REFERENCE_LONGITUDE = "N/A"
  SAMPLE_FIRST_PIXEL = 1
  SAMPLE_LAST_PIXEL = 5814
  SAMPLE_PROJECTION_OFFSET = 977.0
  SECOND_STANDARD_PARALLEL = "N/A"
  WESTERNMOST_LONGITUDE = 183.795
END_OBJECT = IMAGE_MAP_PROJECTION
END
