PDS_VERSION_ID = PDS3
/* FILE DATA ELEMENTS */
RECORD_TYPE = UNDEFINED
/* POINTERS TO DATA OBJECTS */
^IMAGE = ("H5141_0000_P24.TIF")
/* IDENTIFICATION DATA ELEMENTS */
DATA_SET_ID = "MEX-M-HRSC-4-REFDR-MAPPROJECT-EXT2-V4.0"
DATA_SET_NAME = "MARS EXPRESS HRSC MAP PROJECTED REFDR EXTENSION2 V4.0"
DETECTOR_ID = MEX_HRSC_P2
EVENT_TYPE = "MARS-LOCAL-MAPPING-Im-La"
INSTRUMENT_HOST_ID = MEX
INSTRUMENT_HOST_NAME = "MARS EXPRESS"
INSTRUMENT_ID = HRSC
INSTRUMENT_NAME = "HIGH RESOLUTION STEREO CAMERA"
MISSION_NAME = "MARS EXPRESS"
MISSION_PHASE_NAME = ME_Phase_11
PROCESSING_LEVEL_ID = 4
PRODUCT_CREATION_TIME = 2023-02-01T12:09:47.000Z
PRODUCT_ID = "H5141_0000_P24.TIF"
RELEASE_ID = 0001
REVISION_ID = 0000
/* QUALITY DATA ELEMENTS */
DATA_QUALITY_ID = 1
DATA_QUALITY_DESC = "Data calculated based on original SPICE kernels"
/* TIME DATA ELEMENTS */
SPACECRAFT_CLOCK_START_COUNT = "1/0147375148.08230"
SPACECRAFT_CLOCK_STOP_COUNT = "1/0147375361.14428"
START_TIME = 2008-01-02T17:33:23.672Z
STOP_TIME = 2008-01-02T17:35:53.320Z
/* ORBITAL DATA ELEMENTS */
ASCENDING_NODE_LONGITUDE = 121.14
MAXIMUM_RESOLUTION = 0.0525
FOOTPRINT_POINT_LATITUDE = (16.3449,16.341,16.338,16.3339,16.3338, 16.3422,16.1416,15.9401,15.7391,15.5379 ,15.3368,15.1357,14.9344,14.7332, 14.4312,14.2296,14.0281,13.8269,13.6261 ,13.4255,13.2289,13.0347,12.8399, 12.5484,12.3535,12.0618,11.7705,11.3912 ,11.197,10.9056,10.7113,10.5167,10.3217 ,10.1236,9.92746,9.63466,9.15132, 8.86063,8.66637,8.47276,8.08814,7.702, 7.50858,7.21833,7.02403,6.63922,6.54261 ,6.4825,6.48428,6.4869,6.48967,6.49147, 6.49161,6.49245,6.78185,7.16818,7.36175 ,7.55485,7.84449,8.0379,8.42211,8.61548 ,8.80934,9.00329,9.19689,9.39103, 9.58488,9.77842,10.0692,10.263,10.4563, 10.6508,10.8457,11.04,11.235,11.5271, 11.7218,12.0128,12.2075,12.4023,12.5963 ,12.7908,12.9853,13.1802,13.3749, 13.5735,13.7751,14.0785,14.2831,14.4841 ,14.6849,14.882,15.0827,15.3848,15.5865 ,15.7877,15.9887,16.1902,16.2909, 16.3449)
FOOTPRINT_POINT_LONGITUDE = (25.7484,25.3117,24.9807,24.5384, 24.5271,24.5218,24.5233,24.525,24.5265, 24.528,24.5294,24.5308,24.5321,24.5334, 24.5352,24.5364,24.5376,24.5386,24.5395 ,24.5403,24.5417,24.5424,24.5433, 24.5443,24.545,24.5459,24.5466,24.545, 24.5454,24.5458,24.5461,24.5464,24.5468 ,24.5478,24.5484,24.5489,24.5483,24.548 ,24.5479,24.5476,24.5463,24.5453, 24.5448,24.5441,24.5438,24.5421,24.5418 ,24.5416,24.8114,25.1462,25.4517,25.653 ,25.6637,25.6672,25.6686,25.6707,25.672 ,25.673,25.6744,25.6756,25.6761,25.6773 ,25.6787,25.6802,25.6814,25.683,25.6845 ,25.6857,25.6878,25.6892,25.6902, 25.6921,25.6942,25.6959,25.6982,25.7012 ,25.7033,25.7056,25.7077,25.7098, 25.7115,25.7134,25.7154,25.7176,25.7199 ,25.7218,25.7241,25.7284,25.7329,25.735 ,25.737,25.7364,25.7384,25.7421,25.7448 ,25.7471,25.7494,25.7521,25.7534, 25.7484)
ORBIT_NUMBER = 5141
ORBITAL_ECCENTRICITY = 0.575
ORBITAL_INCLINATION = 86.71
ORBITAL_SEMIMAJOR_AXIS = 8731.19
PERIAPSIS_ALTITUDE = 319.07
PERIAPSIS_ARGUMENT_ANGLE = 173.91
PERIAPSIS_TIME = 2008-01-02T17:35:41.000Z
SPACECRAFT_ORIENTATION = (0.0,-1.0,0.0)
^MEX_ORIENTATION_DESC = "MEX_ORIENTATION_DESC.TXT"
SPACECRAFT_POINTING_MODE = ACROSSTRACK
^MEX_POINTING_DESC = "MEX_POINTING_DESC.TXT"
RIGHT_ASCENSION = -1e+32
DECLINATION = -1e+32
OFFSET_ANGLE = 0.25
SPACECRAFT_SOLAR_DISTANCE = 2.37266e+08
TARGET_NAME = MARS
/* CAMERA DATA ELEMENTS */
DETECTOR_TEMPERATURE = 18.5744
FOCAL_PLANE_TEMPERATURE = 8.1755
INST_CMPRS_NAME = "DISCRETE COSINE TRANSFORMATION (DCT)"
INST_CMPRS_RATIO = 10.8402
INST_CMPRS_QUALITY = 0
INST_CMPRS_QUANTZ_TBL_ID = 0
INSTRUMENT_TEMPERATURE = 11.234
LENS_TEMPERATURE = 8.5833
MACROPIXEL_SIZE = 4
MISSING_FRAMES = 0
PIXEL_SUBSAMPLING_FLAG = N
SIGNAL_CHAIN_ID = 3
/* RADIOMETRIC DATA ELEMENTS */
BANDWIDTH = 177.0
CENTER_FILTER_WAVELENGTH = 676.5
RADIANCE_OFFSET = 2.79675
RADIANCE_SCALING_FACTOR = 0.0165333
REFLECTANCE_SCALING_FACTOR = 0.000493498
MEX:REFLECTANCE_OFFSET = 0.0834793
/* IMAGE OBJECT DEFINITIONS */
OBJECT = IMAGE
  INTERCHANGE_FORMAT = BINARY
  LINES = 11699
  LINE_SAMPLES = 1425
  SAMPLE_TYPE = UNSIGNED_INTEGER
  SAMPLE_BITS = 8
  BANDS = 1
  BAND_STORAGE_TYPE = BAND_SEQUENTIAL
  MAXIMUM = 255
  MEAN = 113.507
  MINIMUM = 1
  STANDARD_DEVIATION = 20.1093
END_OBJECT = IMAGE
/* MAP OBJECT DEFINITIONS */
OBJECT = IMAGE_MAP_PROJECTION
  ^DATA_SET_MAP_PROJECTION_CATALOG= "DSMAP.CAT"
  A_AXIS_RADIUS = 3396.0
  B_AXIS_RADIUS = 3396.0
  C_AXIS_RADIUS = 3396.0
  CENTER_LATITUDE = 0.0
  CENTER_LONGITUDE = 25.0
  COORDINATE_SYSTEM_NAME = PLANETOGRAPHIC
  COORDINATE_SYSTEM_TYPE = "BODY-FIXED ROTATING"
  EASTERNMOST_LONGITUDE = 25.7534
  FIRST_STANDARD_PARALLEL = "N/A"
  LINE_FIRST_PIXEL = 1
  LINE_LAST_PIXEL = 11699
  LINE_PROJECTION_OFFSET = 19383.375
  MAP_PROJECTION_ROTATION = 0.0
  MAP_PROJECTION_TYPE = SINUSOIDAL
  MAP_RESOLUTION = 1185.42760773333
  MAP_SCALE = 0.05
  MAXIMUM_LATITUDE = 16.3449
  MINIMUM_LATITUDE = 6.4825
  POSITIVE_LONGITUDE_DIRECTION = EAST
  REFERENCE_LATITUDE = "N/A"
  REFERENCE_LONGITUDE = "N/A"
  SAMPLE_FIRST_PIXEL = 1
  SAMPLE_LAST_PIXEL = 1425
  SAMPLE_PROJECTION_OFFSET = 556.125
  SECOND_STANDARD_PARALLEL = "N/A"
  WESTERNMOST_LONGITUDE = 24.5218
END_OBJECT = IMAGE_MAP_PROJECTION
END
