PDS_VERSION_ID = PDS3
/* FILE DATA ELEMENTS */
RECORD_TYPE = UNDEFINED
/* POINTERS TO DATA OBJECTS */
^IMAGE = ("H5141_0000_P14.TIF")
/* IDENTIFICATION DATA ELEMENTS */
DATA_SET_ID = "MEX-M-HRSC-4-REFDR-MAPPROJECT-EXT2-V4.0"
DATA_SET_NAME = "MARS EXPRESS HRSC MAP PROJECTED REFDR EXTENSION2 V4.0"
DETECTOR_ID = MEX_HRSC_P1
EVENT_TYPE = "MARS-LOCAL-MAPPING-Im-La"
INSTRUMENT_HOST_ID = MEX
INSTRUMENT_HOST_NAME = "MARS EXPRESS"
INSTRUMENT_ID = HRSC
INSTRUMENT_NAME = "HIGH RESOLUTION STEREO CAMERA"
MISSION_NAME = "MARS EXPRESS"
MISSION_PHASE_NAME = ME_Phase_11
PROCESSING_LEVEL_ID = 4
PRODUCT_CREATION_TIME = 2023-02-01T12:09:47.000Z
PRODUCT_ID = "H5141_0000_P14.TIF"
RELEASE_ID = 0001
REVISION_ID = 0000
/* QUALITY DATA ELEMENTS */
DATA_QUALITY_ID = 1
DATA_QUALITY_DESC = "Data calculated based on original SPICE kernels"
/* TIME DATA ELEMENTS */
SPACECRAFT_CLOCK_START_COUNT = "1/0147375148.08230"
SPACECRAFT_CLOCK_STOP_COUNT = "1/0147375361.14428"
START_TIME = 2008-01-02T17:32:43.020Z
STOP_TIME = 2008-01-02T17:35:16.000Z
/* ORBITAL DATA ELEMENTS */
ASCENDING_NODE_LONGITUDE = 121.14
MAXIMUM_RESOLUTION = 0.0526
FOOTPRINT_POINT_LATITUDE = (16.3507,16.3583,16.3623,16.365,16.3651 ,16.3552,16.1536,15.8517,15.6502, 15.4482,15.1453,14.842,14.6396,14.4372, 14.1338,13.931,13.7342,13.4388,13.2437, 13.0465,12.8499,12.6521,12.3565,12.1584 ,11.961,11.7632,11.56,11.3568,11.1599, 10.8634,10.5758,10.1943,9.91069,9.52585 ,9.23565,9.04237,8.84981,8.65674, 8.46388,8.26902,8.07419,7.88041,7.5898, 7.39635,7.10669,6.91195,6.62036,6.52337 ,6.49262,6.48835,6.48217,6.47488, 6.47468,6.47543,6.66966,6.86393,7.05789 ,7.3485,7.63955,7.83359,8.02724,8.22116 ,8.41707,8.61069,8.80388,8.99673, 9.18994,9.38292,9.57541,9.86442,10.0578 ,10.2505,10.6355,10.9231,11.1212, 11.3191,11.6157,11.814,12.1112,12.3085, 12.5062,12.704,12.9014,13.0984,13.2951, 13.4922,13.7872,13.9859,14.1851,14.387, 14.59,14.7936,15.0001,15.202,15.5047, 15.7063,16.0089,16.21,16.3105,16.3507)
FOOTPRINT_POINT_LONGITUDE = (25.7706,25.2489,24.8725,24.5214, 24.5097,24.5043,24.5063,24.5094,24.5114 ,24.5133,24.516,24.5187,24.5204,24.522, 24.5246,24.526,24.5274,24.5293,24.531, 24.5322,24.5335,24.5345,24.5362,24.5371 ,24.5381,24.539,24.5385,24.538,24.5391, 24.5398,24.5408,24.5425,24.5445,24.5452 ,24.5453,24.5455,24.5457,24.5459,24.546 ,24.5457,24.5453,24.5452,24.5449, 24.5448,24.5448,24.5443,24.5437,24.5435 ,24.5435,24.8655,25.2533,25.6551, 25.6657,25.6692,25.6705,25.6718,25.6733 ,25.6756,25.6776,25.6789,25.6805, 25.6818,25.6817,25.6832,25.6849,25.6868 ,25.6884,25.6902,25.6922,25.695,25.6964 ,25.6981,25.7018,25.7052,25.7076, 25.7102,25.714,25.7161,25.7193,25.722, 25.7243,25.7265,25.7289,25.7315,25.7342 ,25.7366,25.7406,25.7431,25.7483, 25.7517,25.7542,25.7562,25.7563,25.7593 ,25.7638,25.7668,25.771,25.7742,25.7758 ,25.7706)
ORBIT_NUMBER = 5141
ORBITAL_ECCENTRICITY = 0.575
ORBITAL_INCLINATION = 86.71
ORBITAL_SEMIMAJOR_AXIS = 8731.19
PERIAPSIS_ALTITUDE = 319.07
PERIAPSIS_ARGUMENT_ANGLE = 173.91
PERIAPSIS_TIME = 2008-01-02T17:35:41.000Z
SPACECRAFT_ORIENTATION = (0.0,-1.0,0.0)
^MEX_ORIENTATION_DESC = "MEX_ORIENTATION_DESC.TXT"
SPACECRAFT_POINTING_MODE = ACROSSTRACK
^MEX_POINTING_DESC = "MEX_POINTING_DESC.TXT"
RIGHT_ASCENSION = -1e+32
DECLINATION = -1e+32
OFFSET_ANGLE = 0.25
SPACECRAFT_SOLAR_DISTANCE = 2.37266e+08
TARGET_NAME = MARS
/* CAMERA DATA ELEMENTS */
DETECTOR_TEMPERATURE = 17.351
FOCAL_PLANE_TEMPERATURE = 8.1755
INST_CMPRS_NAME = "DISCRETE COSINE TRANSFORMATION (DCT)"
INST_CMPRS_RATIO = 14.3481
INST_CMPRS_QUALITY = 0
INST_CMPRS_QUANTZ_TBL_ID = 0
INSTRUMENT_TEMPERATURE = 11.234
LENS_TEMPERATURE = 8.5833
MACROPIXEL_SIZE = 4
MISSING_FRAMES = 0
PIXEL_SUBSAMPLING_FLAG = N
SIGNAL_CHAIN_ID = 3
/* RADIOMETRIC DATA ELEMENTS */
BANDWIDTH = 174.0
CENTER_FILTER_WAVELENGTH = 675.0
RADIANCE_OFFSET = 2.84116
RADIANCE_SCALING_FACTOR = 0.0164705
REFLECTANCE_SCALING_FACTOR = 0.000498724
MEX:REFLECTANCE_OFFSET = 0.0860299
/* IMAGE OBJECT DEFINITIONS */
OBJECT = IMAGE
  INTERCHANGE_FORMAT = BINARY
  LINES = 11699
  LINE_SAMPLES = 1425
  SAMPLE_TYPE = UNSIGNED_INTEGER
  SAMPLE_BITS = 8
  BANDS = 1
  BAND_STORAGE_TYPE = BAND_SEQUENTIAL
  MAXIMUM = 255
  MEAN = 115.906
  MINIMUM = 1
  STANDARD_DEVIATION = 19.6905
END_OBJECT = IMAGE
/* MAP OBJECT DEFINITIONS */
OBJECT = IMAGE_MAP_PROJECTION
  ^DATA_SET_MAP_PROJECTION_CATALOG= "DSMAP.CAT"
  A_AXIS_RADIUS = 3396.0
  B_AXIS_RADIUS = 3396.0
  C_AXIS_RADIUS = 3396.0
  CENTER_LATITUDE = 0.0
  CENTER_LONGITUDE = 25.0
  COORDINATE_SYSTEM_NAME = PLANETOGRAPHIC
  COORDINATE_SYSTEM_TYPE = "BODY-FIXED ROTATING"
  EASTERNMOST_LONGITUDE = 25.7758
  FIRST_STANDARD_PARALLEL = "N/A"
  LINE_FIRST_PIXEL = 1
  LINE_LAST_PIXEL = 11699
  LINE_PROJECTION_OFFSET = 19383.375
  MAP_PROJECTION_ROTATION = 0.0
  MAP_PROJECTION_TYPE = SINUSOIDAL
  MAP_RESOLUTION = 1185.42760773333
  MAP_SCALE = 0.05
  MAXIMUM_LATITUDE = 16.3651
  MINIMUM_LATITUDE = 6.47468
  POSITIVE_LONGITUDE_DIRECTION = EAST
  REFERENCE_LATITUDE = "N/A"
  REFERENCE_LONGITUDE = "N/A"
  SAMPLE_FIRST_PIXEL = 1
  SAMPLE_LAST_PIXEL = 1425
  SAMPLE_PROJECTION_OFFSET = 556.125
  SECOND_STANDARD_PARALLEL = "N/A"
  WESTERNMOST_LONGITUDE = 24.5043
END_OBJECT = IMAGE_MAP_PROJECTION
END
