PDS_VERSION_ID = PDS3
/* FILE DATA ELEMENTS */
RECORD_TYPE = UNDEFINED
/* POINTERS TO DATA OBJECTS */
^IMAGE = ("H5135_0000_P14.TIF")
/* IDENTIFICATION DATA ELEMENTS */
DATA_SET_ID = "MEX-M-HRSC-4-REFDR-MAPPROJECT-EXT2-V4.0"
DATA_SET_NAME = "MARS EXPRESS HRSC MAP PROJECTED REFDR EXTENSION2 V4.0"
DETECTOR_ID = MEX_HRSC_P1
EVENT_TYPE = "MARS-REGIONAL-MAPPING-Vo"
INSTRUMENT_HOST_ID = MEX
INSTRUMENT_HOST_NAME = "MARS EXPRESS"
INSTRUMENT_ID = HRSC
INSTRUMENT_NAME = "HIGH RESOLUTION STEREO CAMERA"
MISSION_NAME = "MARS EXPRESS"
MISSION_PHASE_NAME = ME_Phase_11
PROCESSING_LEVEL_ID = 4
PRODUCT_CREATION_TIME = 2023-02-01T12:09:47.000Z
PRODUCT_ID = "H5135_0000_P14.TIF"
RELEASE_ID = 0001
REVISION_ID = 0000
/* QUALITY DATA ELEMENTS */
DATA_QUALITY_ID = 1
DATA_QUALITY_DESC = "Data calculated based on original SPICE kernels"
/* TIME DATA ELEMENTS */
SPACECRAFT_CLOCK_START_COUNT = "1/0147227426.09074"
SPACECRAFT_CLOCK_STOP_COUNT = "1/0147227698.64409"
START_TIME = 2008-01-01T00:30:40.481Z
STOP_TIME = 2008-01-01T00:34:12.614Z
/* ORBITAL DATA ELEMENTS */
ASCENDING_NODE_LONGITUDE = 121.26
MAXIMUM_RESOLUTION = 0.0258
FOOTPRINT_POINT_LATITUDE = (12.796,12.7934,12.7904,12.7871,12.7869 ,12.798,12.5191,12.2401,11.9609,11.6814 ,11.4016,11.1215,10.8411,10.5604, 10.2809,9.73696,9.19224,8.64689,8.37383 ,8.10047,7.82705,7.41654,7.14263, 6.86863,6.59426,6.31973,6.04508,5.77027 ,5.49529,5.22011,4.94486,4.66937,4.3937 ,4.11809,3.84219,3.56613,3.28986, 2.87539,2.59911,2.3226,2.04597,1.63085, 1.35401,1.07696,0.661432,0.245739, -0.0314311,-0.308819,-0.863445,-1.00199 ,-1.0336,-1.03161,-1.03056,-1.02996, -1.02994,-1.02953,-0.752566,-0.475071, -0.197733,0.0796379,0.356827,0.634126, 1.04975,1.32683,1.60375,2.01911,2.29589 ,2.57255,2.84907,3.12545,3.40173, 3.67789,3.9539,4.22967,4.64333,4.91897, 5.19445,5.46971,5.74486,6.0199,6.29466, 6.56916,6.84337,7.25464,7.52836,7.939, 8.34917,9.03159,9.71281,10.2569,10.5356 ,10.8164,11.097,11.3772,11.6571,12.0768 ,12.3561,12.6351,12.7744,12.796)
FOOTPRINT_POINT_LONGITUDE = (265.543,265.032,264.659,264.354, 264.342,264.346,264.348,264.35,264.352, 264.354,264.356,264.358,264.36,264.361, 264.363,264.365,264.367,264.369,264.37, 264.37,264.371,264.371,264.372,264.372, 264.372,264.372,264.372,264.371,264.371 ,264.371,264.37,264.37,264.369,264.368, 264.367,264.366,264.365,264.363,264.362 ,264.361,264.359,264.357,264.355, 264.353,264.351,264.348,264.346,264.343 ,264.339,264.338,264.338,264.77,265.126 ,265.436,265.447,265.451,265.451, 265.452,265.452,265.453,265.454,265.454 ,265.456,265.457,265.457,265.459,265.46 ,265.461,265.462,265.463,265.465, 265.466,265.467,265.469,265.471,265.473 ,265.474,265.476,265.478,265.479, 265.481,265.483,265.485,265.488,265.49, 265.494,265.497,265.503,265.509,265.514 ,265.516,265.519,265.522,265.524, 265.527,265.532,265.535,265.538,265.539 ,265.543)
ORBIT_NUMBER = 5135
ORBITAL_ECCENTRICITY = 0.575
ORBITAL_INCLINATION = 86.72
ORBITAL_SEMIMAJOR_AXIS = 8740.64
PERIAPSIS_ALTITUDE = 318.2
PERIAPSIS_ARGUMENT_ANGLE = 174.96
PERIAPSIS_TIME = 2008-01-01T00:32:58.000Z
SPACECRAFT_ORIENTATION = (0.0,-1.0,0.0)
^MEX_ORIENTATION_DESC = "MEX_ORIENTATION_DESC.TXT"
SPACECRAFT_POINTING_MODE = ACROSSTRACK
^MEX_POINTING_DESC = "MEX_POINTING_DESC.TXT"
RIGHT_ASCENSION = -1e+32
DECLINATION = -1e+32
OFFSET_ANGLE = -0.2
SPACECRAFT_SOLAR_DISTANCE = 2.36977e+08
TARGET_NAME = MARS
/* CAMERA DATA ELEMENTS */
DETECTOR_TEMPERATURE = 17.351
FOCAL_PLANE_TEMPERATURE = 8.3794
INST_CMPRS_NAME = "DISCRETE COSINE TRANSFORMATION (DCT)"
INST_CMPRS_RATIO = 8.18062
INST_CMPRS_QUALITY = 0
INST_CMPRS_QUANTZ_TBL_ID = 0
INSTRUMENT_TEMPERATURE = 11.234
LENS_TEMPERATURE = 8.5833
MACROPIXEL_SIZE = 2
MISSING_FRAMES = 0
PIXEL_SUBSAMPLING_FLAG = N
SIGNAL_CHAIN_ID = 3
/* RADIOMETRIC DATA ELEMENTS */
BANDWIDTH = 174.0
CENTER_FILTER_WAVELENGTH = 675.0
RADIANCE_OFFSET = 2.78316
RADIANCE_SCALING_FACTOR = 0.0137256
REFLECTANCE_SCALING_FACTOR = 0.0004146
MEX:REFLECTANCE_OFFSET = 0.0840688
/* IMAGE OBJECT DEFINITIONS */
OBJECT = IMAGE
  INTERCHANGE_FORMAT = BINARY
  LINES = 32779
  LINE_SAMPLES = 2809
  SAMPLE_TYPE = UNSIGNED_INTEGER
  SAMPLE_BITS = 8
  BANDS = 1
  BAND_STORAGE_TYPE = BAND_SEQUENTIAL
  MAXIMUM = 255
  MEAN = 137.436
  MINIMUM = 1
  STANDARD_DEVIATION = 25.9181
END_OBJECT = IMAGE
/* MAP OBJECT DEFINITIONS */
OBJECT = IMAGE_MAP_PROJECTION
  ^DATA_SET_MAP_PROJECTION_CATALOG= "DSMAP.CAT"
  A_AXIS_RADIUS = 3396.0
  B_AXIS_RADIUS = 3396.0
  C_AXIS_RADIUS = 3396.0
  CENTER_LATITUDE = 0.0
  CENTER_LONGITUDE = 265.0
  COORDINATE_SYSTEM_NAME = PLANETOGRAPHIC
  COORDINATE_SYSTEM_TYPE = "BODY-FIXED ROTATING"
  EASTERNMOST_LONGITUDE = 265.543
  FIRST_STANDARD_PARALLEL = "N/A"
  LINE_FIRST_PIXEL = 1
  LINE_LAST_PIXEL = 32779
  LINE_PROJECTION_OFFSET = 30310.75
  MAP_PROJECTION_ROTATION = 0.0
  MAP_PROJECTION_TYPE = SINUSOIDAL
  MAP_RESOLUTION = 2370.85521546667
  MAP_SCALE = 0.025
  MAXIMUM_LATITUDE = 12.798
  MINIMUM_LATITUDE = -1.0336
  POSITIVE_LONGITUDE_DIRECTION = EAST
  REFERENCE_LATITUDE = "N/A"
  REFERENCE_LONGITUDE = "N/A"
  SAMPLE_FIRST_PIXEL = 1
  SAMPLE_LAST_PIXEL = 2809
  SAMPLE_PROJECTION_OFFSET = 1587.25
  SECOND_STANDARD_PARALLEL = "N/A"
  WESTERNMOST_LONGITUDE = 264.338
END_OBJECT = IMAGE_MAP_PROJECTION
END
