PDS_VERSION_ID = PDS3
/* FILE DATA ELEMENTS */
RECORD_TYPE = UNDEFINED
/* POINTERS TO DATA OBJECTS */
^IMAGE = ("H5135_0000_GR4.TIF")
/* IDENTIFICATION DATA ELEMENTS */
DATA_SET_ID = "MEX-M-HRSC-4-REFDR-MAPPROJECT-EXT2-V4.0"
DATA_SET_NAME = "MARS EXPRESS HRSC MAP PROJECTED REFDR EXTENSION2 V4.0"
DETECTOR_ID = MEX_HRSC_GREEN
EVENT_TYPE = "MARS-REGIONAL-MAPPING-Vo"
INSTRUMENT_HOST_ID = MEX
INSTRUMENT_HOST_NAME = "MARS EXPRESS"
INSTRUMENT_ID = HRSC
INSTRUMENT_NAME = "HIGH RESOLUTION STEREO CAMERA"
MISSION_NAME = "MARS EXPRESS"
MISSION_PHASE_NAME = ME_Phase_11
PROCESSING_LEVEL_ID = 4
PRODUCT_CREATION_TIME = 2023-02-01T12:09:47.000Z
PRODUCT_ID = "H5135_0000_GR4.TIF"
RELEASE_ID = 0001
REVISION_ID = 0000
/* QUALITY DATA ELEMENTS */
DATA_QUALITY_ID = 1
DATA_QUALITY_DESC = "Data calculated based on original SPICE kernels"
/* TIME DATA ELEMENTS */
SPACECRAFT_CLOCK_START_COUNT = "1/0147227426.09074"
SPACECRAFT_CLOCK_STOP_COUNT = "1/0147227698.64409"
START_TIME = 2008-01-01T00:30:55.628Z
STOP_TIME = 2008-01-01T00:34:26.643Z
/* ORBITAL DATA ELEMENTS */
ASCENDING_NODE_LONGITUDE = 121.26
MAXIMUM_RESOLUTION = 0.1005
FOOTPRINT_POINT_LATITUDE = (12.7619,12.7626,12.7626,12.7619, 12.7619,12.7631,12.4838,12.2043,11.9247 ,11.645,11.2258,10.6841,10.1418,9.59898 ,9.05579,8.78406,8.51222,8.24028, 7.96823,7.69614,7.42393,7.15165,6.87934 ,6.60693,6.33443,6.06189,5.78931, 5.51666,5.24396,4.97124,4.69846,4.42564 ,4.01643,3.6071,3.33418,3.06129,2.78838 ,2.37908,2.10619,1.83332,1.56045, 1.28763,1.01478,0.742015,0.46928, 0.196585,-0.0760679,-0.348702,-0.621229 ,-0.893706,-1.02986,-1.04605,-1.04769, -1.05035,-1.05039,-1.0488,-0.640133, -0.367537,-0.0948644,0.177842,0.587006, 0.859797,1.13266,1.40555,1.81493, 2.08787,2.36084,2.77029,3.17973,3.58916 ,3.99855,4.27145,4.54434,4.81723, 5.09008,5.36287,5.63562,5.90835,6.18102 ,6.45359,6.72608,6.99854,7.27092, 7.54321,7.95158,8.22373,8.49569,8.76763 ,9.0395,9.58287,10.1258,10.6684,11.2103 ,11.4893,11.7692,12.0491,12.3287, 12.6082,12.7479,12.7619)
FOOTPRINT_POINT_LONGITUDE = (265.534,265.062,264.753,264.376, 264.365,264.366,264.368,264.37,264.372, 264.374,264.376,264.379,264.381,264.383 ,264.384,264.385,264.386,264.386, 264.386,264.387,264.387,264.387,264.387 ,264.387,264.386,264.386,264.386, 264.385,264.385,264.384,264.383,264.382 ,264.381,264.379,264.378,264.377, 264.375,264.373,264.372,264.37,264.368, 264.366,264.364,264.362,264.36,264.358, 264.356,264.354,264.351,264.349,264.348 ,264.348,264.784,265.435,265.446, 265.453,265.453,265.453,265.454,265.454 ,265.455,265.456,265.456,265.457, 265.458,265.459,265.46,265.461,265.463, 265.464,265.466,265.467,265.469,265.47, 265.471,265.473,265.474,265.476,265.478 ,265.479,265.481,265.483,265.485, 265.487,265.489,265.491,265.493,265.496 ,265.498,265.502,265.507,265.511, 265.516,265.519,265.521,265.524,265.527 ,265.529,265.531,265.534)
ORBIT_NUMBER = 5135
ORBITAL_ECCENTRICITY = 0.575
ORBITAL_INCLINATION = 86.72
ORBITAL_SEMIMAJOR_AXIS = 8740.64
PERIAPSIS_ALTITUDE = 318.2
PERIAPSIS_ARGUMENT_ANGLE = 174.96
PERIAPSIS_TIME = 2008-01-01T00:32:58.000Z
SPACECRAFT_ORIENTATION = (0.0,-1.0,0.0)
^MEX_ORIENTATION_DESC = "MEX_ORIENTATION_DESC.TXT"
SPACECRAFT_POINTING_MODE = ACROSSTRACK
^MEX_POINTING_DESC = "MEX_POINTING_DESC.TXT"
RIGHT_ASCENSION = -1e+32
DECLINATION = -1e+32
OFFSET_ANGLE = -0.2
SPACECRAFT_SOLAR_DISTANCE = 2.36977e+08
TARGET_NAME = MARS
/* CAMERA DATA ELEMENTS */
DETECTOR_TEMPERATURE = 18.3705
FOCAL_PLANE_TEMPERATURE = 8.3794
INST_CMPRS_NAME = "DISCRETE COSINE TRANSFORMATION (DCT)"
INST_CMPRS_RATIO = 17.2566
INST_CMPRS_QUALITY = 0
INST_CMPRS_QUANTZ_TBL_ID = 0
INSTRUMENT_TEMPERATURE = 11.234
LENS_TEMPERATURE = 8.5833
MACROPIXEL_SIZE = 8
MISSING_FRAMES = 0
PIXEL_SUBSAMPLING_FLAG = N
SIGNAL_CHAIN_ID = 2
/* RADIOMETRIC DATA ELEMENTS */
BANDWIDTH = 88.0
CENTER_FILTER_WAVELENGTH = 538.0
RADIANCE_OFFSET = 0.932605
RADIANCE_SCALING_FACTOR = 0.00383714
REFLECTANCE_SCALING_FACTOR = 0.000185528
MEX:REFLECTANCE_OFFSET = 0.045092
/* IMAGE OBJECT DEFINITIONS */
OBJECT = IMAGE
  INTERCHANGE_FORMAT = BINARY
  LINES = 8195
  LINE_SAMPLES = 703
  SAMPLE_TYPE = UNSIGNED_INTEGER
  SAMPLE_BITS = 8
  BANDS = 1
  BAND_STORAGE_TYPE = BAND_SEQUENTIAL
  MAXIMUM = 255
  MEAN = 143.944
  MINIMUM = 1
  STANDARD_DEVIATION = 35.5209
END_OBJECT = IMAGE
/* MAP OBJECT DEFINITIONS */
OBJECT = IMAGE_MAP_PROJECTION
  ^DATA_SET_MAP_PROJECTION_CATALOG= "DSMAP.CAT"
  A_AXIS_RADIUS = 3396.0
  B_AXIS_RADIUS = 3396.0
  C_AXIS_RADIUS = 3396.0
  CENTER_LATITUDE = 0.0
  CENTER_LONGITUDE = 265.0
  COORDINATE_SYSTEM_NAME = PLANETOGRAPHIC
  COORDINATE_SYSTEM_TYPE = "BODY-FIXED ROTATING"
  EASTERNMOST_LONGITUDE = 265.534
  FIRST_STANDARD_PARALLEL = "N/A"
  LINE_FIRST_PIXEL = 1
  LINE_LAST_PIXEL = 8195
  LINE_PROJECTION_OFFSET = 7577.3125
  MAP_PROJECTION_ROTATION = 0.0
  MAP_PROJECTION_TYPE = SINUSOIDAL
  MAP_RESOLUTION = 592.713803866667
  MAP_SCALE = 0.1
  MAXIMUM_LATITUDE = 12.7631
  MINIMUM_LATITUDE = -1.05039
  POSITIVE_LONGITUDE_DIRECTION = EAST
  REFERENCE_LATITUDE = "N/A"
  REFERENCE_LONGITUDE = "N/A"
  SAMPLE_FIRST_PIXEL = 1
  SAMPLE_LAST_PIXEL = 703
  SAMPLE_PROJECTION_OFFSET = 396.4375
  SECOND_STANDARD_PARALLEL = "N/A"
  WESTERNMOST_LONGITUDE = 264.348
END_OBJECT = IMAGE_MAP_PROJECTION
END
